BEGIN:VCALENDAR
VERSION:2.0
PRODID:-//AKIS PORTUGAL - ECPv6.15.15//NONSGML v1.0//EN
CALSCALE:GREGORIAN
METHOD:PUBLISH
X-ORIGINAL-URL:https://akisportugal-qa.bymobinteg.com
X-WR-CALDESC:Eventos para AKIS PORTUGAL
REFRESH-INTERVAL;VALUE=DURATION:PT1H
X-Robots-Tag:noindex
X-PUBLISHED-TTL:PT1H
BEGIN:VTIMEZONE
TZID:UTC
BEGIN:STANDARD
TZOFFSETFROM:+0000
TZOFFSETTO:+0000
TZNAME:UTC
DTSTART:20240101T000000
END:STANDARD
END:VTIMEZONE
BEGIN:VEVENT
DTSTART;VALUE=DATE:20250301
DTEND;VALUE=DATE:20250305
DTSTAMP:20260423T130352
CREATED:20250227T123322Z
LAST-MODIFIED:20250227T123322Z
UID:10000447-1740787200-1741132799@akisportugal-qa.bymobinteg.com
SUMMARY:Feira do Queijo de Seia
DESCRIPTION:O Município de Seia realiza\, de 1 a 4 de março de 2025\, por altura do Carnaval\, a 48.ª edição da Feira do Queijo da Serra da Estrela. Este evento emblemático terá lugar no Mercado Municipal de Seia e na sua área envolvente\, reafirmando o compromisso com a valorização do queijo e dos produtos endógenos da região. \nSaiba mais aqui.
URL:https://akisportugal-qa.bymobinteg.com/event/feira-do-queijo-de-seia/
LOCATION:Mercado Municipal de Seia\, Mercado Municipal de Seia\, Seia\, Norte\, 6270-513
CATEGORIES:Feira
ATTACH;FMTTYPE=image/jpeg:https://akisportugal-qa.bymobinteg.com/wp-content/uploads/2025/02/web-FQ-2025.jpg
END:VEVENT
BEGIN:VEVENT
DTSTART;TZID=UTC:20250305T090000
DTEND;TZID=UTC:20250305T110000
DTSTAMP:20260423T130352
CREATED:20250227T123519Z
LAST-MODIFIED:20250227T123614Z
UID:10000448-1741165200-1741172400@akisportugal-qa.bymobinteg.com
SUMMARY:Webinars CropLife Europe: Formulation analysis techniques in the fight against counterfeit pesticides
DESCRIPTION:Formulation analysis techniques in the fight against counterfeit pesticide\n\n\n\n\nSpeakers: \nHelen Karasali\, PhD –  Benaki Phytopathological Institute\, Greece \nDr. Christoph Czerwenka – Institute for Food Safety Vienna\, Austria \nPierre Hucorne – Walloon Agricultural Research Centre\, Belgium \nPanellists: \nGeorgios Cholidis – Organised Crime Subdivision of Northern Greece\, Greece \nPerdo A. López Giner – Environmental Protection Service (Seprona)\, Guardia Civil\, Spain \nFaça a sua inscrição aqui.
URL:https://akisportugal-qa.bymobinteg.com/event/webinars-croplife-europe-formulation-analysis-techniques-in-the-fight-against-counterfeit-pesticides/
LOCATION:Webinar
CATEGORIES:Webinar
ATTACH;FMTTYPE=image/png:https://akisportugal-qa.bymobinteg.com/wp-content/uploads/2025/02/webinar-croplife-europe-750x375-1.png
END:VEVENT
BEGIN:VEVENT
DTSTART;VALUE=DATE:20250306
DTEND;VALUE=DATE:20250308
DTSTAMP:20260423T130352
CREATED:20250226T143512Z
LAST-MODIFIED:20250226T143512Z
UID:10000435-1741219200-1741391999@akisportugal-qa.bymobinteg.com
SUMMARY:13º Encontro Nacional de Produtores de Mirtilos
DESCRIPTION:Mais informações aqui.
URL:https://akisportugal-qa.bymobinteg.com/event/13o-encontro-nacional-de-produtores-de-mirtilos/
LOCATION:Fundão\, Portugal
CATEGORIES:Evento Geral
ATTACH;FMTTYPE=image/png:https://akisportugal-qa.bymobinteg.com/wp-content/uploads/2025/02/Encontro-mirtilos.png
END:VEVENT
BEGIN:VEVENT
DTSTART;VALUE=DATE:20250306
DTEND;VALUE=DATE:20250309
DTSTAMP:20260423T130352
CREATED:20250210T102126Z
LAST-MODIFIED:20250210T102248Z
UID:10000408-1741219200-1741478399@akisportugal-qa.bymobinteg.com
SUMMARY:Formação Não Financiada- Operação de Máquinas de Colheita Amendoal e Olival
DESCRIPTION:Formação Não Financiada- Operação de Máquinas de Colheita Amendoal e Olival- Parceria ACOS e Machrent \nInscreva-se no LINK \nMáquinas_Colheita_Amendoal_Olival
URL:https://akisportugal-qa.bymobinteg.com/event/formacao-nao-financiada-operacao-de-maquinas-de-colheita-amendoal-e-olival/
LOCATION:Instalações da ACOS\, Rua Cidade S. Paulo\, Apart. 296\, Beja\, Alentejo\, 7801-904\, Portugal
CATEGORIES:Ação de formação
ATTACH;FMTTYPE=image/jpeg:https://akisportugal-qa.bymobinteg.com/wp-content/uploads/2025/02/Formacao-Nao-Financiada-Operacao-de-Maquinas-de-Colheita-Amendoal-e-Olival-Parceria-ACOS-e-Machrent.jpg
ORGANIZER;CN="ACOS - Associa%C3%A7%C3%A3o de Agricultores do Sul":MAILTO:geral@acos.pt
END:VEVENT
BEGIN:VEVENT
DTSTART;TZID=UTC:20250306T020000
DTEND;TZID=UTC:20250306T040000
DTSTAMP:20260423T130352
CREATED:20250227T123939Z
LAST-MODIFIED:20250227T123939Z
UID:10000449-1741226400-1741233600@akisportugal-qa.bymobinteg.com
SUMMARY:Webinar: Perspetivas Globais e Locais sobre os Quadros Regulamentares para as Novas Técnicas de Melhoramento de Plantas
DESCRIPTION:A ISAAA Inc.\, em colaboração com o Programa de Biotecnologia da Agricultura e Pescas das Filipinas do Departamento de Agricultura (DA Biotech Program)\, irá realizar um webinar com o objetivo de fornecer uma visão geral e actualizações sobre as vias regulamentares relacionadas com as culturas desenvolvidas através de NBTs. O webinar irá expor os desafios e potenciais direcções políticas e envolver as partes interessadas em discussões significativas sobre regulamentos harmonizados que facilitem a utilização responsável de NBTs na agricultura. \nFaça a sua inscrição aqui.
URL:https://akisportugal-qa.bymobinteg.com/event/webinar-perspetivas-globais-e-locais-sobre-os-quadros-regulamentares-para-as-novas-tecnicas-de-melhoramento-de-plantas/
CATEGORIES:Webinar
ATTACH;FMTTYPE=image/png:https://akisportugal-qa.bymobinteg.com/wp-content/uploads/2025/02/ISAAA-webinar-750x375-1.png
END:VEVENT
BEGIN:VEVENT
DTSTART;VALUE=DATE:20250307
DTEND;VALUE=DATE:20250308
DTSTAMP:20260423T130352
CREATED:20250227T124731Z
LAST-MODIFIED:20250227T124731Z
UID:10000451-1741305600-1741391999@akisportugal-qa.bymobinteg.com
SUMMARY:Visita técnica: Do medronheiro ao medronho
DESCRIPTION:Encontro de Técnicos e Proprietários. Para participar\, envie email para: gae@cm-loule.pt.
URL:https://akisportugal-qa.bymobinteg.com/event/visita-tecnica-do-medronheiro-ao-medronho/
LOCATION:Loulé\, Loulé\, Portugal
CATEGORIES:Visita Técnica
ATTACH;FMTTYPE=image/png:https://akisportugal-qa.bymobinteg.com/wp-content/uploads/2025/02/medronho-evento-750x375-1.png
END:VEVENT
BEGIN:VEVENT
DTSTART;VALUE=DATE:20250307
DTEND;VALUE=DATE:20250309
DTSTAMP:20260423T130352
CREATED:20250227T124404Z
LAST-MODIFIED:20250227T124404Z
UID:10000450-1741305600-1741478399@akisportugal-qa.bymobinteg.com
SUMMARY:Jornadas de Reprodução Animal
DESCRIPTION:Conheça aqui o programa.
URL:https://akisportugal-qa.bymobinteg.com/event/jornadas-de-reproducao-animal/
LOCATION:Vila Real\, Vila Real\, 5000
CATEGORIES:Jornadas
ATTACH;FMTTYPE=image/png:https://akisportugal-qa.bymobinteg.com/wp-content/uploads/2025/02/jornadas-reproducao-750x375-1.png
END:VEVENT
END:VCALENDAR