BEGIN:VCALENDAR
VERSION:2.0
PRODID:-//AKIS PORTUGAL - ECPv6.15.15//NONSGML v1.0//EN
CALSCALE:GREGORIAN
METHOD:PUBLISH
X-WR-CALNAME:AKIS PORTUGAL
X-ORIGINAL-URL:https://akisportugal-qa.bymobinteg.com
X-WR-CALDESC:Eventos para AKIS PORTUGAL
REFRESH-INTERVAL;VALUE=DURATION:PT1H
X-Robots-Tag:noindex
X-PUBLISHED-TTL:PT1H
BEGIN:VTIMEZONE
TZID:UTC
BEGIN:STANDARD
TZOFFSETFROM:+0000
TZOFFSETTO:+0000
TZNAME:UTC
DTSTART:20230101T000000
END:STANDARD
END:VTIMEZONE
BEGIN:VEVENT
DTSTART;TZID=UTC:20240214T140000
DTEND;TZID=UTC:20240214T180000
DTSTAMP:20260421T222140
CREATED:20240212T113751Z
LAST-MODIFIED:20240212T113816Z
UID:10000141-1707919200-1707933600@akisportugal-qa.bymobinteg.com
SUMMARY:Ação de Informação | GlobalG.A.P.
DESCRIPTION:Irá decorrer\, no próximo dia 14 de fevereiro\, uma ação de informação sobre o GlobalG.A.P.\, o Referencial Global para Boas Práticas Agrícolas e Cadeia de Custódia. \nConheça o programa. Mais informações através do email calcob@calcob.com ou do contacto telefónico 234 750 500. \n@CALCOB
URL:https://akisportugal-qa.bymobinteg.com/event/acao-de-informacao-globalg-a-p/
LOCATION:CALCOB – Troviscal\, Rua dos Emigrantes\, 22\, Troviscal\, Região Centro\, 3770-405
CATEGORIES:Ação de capacitação
ATTACH;FMTTYPE=image/jpeg:https://akisportugal-qa.bymobinteg.com/wp-content/uploads/2024/02/apresentacao-divulgacao-Global-GAP-accao-1.jpg
ORGANIZER;CN="CALCOB":MAILTO:calcob@calcob.com
END:VEVENT
BEGIN:VEVENT
DTSTART;TZID=UTC:20240214T180000
DTEND;TZID=UTC:20240214T190000
DTSTAMP:20260421T222140
CREATED:20240209T143657Z
LAST-MODIFIED:20240209T143657Z
UID:10000138-1707933600-1707937200@akisportugal-qa.bymobinteg.com
SUMMARY:Webinar “Poda de Frutificação da Oliveira”
DESCRIPTION:O webinar “Poda de Frutificação da Oliveira”\, que se realiza no dia 14 de fevereiro\, a partir das 18h. Saiba mais aqui.
URL:https://akisportugal-qa.bymobinteg.com/event/webinar-poda-de-frutificacao-da-oliveira/
LOCATION:Webinar
CATEGORIES:Ação de capacitação,Webinar
ORGANIZER;CN="APPITAD":MAILTO:formacao@appitad.pt
END:VEVENT
BEGIN:VEVENT
DTSTART;VALUE=DATE:20240215
DTEND;VALUE=DATE:20240216
DTSTAMP:20260421T222140
CREATED:20240208T164335Z
LAST-MODIFIED:20240208T164335Z
UID:10000137-1707955200-1708041599@akisportugal-qa.bymobinteg.com
SUMMARY:Ação de Formação “Poda da Videira: Gestão da Produção e Vigor”
DESCRIPTION:O INIAV\, Polo de Inovação de Dois Portos\, anunciou uma ação de formação intitulada “Poda da Videira: Gestão da Produção e Vigor”. O evento será realizado no dia 15 de fevereiro de 2024\, das 9h00 às 16h00\, no Polo de Dois Portos do INIAV. \nA ação de formação abordará vários aspetos da poda da videira\, incluindo aspetos estruturais e funcionais\, sistemas de poda\, métodos para quantificação/avaliação do vigor\, período de operacionalização e finalidades\, e mecanização da poda. \nEste evento é uma excelente oportunidade para profissionais da indústria vitivinícola\, estudantes de enologia e viticultura\, e todos aqueles interessados em aprender mais sobre a poda da videira e a sua importância na gestão da produção e do vigor. \nOs interessados em participar na ação de formação podem registar-se aqui \n@iniav @polodoisportos
URL:https://akisportugal-qa.bymobinteg.com/event/acao-de-formacao-poda-da-videira-gestao-da-producao-e-vigor/
LOCATION:INIAV – Polo de Dois Portos\, Quinta da Almoínha EN 374\, Dois Portos\, 2565-191\, Portugal
CATEGORIES:Formação
ATTACH;FMTTYPE=image/png:https://akisportugal-qa.bymobinteg.com/wp-content/uploads/2024/02/Sem_Titulo-5.png
ORGANIZER;CN="INIAV":MAILTO:geral@iniav.pt
END:VEVENT
BEGIN:VEVENT
DTSTART;TZID=UTC:20240215T110000
DTEND;TZID=UTC:20240215T130000
DTSTAMP:20260421T222140
CREATED:20240209T150049Z
LAST-MODIFIED:20240209T150049Z
UID:10000139-1707994800-1708002000@akisportugal-qa.bymobinteg.com
SUMMARY:Apresentação pública do Centro de Inteligência Territorial (CIT)
DESCRIPTION:O Data CoLAB\, laboratório colaborativo orientado para os dados\, vai promover no próximo dia 15 de fevereiro\, a sessão de apresentação pública do Centro de Inteligência Territorial (CIT) uma oferta inovadora do Data CoLab que inclui Data as a Service (DaaS)\, ao serviço do território. \nO CIT\, enquanto plataforma territorial\, surge no contexto da constante evolução que se verifica e que configura um desafio para os territórios\, assumindo-se como a solução para combinar dados em tempo real\, com análises avançadas para moldar o futuro dos nossos territórios. A plataforma\, visa também potenciar a transformação digital das organizações com recurso a ferramentas de transparência\, que possibilitem a tomada de decisões informadas\, impulsionando o desenvolvimento inteligente do país.  \nO evento vai decorrer na sede do Data CoLAB\, em Viana do Castelo (com transmissão\, em simultâneo\, online)\, e contará com a presença do Secretário de Estado da digitalização e Modernização Administrativa\, Mário Campolargo.  \nVeja o programa completo aqui \nA inscrição é gratuita mas obrigatória\, inscreva-se aqui
URL:https://akisportugal-qa.bymobinteg.com/event/apresentacao-publica-do-centro-de-inteligencia-territorial-cit/
LOCATION:Data CoLab\, Av. de Cabo Verde 1\, Viana do Castelo\, Viana do Castelo\, 4900-568\, Portugal
CATEGORIES:Debate,Seminário,Sessão informativa
END:VEVENT
BEGIN:VEVENT
DTSTART;TZID=UTC:20240215T160000
DTEND;TZID=UTC:20240215T173000
DTSTAMP:20260421T222140
CREATED:20240205T112937Z
LAST-MODIFIED:20240205T112937Z
UID:10000120-1708012800-1708018200@akisportugal-qa.bymobinteg.com
SUMMARY:Desvendar os Segredos da Gestão Eficiente da Água:  Webinar 2 - Tecnologias para a Gestão da Água I
DESCRIPTION:O F4S Academy orgulha-se de organizar mais um ciclo de debates em formato de webinars\, proporcionando assim uma forma acessível e prática de transferência de conhecimento para todos. Este ano\, os temas dos webinars envolverão a gestão da água\, biodiversidade funcional\, agricultura de precisão e créditos e mercados de carbono. \n Webinar 2 – Tecnologias para a Gestão da Água I: \nJunte-se a nós no dia 15 de fevereiro\, enquanto mergulhamos na fronteira tecnológica da gestão da água. Os oradores apresentarão as principais tecnologias que impulsionam avanços no campo – desde sistemas inteligentes de monitorização e inovação em reutilização de água. Esta sessão promete ser uma odisseia tecnológica\, explorando como as ferramentas de última geração moldam o cenário da gestão da água. \n@Food4Sustainability
URL:https://akisportugal-qa.bymobinteg.com/event/desvendar-os-segredos-da-gestao-eficiente-da-agua-webinar-2-tecnologias-para-a-gestao-da-agua-i/
LOCATION:Webinar
CATEGORIES:Webinar
ATTACH;FMTTYPE=image/png:https://akisportugal-qa.bymobinteg.com/wp-content/uploads/2024/02/web_water.png
ORGANIZER;CN="Food4Sustainability":MAILTO:mail@food4sustainability.org
END:VEVENT
BEGIN:VEVENT
DTSTART;VALUE=DATE:20240216
DTEND;VALUE=DATE:20240218
DTSTAMP:20260421T222140
CREATED:20240205T121711Z
LAST-MODIFIED:20240205T121711Z
UID:10000128-1708041600-1708214399@akisportugal-qa.bymobinteg.com
SUMMARY:Curso de Poda de Inverno em Fruteiras
DESCRIPTION:A Escola Superior Agrária do Politécnico de Coimbra (ESAC-IPC) promove em breve microcredenciações em Poda de Inverno em Videiras e Poda de Inverno em Fruteiras. Os cursos realizam-se a 09/10 de fevereiro e a 16/17 de fevereiro de 2024\, respetivamente. \nDestinadas ao público em geral\, cada formação tem uma duração total de 8 horas\, distribuídas por quatro horas de componente teórica e igual número de horas de componente prática. O formador é o Eng.º Filipe Melo. \nOs formulários de inscrição e as informações detalhadas sobre ambas as microcredenciações estão disponíveis em https://www.esac.pt/index.php/estudar/cursos/microcredenciacoes/\, devendo os interessados realizar a sua inscrição em https://inforestudante.ipc.pt ou\, em alternativa\, preencher a ficha de inscrição\, disponível em https://bit.ly/Microcredenciacoes_ESAC e enviá-la para candidaturas@esac.pt\, juntamente com o comprovativo de pagamento e cópia autorizada do Cartão de Cidadão.. \nAs inscrições para a microcredenciação em Poda de Videiras decorrem até ao dia 7 de fevereiro e para a microcredenciação em Poda de Fruteiras até ao dia 14 de fevereiro. \nPara informações adicionais\, os interessados devem contactar a ESAC para o n.º de telefone 239 802 940. \nConheça os programas em: \n\nPoda de Inverno em Fruteiras\nPoda de Inverno em Videiras\n\n@esac
URL:https://akisportugal-qa.bymobinteg.com/event/curso-de-poda-de-inverno-em-fruteiras/
LOCATION:Escola Superior Agrária do Politécnico de Coimbra\, Coimbra\, Centro- Oeste\, 3045-601
CATEGORIES:Ação de formação
ATTACH;FMTTYPE=image/png:https://akisportugal-qa.bymobinteg.com/wp-content/uploads/2024/02/poda.png
END:VEVENT
BEGIN:VEVENT
DTSTART;VALUE=DATE:20240216
DTEND;VALUE=DATE:20240219
DTSTAMP:20260421T222140
CREATED:20240212T115508Z
LAST-MODIFIED:20240212T115508Z
UID:10000142-1708041600-1708300799@akisportugal-qa.bymobinteg.com
SUMMARY:10.ª edição do Festival de Sopas e Encontro de Ranchos
DESCRIPTION:A 10.ª edição do Festival de Sopas e Encontro de Ranchos decorrerá de 16 a 18 de fevereiro no Exposalão de Sernancelhe\, com abertura no dia 16 pelas 18h30 pelo Presidente da Câmara Municipal de Tarouca\, Valdemar de Carvalho Pereira. \nSopa de gravanços com bacalhau\, caldo de castanha\, sopa de feijoca à Zebreira ou sopa de cogumelos são algumas das iguarias revitalizadas graças ao Festival de Sopas de Sernancelhe\, um evento de inverno que junta no Expo Salão o melhor da gastronomia tradicional\, artesanato e folclore\, proporcionando aos visitantes uma viagem pela história\, cultura\, sons e pelos sabores do nosso povo. \nOs visitantes terão oportunidade de descobrir diversas exposições de artes e ofícios\, contactar com usos e costumes e degustar gratuitamente as sopas que contam a história de um povo. \nVárias associações do concelho irão confecionar os mais variados tipos de sopas que os visitantes podem provar. Este ano está prevista a participação de: Associação AMBULA IPSS\, Associação Empresarial Beira Alta – Acis\, Associação Zona de Caça Távora e Zebreira\, Associação Desportiva e Recreativa de Sarzeda\, Associação Dinamizadora da Aldeia da Faia\, Conselho Diretivo dos Baldios “Cinco Réis de Gente” do Carregal\, Banda Musical 81 de Ferreirim\, Associação Social\, Cultural\, Recreativa e Desportiva Casa do Benfica de Sernancelhe\, Confraria da Castanha Soutos da Lapa\, Liga dos Amigos da ESPROSER\, Manta Verde – Associação da Biointerpretação de Lamosa\, Núcleo Desportivo de Cultural de Vila da Ponte\, Rancho Folclórico da Terra da Castanha de Sernancelhe\, Grupo Motard “Os Amigos Binantes”\, Associação de Melhoramentos da Freguesia de Escurquela\, Clube Caça e Pesca de Sernancelhe\, Banda de Música de Sernancelhe e Associação dos Baldios de Quintela da Lapa. \nEnquanto provam as sopas\, os visitantes assistirão à atuação de ranchos folclóricos\, provenientes dos mais variados pontos do país. \nConheça o programa.
URL:https://akisportugal-qa.bymobinteg.com/event/10-a-edicao-do-festival-de-sopas-e-encontro-de-ranchos/
LOCATION:Sernancelhe\, Sernancelhe\, Norte\, 3640-000\, Portugal
CATEGORIES:Feira
ATTACH;FMTTYPE=image/jpeg:https://akisportugal-qa.bymobinteg.com/wp-content/uploads/2024/02/convite.jpg
END:VEVENT
BEGIN:VEVENT
DTSTART;TZID=UTC:20240216T143000
DTEND;TZID=UTC:20240216T180000
DTSTAMP:20260421T222140
CREATED:20240208T162016Z
LAST-MODIFIED:20240208T162016Z
UID:10000134-1708093800-1708106400@akisportugal-qa.bymobinteg.com
SUMMARY:Palestra - Preparados biodinâmicos para uma agricultura curativa
DESCRIPTION:No âmbito da Celebração do Centenário da Agricultura Biodinâmica e do projeto HARVEST: Valorizar a Horta Familiar de forma a educar para uma dieta mediterrânica\, saudável e sustentável\, o Polo de Inovação de Viseu\, em conjunto com a Direção Regional de Agricultura e Pescas do Centro\, a Escola Superior Agrária | Instituto Politécnico de Viseu\, e o Grupo de Trabalho para a Celebração do Centenário da Agricultura Biodinâmica\, irá acolher um evento especial. \nNo dia 16 de fevereiro de 2024\, às 14h30\, na Biblioteca do Polo de Inovação de Viseu – Estação Agrária\, ocorrerá o evento intitulado “Preparados Biodinâmicos para uma Agricultura Curativa”\, com a participação de Andrea D’Angelo. \nA agricultura biodinâmica é uma abordagem alternativa que procura harmonizar os processos agrícolas com as forças vitais da natureza\, indo além da agricultura biológica e incorporando conceitos esotéricos desenvolvidos a partir das ideias de Rudolf Steiner. \nOs preparados biodinâmicos são essenciais nesse contexto\, são elaborados a partir de plantas medicinais como mil folhas\, camomila\, urtiga\, casca de carvalho\, dente de leão e valeriana. Esses preparados servem como suplemento ao composto\, esterco\, chorume e biofertilizante\, conduzindo e organizando os processos de fermentação e decomposição. \nO evento será uma oportunidade para explorar mais sobre a agricultura biodinâmica e a sua aplicação na promoção de uma agricultura curativa e sustentável. Andrea D’Angelo\, com a sua experiência nessa área\, certamente trará informação relevante para os participantes. \nConsulte o cartaz do evento aqui. \n@DRAPC @IPViseu
URL:https://akisportugal-qa.bymobinteg.com/event/palestra-preparados-biodinamicos-para-uma-agricultura-curativa/
LOCATION:Biblioteca do Polo de Inovação de Viseu – Estação Agrária\, Quinta do Fontelo\, Viseu\, Centro\, 3504-504\, Portugal
CATEGORIES:Ação de capacitação
ATTACH;FMTTYPE=image/png:https://akisportugal-qa.bymobinteg.com/wp-content/uploads/2024/02/palestra.png
ORGANIZER;CN="DRAP Centro":MAILTO:tp.vog.cpard@cpard
END:VEVENT
END:VCALENDAR