BEGIN:VCALENDAR
VERSION:2.0
PRODID:-//AKIS PORTUGAL - ECPv6.15.15//NONSGML v1.0//EN
CALSCALE:GREGORIAN
METHOD:PUBLISH
X-WR-CALNAME:AKIS PORTUGAL
X-ORIGINAL-URL:https://akisportugal-qa.bymobinteg.com
X-WR-CALDESC:Eventos para AKIS PORTUGAL
REFRESH-INTERVAL;VALUE=DURATION:PT1H
X-Robots-Tag:noindex
X-PUBLISHED-TTL:PT1H
BEGIN:VTIMEZONE
TZID:UTC
BEGIN:STANDARD
TZOFFSETFROM:+0000
TZOFFSETTO:+0000
TZNAME:UTC
DTSTART:20230101T000000
END:STANDARD
END:VTIMEZONE
BEGIN:VEVENT
DTSTART;VALUE=DATE:20240201
DTEND;VALUE=DATE:20240203
DTSTAMP:20260422T071057
CREATED:20240201T171249Z
LAST-MODIFIED:20240201T171249Z
UID:10000115-1706745600-1706918399@akisportugal-qa.bymobinteg.com
SUMMARY:Encontro Nacional de Técnicos da CONFAGRI
DESCRIPTION:
URL:https://akisportugal-qa.bymobinteg.com/event/encontro-nacional-de-tecnicos-da-confagri/
LOCATION:Hotel Vila Galé Évora\, Avenida Túlio Espanca\, Évora\, Alentejo\, 7005-840
CATEGORIES:Evento Geral
ATTACH;FMTTYPE=image/jpeg:https://akisportugal-qa.bymobinteg.com/wp-content/uploads/2024/02/unnamed-1.jpg
ORGANIZER;CN="Confagri | Confedera%C3%A7%C3%A3o Nacional das Cooperativas Agr%C3%ADcolas e do Cr%C3%A9dito Agr%C3%ADcola de Portugal":MAILTO:confagri@confagri.pt
END:VEVENT
END:VCALENDAR