BEGIN:VCALENDAR
VERSION:2.0
PRODID:-//AKIS PORTUGAL - ECPv6.15.15//NONSGML v1.0//EN
CALSCALE:GREGORIAN
METHOD:PUBLISH
X-WR-CALNAME:AKIS PORTUGAL
X-ORIGINAL-URL:https://akisportugal-qa.bymobinteg.com
X-WR-CALDESC:Eventos para AKIS PORTUGAL
REFRESH-INTERVAL;VALUE=DURATION:PT1H
X-Robots-Tag:noindex
X-PUBLISHED-TTL:PT1H
BEGIN:VTIMEZONE
TZID:UTC
BEGIN:STANDARD
TZOFFSETFROM:+0000
TZOFFSETTO:+0000
TZNAME:UTC
DTSTART:20230101T000000
END:STANDARD
END:VTIMEZONE
BEGIN:VEVENT
DTSTART;VALUE=DATE:20240531
DTEND;VALUE=DATE:20240603
DTSTAMP:20260419T183341
CREATED:20240205T124424Z
LAST-MODIFIED:20240205T124424Z
UID:10000131-1717113600-1717372799@akisportugal-qa.bymobinteg.com
SUMMARY:EXPOCAPRILAND: Evento de Caprinicultura
DESCRIPTION:O Centro de Competências de Caprinicultura (CCC)\, em colaboração com o Município de Vila Nova de Poiares e com o apoio da APEZ\, tem o prazer de anunciar a EXPOCAPRILAND – a I Feira de Caprinicultura e II Congresso Nacional de Caprinicultura. \nPela primeira vez\, será organizada uma experiência única que marca um novo capítulo na jornada do Centro de Competências de Caprinicultura em prol da caprinicultura nacional. A EXPOCAPRILAND é um evento que junta gastronomia regional\, artesanato\, exposição de pecuária\, mostra agrícola\, comercial e industrial. \nMarque já na sua agenda: \n\nData: 31 de maio a 2 de junho de 2024\nLocal: Vila Nova de Poiares\n\nEste é o evento do ano\, idealizado para celebrar a riqueza da caprinicultura e fortalecer os laços da comunidade. Em breve\, será lançado o site do evento onde conseguirá consultar mais detalhes sobre o programa. \nCartaz do evento aqui \n\n\n\n@cccaprinicultura @apez @CMVNPoiares
URL:https://akisportugal-qa.bymobinteg.com/event/expocapriland-evento-de-caprinicultura/
LOCATION:Município de Vila Nova de Poiares\, Vila Nova de Poiares\, Coimbra\, 3350-000
CATEGORIES:Feira
ATTACH;FMTTYPE=image/png:https://akisportugal-qa.bymobinteg.com/wp-content/uploads/2024/02/expo_carriland.png
ORGANIZER;CN="Centro de Compet%C3%AAncias da Caprinicultura":MAILTO:c.c.caprinicultura@gmail.com
END:VEVENT
BEGIN:VEVENT
DTSTART;TZID=UTC:20240607T083000
DTEND;TZID=UTC:20240607T160000
DTSTAMP:20260419T183341
CREATED:20240522T101105Z
LAST-MODIFIED:20240522T101105Z
UID:10000233-1717749000-1717776000@akisportugal-qa.bymobinteg.com
SUMMARY:4º Workshop Viticultura Sustentável
DESCRIPTION:O 4º Workshop de Viticultura Sustentável será realizado no dia 7 de Junho de 2024\, no Teatro Curvo-Semedo em Montemor-o-Novo. Organizado pelos Viveiros PLANSEL e pelo Município de Montemor-o-Novo este Workshop foca-se na promoção da resiliência da vinha através do melhoramento da videira. \nO evento contará com a presença de especialistas de renome internacional\, como Jorge Böhm\, fundador da empresa PLANSEL\, Cristina Menéndez\, responsável do ICVV Logronho\, Miguel Mercier\, Presidente do Comité Bois et Plants de FranceAgriMer\, e Oliver Trapp\, diretor adjunto do Instituto Julius Kühn da Alemanha. \nAlém das intervenções\, haverá uma mesa redonda moderada por Pedro Fevereiro\, Diretor executivo da InnovPlantProtect\, onde se discutirá a superação dos desafios impostos pela ideologia e a criação de novos caminhos legais para concertar uma estratégia nacional de todo o setor vitícola. \nO evento também incluirá uma visita de campo\, onde serão apresentados os ensaios de campo de novas castas resistentes da Viveiros Plansel. O workshop terminará com uma prova de vinhos de novas castas resistentes nacionais e internacionais\, seguida de um almoço rústico. \nPara mais informações e inscrições\, visite o site www.viticulturasustentavel.com ou envie um email para viticultura.sustentavel24@gmail.com. \nConsulte o programa aqui
URL:https://akisportugal-qa.bymobinteg.com/event/4o-workshop-viticultura-sustentavel/
LOCATION:Cine-Teatro Curvo Semedo\, Tv. do Calvário 2\, Montemor-o-Novo\, 7050-207\, Portugal
CATEGORIES:Workshop
END:VEVENT
BEGIN:VEVENT
DTSTART;TZID=UTC:20240607T143000
DTEND;TZID=UTC:20240607T173000
DTSTAMP:20260419T183341
CREATED:20240528T090629Z
LAST-MODIFIED:20240528T090629Z
UID:10000234-1717770600-1717781400@akisportugal-qa.bymobinteg.com
SUMMARY:Boas práticas em solos florestais em povoamento de sobreiro
DESCRIPTION:No dia 7 de junho de 2024\, das 14:30 às 17:30 horas\, vai realizar-se uma ação de demonstração sobre “Boas práticas em solos florestais em povoamento de sobreiro”\, em Quintã de Pero Martins – Figueira Castelo Rodrigo\, que incluirá visita às parcelas florestais. \nEste evento\, coordenado pelo Colab Forestwise \, faz parte das Ações de Demonstração em Inovação e Boas Práticas de Gestão do Solo em explorações aderentes à Rede AGRI-DEM_SOLO\, um iniciativa promovida e apoiada pela Rede Nacional PAC\, que visa incentivar a discussão e a troca de experiências de adoção de boas práticas para a melhoria da saúde do solo entre produtores agrícolas e florestais\, em contexto de ”vida real” e com o apoio de especialistas. \nA participação no evento é gratuita\, mas a inscrição é obrigatória. Os interessados podem inscrever-se aqui \nConvite para o evento Aqui \nCartaz do evento Aqui
URL:https://akisportugal-qa.bymobinteg.com/event/boas-praticas-em-solos-florestais-em-povoamento-de-sobreiro/
LOCATION:Quinta de Pero Martins\, Quinta de Pero Martins\, Figueira de Castelo Rodrigo\, Portugal
CATEGORIES:Ação de Demonstração
END:VEVENT
BEGIN:VEVENT
DTSTART;VALUE=DATE:20240608
DTEND;VALUE=DATE:20240617
DTSTAMP:20260419T183341
CREATED:20240531T085816Z
LAST-MODIFIED:20240531T090305Z
UID:10000235-1717804800-1718582399@akisportugal-qa.bymobinteg.com
SUMMARY:Presença em Stand | Papela da Raça Churra Galega Bragançana na Biodiversidade e no Território
DESCRIPTION:Ação de presença em stand para feira – Papela da Raça Churra Galega Bragançana na Biodiversidade e no Território\, no âmbito da ação 2.1.4-Ações de informação do projeto PDR2020-214.102573 \n@ACOB
URL:https://akisportugal-qa.bymobinteg.com/event/presenca-em-stand-papela-da-raca-churra-galega-bragancana-na-biodiversidade-e-no-territorio/
LOCATION:CNEMA – Centro Nacional de Exposições\, Quinta das Cegonhas\, Apt. 331\, Santarém\, Portugal
CATEGORIES:Evento Geral
ORGANIZER;CN="ACOB - Associa%C3%A7%C3%A3o Nacional de Criadores de Ovinos da Ra%C3%A7a Churra Galega Bragan%C3%A7ana":MAILTO:acobbraganca@gmail.com
END:VEVENT
BEGIN:VEVENT
DTSTART;VALUE=DATE:20240609
DTEND;VALUE=DATE:20240614
DTSTAMP:20260419T183341
CREATED:20230818T130342Z
LAST-MODIFIED:20230818T130342Z
UID:10000028-1717891200-1718323199@akisportugal-qa.bymobinteg.com
SUMMARY:European Grasssland Federation realiza Reunião Geral em 2024 nos Países Baixos
DESCRIPTION:A Sociedade Portuguesa de Pastagens e Forragens (SPPF)\, enquanto membro da European Grasssland Federation (EGF) associa-se ao 30th EGF General Meeting\, encontro que terá lugar de 9 a 13 de junho de 2024\, em Leeuwarden\, nos Países Baixos. O tema desta Reunião Geral é “Porquê pastagens?”. \nSaiba mais aqui.
URL:https://akisportugal-qa.bymobinteg.com/event/european-grasssland-federation-realiza-reuniao-geral-em-2024-nos-paises-baixos/
LOCATION:Leeuwarden\, Leeuwarden\, Holanda
ATTACH;FMTTYPE=image/jpeg:https://akisportugal-qa.bymobinteg.com/wp-content/uploads/2023/08/egf_24.jpg
END:VEVENT
BEGIN:VEVENT
DTSTART;VALUE=DATE:20240611
DTEND;VALUE=DATE:20240617
DTSTAMP:20260419T183341
CREATED:20240606T093155Z
LAST-MODIFIED:20240606T093155Z
UID:10000240-1718064000-1718582399@akisportugal-qa.bymobinteg.com
SUMMARY:Centros de Competências realizam webinars a partir da Feira Nacional de Agricultura
DESCRIPTION:O stand conjunto dos 12 Centros de Competências na 60ª Feira Nacional de Agricultura vai receber um vasto número de iniciativas ao longo do certame\, que decorre entre 8 e 16 de junho\, no Centro Nacional de Exposições\, em Santarém\, e é dedicado à Pecuária Extensiva. \nConsulte todos os programas das iniciativas e inscreva-se para poder participar aqui.
URL:https://akisportugal-qa.bymobinteg.com/event/centros-de-competencias-realizam-webinars-a-partir-da-feira-nacional-de-agricultura/
LOCATION:CNEMA – Centro Nacional de Exposições\, Quinta das Cegonhas\, Apt. 331\, Santarém\, Portugal
CATEGORIES:Webinar
END:VEVENT
BEGIN:VEVENT
DTSTART;TZID=UTC:20240613T091500
DTEND;TZID=UTC:20240613T140000
DTSTAMP:20260419T183341
CREATED:20240604T135514Z
LAST-MODIFIED:20240604T135514Z
UID:10000237-1718270100-1718287200@akisportugal-qa.bymobinteg.com
SUMMARY:Seminário "Azeite em perspetiva: Sustentabilidade\, Inovação e Futuro”
DESCRIPTION:A OLIVUM organiza o seminário “Azeite em perspetiva: Sustentabilidade\, Inovação e Futuro” no próximo dia 13 de junho\, na Feira Nacional de Agricultura\, em Santarém. \nSaiba mais aqui.
URL:https://akisportugal-qa.bymobinteg.com/event/seminario-azeite-em-perspetiva-sustentabilidade-inovacao-e-futuro/
LOCATION:CNEMA – Centro Nacional de Exposições\, Quinta das Cegonhas\, Apt. 331\, Santarém\, Portugal
CATEGORIES:Seminário
ORGANIZER;CN="OLIVUM - Associa%C3%A7%C3%A3o de Olivicultores e Lagares de Portugal":MAILTO:geral@olivumsul.com
END:VEVENT
BEGIN:VEVENT
DTSTART;TZID=UTC:20240614T103000
DTEND;TZID=UTC:20240614T130000
DTSTAMP:20260419T183341
CREATED:20240606T112056Z
LAST-MODIFIED:20240606T112056Z
UID:10000242-1718361000-1718370000@akisportugal-qa.bymobinteg.com
SUMMARY:Conferência “Agricultura e Ambiente – Desafios para o Setor Agroalimentar”
DESCRIPTION:A CONFAGRI promove a Conferência “Agricultura e Ambiente – Desafios para o Setor Agroalimentar” no dia 14 de junho\, na Feira Nacional da Agricultura\, a partir das 10h30. \nSaiba mais aqui.
URL:https://akisportugal-qa.bymobinteg.com/event/conferencia-agricultura-e-ambiente-desafios-para-o-setor-agroalimentar/
LOCATION:CNEMA – Centro Nacional de Exposições\, Quinta das Cegonhas\, Apt. 331\, Santarém\, Portugal
CATEGORIES:Conferência
ORGANIZER;CN="Confagri | Confedera%C3%A7%C3%A3o Nacional das Cooperativas Agr%C3%ADcolas e do Cr%C3%A9dito Agr%C3%ADcola de Portugal":MAILTO:confagri@confagri.pt
END:VEVENT
BEGIN:VEVENT
DTSTART;VALUE=DATE:20240618
DTEND;VALUE=DATE:20240619
DTSTAMP:20260419T183341
CREATED:20240605T113837Z
LAST-MODIFIED:20240605T113837Z
UID:10000238-1718668800-1718755199@akisportugal-qa.bymobinteg.com
SUMMARY:Apresentação da Estratégia de Valorização dos Mercados Locais da AML
DESCRIPTION:O Fórum Temático “Estratégias de Valorização dos Mercados Locais” realiza-se no dia 18 de junho de 2024\, pelas 9h30\, no auditório do Mercado do Livramento\, em Setúbal. \nSaiba mais aqui.
URL:https://akisportugal-qa.bymobinteg.com/event/apresentacao-da-estrategia-de-valorizacao-dos-mercados-locais-da-aml/
CATEGORIES:Ação de Informação
END:VEVENT
BEGIN:VEVENT
DTSTART;TZID=UTC:20240618T110000
DTEND;TZID=UTC:20240618T130000
DTSTAMP:20260419T183341
CREATED:20240617T141855Z
LAST-MODIFIED:20240617T141855Z
UID:10000250-1718708400-1718715600@akisportugal-qa.bymobinteg.com
SUMMARY:Palestra Online sobre Emergência Climática
DESCRIPTION:No dia 18 de junho\, às 11h00\, o Centro de Monitorização e Interpretação Ambiental (CMIA) de Vila do Conde irá promover uma palestra online intitulada “Estado de Emergência Climática\, e agora? Mitos e (im)possibilidades”. A palestra será proferida pelo Doutor Pedro Macedo\, do Centro do Clima da Póvoa de Varzim. \nEsta iniciativa é organizada no âmbito do Dia Mundial do Combate à Desertificação e Seca\, com o objetivo de promover a consciencialização pública em relação aos esforços internacionais para combater a desertificação. \nA inscrição é gratuita e obrigatória\, e pode ser feita aqui \nO público-alvo desta palestra é o público em geral\, sendo uma excelente oportunidade para todos aqueles que estão interessados em questões ambientais e climáticas. \nPara mais informações\, por favor\, consulte o cartaz do evento aqui
URL:https://akisportugal-qa.bymobinteg.com/event/palestra-online-sobre-emergencia-climatica/
LOCATION:Online
CATEGORIES:Ação de Informação,Sessão informativa,Webinar
ATTACH;FMTTYPE=image/png:https://akisportugal-qa.bymobinteg.com/wp-content/uploads/2024/06/Palestra_CMIA_18jun24_2.png
ORGANIZER;CN="Centro de Monitoriza%C3%A7%C3%A3o e Interpreta%C3%A7%C3%A3o Ambiental de Vila do Conde":MAILTO:cmia@cm-viladoconde.pt
END:VEVENT
BEGIN:VEVENT
DTSTART;TZID=UTC:20240618T140000
DTEND;TZID=UTC:20240618T180000
DTSTAMP:20260419T183341
CREATED:20240617T141343Z
LAST-MODIFIED:20240617T141343Z
UID:10000248-1718719200-1718733600@akisportugal-qa.bymobinteg.com
SUMMARY:Webinar Informativo | Agrifood4Future Entrepreneurship and Acceleration Programme
DESCRIPTION:A BGI\, em parceria com a BGT\, convida todos a participar no Programa de Empreendedorismo e Aceleração Agrifood4Future. Este programa oferece formação prática e orientação de mentores para desenvolver um Plano de Go-to-Market e construir um Pitch\, proporcionando exposição internacional para impulsionar o seu negócio. \nO programa é direcionado para tecnologias\, serviços e/ou soluções nas áreas de Ingredientes Alternativos\, Sistema Alimentar Circular\, Digitalização da Cadeia de Abastecimento de Alimentos\, Agritech Verde & Sustentabilidade. Acreditamos que seria perfeito para si! \nNo final da jornada de 14 semanas\, poderá apresentar o seu pitch perante um júri internacional que selecionará as duas equipas vencedoras do programa. As duas equipas vencedoras terão acesso direto ao Programa de incubação da BGI e um pacote de horas de mentoria de especialistas líderes da VALORIAL\, UCSC\, C-ER e Phorma Mentis. \nO Programa de Empreendedorismo e Aceleração Agrifood4Future faz parte do projeto ERASMUS+ AGRIFOOD4FUTURE\, que reúne 23 organizações de toda a Europa. O principal objetivo deste programa é facilitar a entrada no mercado de startups em fase inicial e grupos de estudantes de VET\, Mestrado e/ou Doutorado focados em projetos agrícolas sustentáveis. \nAssista ao Webinar informativo no dia 18 de Junho às 14h CET para saber mais sobre o Programa. Registe-se aqui \nSaiba mais aqui \nConsulte o programa aqui
URL:https://akisportugal-qa.bymobinteg.com/event/webinar-informativo-agrifood4future-entrepreneurship-and-acceleration-programme/
LOCATION:Online
CATEGORIES:Webinar
ATTACH;FMTTYPE=image/png:https://akisportugal-qa.bymobinteg.com/wp-content/uploads/2024/06/agri4food.png
END:VEVENT
BEGIN:VEVENT
DTSTART;TZID=UTC:20240619T140000
DTEND;TZID=UTC:20240619T150000
DTSTAMP:20260419T183341
CREATED:20240617T141612Z
LAST-MODIFIED:20240617T141612Z
UID:10000249-1718805600-1718809200@akisportugal-qa.bymobinteg.com
SUMMARY:Mesa Redonda | DEGROWTH (Decrescimento)
DESCRIPTION:No próximo dia 19 de junho\, a Universidade de Évora irá realizar o último evento desta temporada do ‘MED às 4as’\, em formato de mesa redonda. O tema central será o ‘Decrescimento’\, um movimento académico e social que propõe uma alternativa ao modelo económico atual de crescimento contínuo. \nA discussão irá focar-se na forma como o decrescimento pode contribuir para a sustentabilidade das áreas rurais. Entre os participantes estarão Inês Cosme\, investigadora do CENSE – FCT Nova; José da Veiga\, colaborador do MED; e Marta Cortegano\, do Centro de Agroecologia e Regeneração para o Semiárido (CARES) e membro da Rede para o Decrescimento. A mesa redonda será moderada pela investigadora Teresa Nóvoa. \nO evento decorrerá presencialmente na Sala de Conferências do Pólo da Mitra\, entre as 14h e as 15h\, mas também será possível assistir online\, através da plataforma Zoom aqui \nO ‘Decrescimento’ defende a equidade social\, a justiça ambiental e a qualidade de vida\, dando relevância à autonomia local e incentivando práticas adaptadas a cada comunidade e ecossistema. Este movimento pode ser particularmente relevante para as áreas rurais\, onde a interdependência entre sistemas socioeconómicos e ecossistemas naturais é mais evidente. \nA transição para uma sociedade baseada no decrescimento não será fácil nem rápida\, requerendo uma mudança profunda nos padrões de produção e consumo\, bem como uma reestruturação dos sistemas políticos e económicos existentes. No entanto\, a questão permanece: poderá o decrescimento contribuir para a sustentabilidade das áreas rurais? \nAs Mesas Redondas do MED estão integradas na iniciativa “MED às 4as”\, as sessões de ciência com café promovidas pelo MED na Universidade de Évora\, e são abertas a todos os interessados.
URL:https://akisportugal-qa.bymobinteg.com/event/mesa-redonda-degrowth-decrescimento/
LOCATION:Universidade de Évora – Polo da Mitra\, Herdade da Mitra - Nossa Sra. da Tourega\, Évora\, Alentejo\, 1079 743\, Portugal
CATEGORIES:Evento Geral
ATTACH;FMTTYPE=image/png:https://akisportugal-qa.bymobinteg.com/wp-content/uploads/2024/06/MEDas4as_MesaRedonda_19junho24_banner.png
END:VEVENT
BEGIN:VEVENT
DTSTART;TZID=UTC:20240619T140000
DTEND;TZID=UTC:20240619T160000
DTSTAMP:20260419T183341
CREATED:20240617T135824Z
LAST-MODIFIED:20240617T135824Z
UID:10000246-1718805600-1718812800@akisportugal-qa.bymobinteg.com
SUMMARY:Formação Online do Projeto CARE4BIO
DESCRIPTION:O projeto CARE4BIO\, uma rede dos Pontos de Contacto Nacionais (NCP) para o Cluster 6 (CL6) do Horizonte Europa\, está a organizar uma formação online. Esta formação é dedicada às oportunidades de financiamento relacionadas com o CL6\, incluindo Missões (Solo\, Oceano & Águas\, Clima) e Parcerias Europeias (Biodiversa+\, Water4All\, Sustainable Blue Economy\, Agroecology\, Circular Bio-based Europe). \nA formação terá lugar no dia 19 de junho\, entre as 14h e as 16h (CET)\, e destina-se a NCPs e a potenciais participantes em candidaturas. As inscrições estão abertas até dia 17 de junho. \nInscreva-se aqui \nConsulte o programa aqui \nEsta é uma oportunidade imperdível para aqueles que estão interessados em explorar as oportunidades de financiamento disponíveis através do Horizonte Europa. Não perca a oportunidade de aprender mais sobre estes programas de financiamento e de estabelecer uma rede de contactos com outros profissionais da área.
URL:https://akisportugal-qa.bymobinteg.com/event/formacao-online-do-projeto-care4bio/
LOCATION:Online
CATEGORIES:Ação de formação
ATTACH;FMTTYPE=image/png:https://akisportugal-qa.bymobinteg.com/wp-content/uploads/2024/06/ca4bio.png
END:VEVENT
BEGIN:VEVENT
DTSTART;TZID=UTC:20240619T143000
DTEND;TZID=UTC:20240619T180000
DTSTAMP:20260419T183341
CREATED:20240606T092130Z
LAST-MODIFIED:20240606T092130Z
UID:10000239-1718807400-1718820000@akisportugal-qa.bymobinteg.com
SUMMARY:Workshop "Combate às Alterações Climáticas - Experiências de Cabo Verde e Alentejo" | 19 junho 2024 | 14h30
DESCRIPTION:O Alentejo XXI\, em colaboração com o Centro de Biotecnologia Agrícola e Agro-Alimentar do Alentejo (CEBAL)\, promove o workshop “Combate às Alterações Climáticas – Experiências de Cabo Verde e Alentejo” no dia 19 de junho\, às 14h30\, no Auditório da Empresa de Desenvolvimento e Infraestruturas do Alqueva (EDIA)\, em Beja. \nSaiba mais aqui.
URL:https://akisportugal-qa.bymobinteg.com/event/workshop-combate-as-alteracoes-climaticas-experiencias-de-cabo-verde-e-alentejo-19-junho-2024-14h30/
LOCATION:EDIA\, Rua Zeca Afonso\, nº 2\, Beja\, Portugal
CATEGORIES:Workshop
END:VEVENT
BEGIN:VEVENT
DTSTART;TZID=UTC:20240620T140000
DTEND;TZID=UTC:20240620T180000
DTSTAMP:20260419T183341
CREATED:20240617T140648Z
LAST-MODIFIED:20240617T140648Z
UID:10000247-1718892000-1718906400@akisportugal-qa.bymobinteg.com
SUMMARY:Apicultura | Lançamento de novo medicamento Veterinário
DESCRIPTION:A Associação dos Apicultores do PNM – Casa do Mel – Bragança\, irá realizar uma Ação de Divulgação no dia 20 de Junho às 14h. Além de abordar temas de Sanidade Apícola\, o evento marcará o lançamento de um novo medicamento veterinário. \nEste medicamento\, um acaricida\, foi especialmente desenvolvido para o controlo de infestações por varroa. A varroa é um ácaro parasita que infesta as colmeias\, causando danos significativos à produção de mel e à saúde das abelhas. O novo medicamento promete revolucionar o setor da Apicultura\, oferecendo uma solução eficaz para este problema persistente. \nEste evento é uma oportunidade imperdível para apicultores e interessados na área\, para conhecerem esta nova solução e discutirem outros temas relevantes para a sanidade apícola. \nPrograma aqui
URL:https://akisportugal-qa.bymobinteg.com/event/apicultura-lancamento-de-novo-medicamento-veterinario/
LOCATION:Casa do Mel\, Apart. 231\, R. Tomaz Ribeiro 8\, Bragança\, 5300-252\, Portugal
CATEGORIES:Ação de Informação
ATTACH;FMTTYPE=image/png:https://akisportugal-qa.bymobinteg.com/wp-content/uploads/2024/06/mel3-1.png
END:VEVENT
BEGIN:VEVENT
DTSTART;VALUE=DATE:20240622
DTEND;VALUE=DATE:20240623
DTSTAMP:20260419T183341
CREATED:20240607T095533Z
LAST-MODIFIED:20240607T095533Z
UID:10000243-1719014400-1719100799@akisportugal-qa.bymobinteg.com
SUMMARY:Workshop “Análise Sensorial de Mel”
DESCRIPTION:A ALBA – Cooperativa de Produtores de Mel realiza o Workshop “Análise Sensorial de Mel” no dia 22 de junho\, no Instituto Politécnico de Leiria. A iniciativa insere-se no âmbito da ação da Operação – 2.1.4 – Ações de informação – PDR2020-214-102592 – Capacitação dos Produtores. \nA inscrição (gratuita) pode ser feita até dia 16 de junho neste link\, sendo que as vagas são limitadas. \nAceda ao programa completo aqui: AALBA Programa workshop Análise Sensorial Mel 22 junho – Leiria
URL:https://akisportugal-qa.bymobinteg.com/event/workshop-analise-sensorial-de-mel/
LOCATION:Instituto Politécnico de Leiria\, Leiria\, Portugal
CATEGORIES:Workshop
ORGANIZER;CN="AALBA %E2%80%93 Cooperativa de Produtores de Mel%2C CRL":MAILTO:geral@aalba.pt
END:VEVENT
BEGIN:VEVENT
DTSTART;VALUE=DATE:20240626
DTEND;VALUE=DATE:20240627
DTSTAMP:20260419T183341
CREATED:20240625T104455Z
LAST-MODIFIED:20240625T104455Z
UID:10000313-1719360000-1719446399@akisportugal-qa.bymobinteg.com
SUMMARY:Ação de Formação/Sensibilização "Melhoramento e conservação do pinheiro manso: conhecer para gerir
DESCRIPTION:No próximo dia 26 de junho irá decorrer\, no Auditório Municipal de Alcácer do Sal\, uma Ação de Formação / Sensibilização sobre o melhoramento e conservação genética do Pinheiro-manso\, intitulada “Melhoramento e conservação do pinheiro manso: conhecer para gerir” \nEsta ação de formação será organizada pela UNAC. \nPara mais informações\, consulte o site da UNAC aqui
URL:https://akisportugal-qa.bymobinteg.com/event/acao-de-formacao-sensibilizacao-melhoramento-e-conservacao-do-pinheiro-manso-conhecer-para-gerir/
LOCATION:Auditório Municipal Alcácer do Sal\, Rua Dr. João Carlos Lázaro Faria\, Alcácer do Sal\, 7580-151\, Portugal
CATEGORIES:Ação de formação,Ação de Informação
ATTACH;FMTTYPE=image/png:https://akisportugal-qa.bymobinteg.com/wp-content/uploads/2024/06/image008.png
ORGANIZER;CN="UNAC %E2%80%93 Uni%C3%A3o da Floresta Mediterr%C3%A2nica":MAILTO:geral@unac.pt
END:VEVENT
BEGIN:VEVENT
DTSTART;TZID=UTC:20240627T103000
DTEND;TZID=UTC:20240627T130000
DTSTAMP:20260419T183341
CREATED:20240625T101808Z
LAST-MODIFIED:20240625T101808Z
UID:10000256-1719484200-1719493200@akisportugal-qa.bymobinteg.com
SUMMARY:GPP | Sessão de debate sobre Melhoramento e técnicas genómicas
DESCRIPTION:O GPP realiza\, no dia 27 de junho pelas 10h30\, uma sessão de debate sobre Melhoramento e técnicas genómicas\, tema da mais recente edição da publicação CULTIVAR – Cadernos de Análise e Prospetiva. \nA iniciativa tem por objetivo contribuir para um aprofundamento da reflexão sobre a definição de políticas ajustadas para o uso e desenvolvimento das melhores práticas disponíveis nesta área\, que permitam gerar benefícios para os agentes do setor agroalimentar e para a população em geral. \nA sessão conta com a intervenção de um painel de especialistas e o debate é depois alargado aos participantes. \nConsultar programa \nA sessão pública decorre nas instalações do GPP no Ministério da Agricultura e Pescas em Lisboa e conta com transmissão em direto no canal no YouTube. \n\nPara participação presencial\, as inscrições podem ser efetuadas aqui até 26 de junho.\nOs interessados podem colocar questões\, remetendo-as até 26 de junho para: cultivar@gpp.pt
URL:https://akisportugal-qa.bymobinteg.com/event/gpp-sessao-de-debate-sobre-melhoramento-e-tecnicas-genomicas/
LOCATION:GPP no Ministério da Agricultura e Alimentação\, Praça do Comércio\, Lisboa\, Lisboa\, 1149-010\, Portugal
CATEGORIES:Debate
ATTACH;FMTTYPE=image/jpeg:https://akisportugal-qa.bymobinteg.com/wp-content/uploads/2024/06/X_Twitter_Cultivar30-1.jpg
ORGANIZER;CN="GPP no Minist%C3%A9rio da Agricultura e Alimenta%C3%A7%C3%A3o":MAILTO:geral@gpp.pt
END:VEVENT
BEGIN:VEVENT
DTSTART;TZID=UTC:20240627T143000
DTEND;TZID=UTC:20240627T170000
DTSTAMP:20260419T183341
CREATED:20240607T111151Z
LAST-MODIFIED:20240607T111151Z
UID:10000244-1719498600-1719507600@akisportugal-qa.bymobinteg.com
SUMMARY:Webinar “Incentivos ao minifúndio com sucesso”
DESCRIPTION:Após o encerramento do projeto Forestwatch em janeiro de 2023\, o Centro PINUS e a ZERO retomam agora a promoção conjunta de webinars dedicados à monitorização de políticas florestais. O primeiro é já no dia 27 de junho\, às 14h30\, e versa sobre o tema: “Incentivos ao minifúndio com sucesso”. \nSaiba mais.
URL:https://akisportugal-qa.bymobinteg.com/event/webinar-incentivos-ao-minifundio-com-sucesso/
LOCATION:Online
CATEGORIES:Webinar
ORGANIZER;CN="Centro Pinus":MAILTO:info@centropinus.org
END:VEVENT
BEGIN:VEVENT
DTSTART;VALUE=DATE:20240628
DTEND;VALUE=DATE:20240701
DTSTAMP:20260419T183341
CREATED:20240516T101710Z
LAST-MODIFIED:20240516T101710Z
UID:10000222-1719532800-1719791999@akisportugal-qa.bymobinteg.com
SUMMARY:23ª edição da Visita Vitivinícola da Associação Portuguesa de Horticultura (APH)
DESCRIPTION:A Bairrada é a região escolhida para a 23ª edição da Visita Vitivinícola da Associação Portuguesa de Horticultura (APH)\, coincidindo com a fase de pós-vingamento da vinha\, o que permitirá apreciar o potencial deste ano vitícola na mais importante região de espumantes do país. \nA APH regressa à Bairrada passados 20 anos para um fim-de-semana de convívio e de descoberta das vinhas\, vinhos\, gastronomia e património da Bairrada. A visita tem partida de Lisboa às 15h00 do dia 28 de junho\, sexta-feira\, e chegada a Lisboa às 18h00 do dia 30 de junho\, domingo. Inclui dois noites e pequeno-almoço no Hotel das Termas da Curia\, visitas guiadas\, provas de vinho\, dois almoços e dois jantares e documentação sobre os locais a visitar. \nConsulte o programa aqui. \nPara inscrições\, aceda a este link.
URL:https://akisportugal-qa.bymobinteg.com/event/23a-edicao-da-visita-vitivinicola-da-associacao-portuguesa-de-horticultura-aph/
LOCATION:Bairrada\, Bairrada\, Beira-Litoral\, Portugal
CATEGORIES:Evento Geral
ATTACH;FMTTYPE=image/jpeg:https://akisportugal-qa.bymobinteg.com/wp-content/uploads/2024/05/23a_Visita_Vitivinicola_da_APH.jpg
ORGANIZER;CN="Associa%C3%A7%C3%A3o Portuguesa de Horticultura":MAILTO:revista@aphorticultura.pt
END:VEVENT
END:VCALENDAR