BEGIN:VCALENDAR
VERSION:2.0
PRODID:-//AKIS PORTUGAL - ECPv6.15.15//NONSGML v1.0//EN
CALSCALE:GREGORIAN
METHOD:PUBLISH
X-ORIGINAL-URL:https://akisportugal-qa.bymobinteg.com
X-WR-CALDESC:Eventos para AKIS PORTUGAL
REFRESH-INTERVAL;VALUE=DURATION:PT1H
X-Robots-Tag:noindex
X-PUBLISHED-TTL:PT1H
BEGIN:VTIMEZONE
TZID:UTC
BEGIN:STANDARD
TZOFFSETFROM:+0000
TZOFFSETTO:+0000
TZNAME:UTC
DTSTART:20230101T000000
END:STANDARD
END:VTIMEZONE
BEGIN:VEVENT
DTSTART;VALUE=DATE:20240305
DTEND;VALUE=DATE:20240308
DTSTAMP:20260424T100443
CREATED:20230821T110447Z
LAST-MODIFIED:20230821T110447Z
UID:10000033-1709596800-1709855999@akisportugal-qa.bymobinteg.com
SUMMARY:Salão Ibérico de Equipamento para Adega
DESCRIPTION:A cidade espanhola de Valladolid recebe nos dias 5 a 7 de março de 2024\, por ocasião do AGROVID\, o Salão Ibérico de Equipamento para Adega (SIEB)\, uma feira profissional destinada a enólogos\, vitivinicultores\, adegueiros\, técnicos\, responsáveis pela qualidade e a sustentabilidade e outros especialistas na elaboração do vinho. \nSaiba mais aqui.
URL:https://akisportugal-qa.bymobinteg.com/event/salao-iberico-de-equipamento-para-adega/
LOCATION:Valladolid\, Vallodolid\, Spain
CATEGORIES:Feira
ATTACH;FMTTYPE=image/png:https://akisportugal-qa.bymobinteg.com/wp-content/uploads/2023/08/SIEB_2024.png
END:VEVENT
BEGIN:VEVENT
DTSTART;VALUE=DATE:20240313
DTEND;VALUE=DATE:20240315
DTSTAMP:20260424T100443
CREATED:20240205T115857Z
LAST-MODIFIED:20240205T115857Z
UID:10000126-1710288000-1710460799@akisportugal-qa.bymobinteg.com
SUMMARY:V Edição do FINE #WineTourism Marketplace
DESCRIPTION:A quinta edição da FINE #WineTourism Marketplace\, a Feira Internacional de Enoturismo\, está marcada para os dias 13 e 14 de Março de 2024\, em Valladolid. Com um modelo especializado e global já consolidado\, a FINE se posiciona desde o início como uma ferramenta voltada para o negócio exterior com projeção internacional. \nA dinâmica da próxima edição da feira transformará a área de mercado B2B no motor do evento. Esta área será complementada por uma área de exposição onde as empresas vinícolas\, as grandes protagonistas do evento\, serão apoiadas pelas entidades promotoras dos territórios. A FINE também contará com áreas exclusivas para potencializar o networking\, como o “B2B FINE” e o “Networking Restaurant”\, além de várias zonas comuns para a transmissão de conhecimento\, como o “Be FINE”\, e os contactos espontâneos\, como o “Wine Hub”. \nA FINE2024 já lançou a sua apresentação\, que pode ser consultada aqui \nA Viniportugal\, reconhecida entidade do setor\, já lançou o seu mailing de adesão ao evento\, demonstrando o interesse e a expectativa que a FINE #WineTourism Marketplace tem gerado.
URL:https://akisportugal-qa.bymobinteg.com/event/v-edicao-do-fine-winetourism-marketplace/
LOCATION:Valladolid\, Vallodolid\, Spain
CATEGORIES:Feira
ATTACH;FMTTYPE=image/png:https://akisportugal-qa.bymobinteg.com/wp-content/uploads/2024/02/FINE-2024-OK.png
END:VEVENT
END:VCALENDAR