BEGIN:VCALENDAR
VERSION:2.0
PRODID:-//AKIS PORTUGAL - ECPv6.15.15//NONSGML v1.0//EN
CALSCALE:GREGORIAN
METHOD:PUBLISH
X-WR-CALNAME:AKIS PORTUGAL
X-ORIGINAL-URL:https://akisportugal-qa.bymobinteg.com
X-WR-CALDESC:Eventos para AKIS PORTUGAL
REFRESH-INTERVAL;VALUE=DURATION:PT1H
X-Robots-Tag:noindex
X-PUBLISHED-TTL:PT1H
BEGIN:VTIMEZONE
TZID:UTC
BEGIN:STANDARD
TZOFFSETFROM:+0000
TZOFFSETTO:+0000
TZNAME:UTC
DTSTART:20230101T000000
END:STANDARD
END:VTIMEZONE
BEGIN:VEVENT
DTSTART;TZID=UTC:20240319T093000
DTEND;TZID=UTC:20240319T163000
DTSTAMP:20260423T215108
CREATED:20240226T151908Z
LAST-MODIFIED:20240226T151908Z
UID:10000148-1710840600-1710865800@akisportugal-qa.bymobinteg.com
SUMMARY:Seminário final Programa Territorial +SOLO +VIDA e LandUnderPressure
DESCRIPTION:O Pavilhão Multiusos de Mértola vai acolher o seminário final do Programa Territorial +SOLO +VIDA e do LandUnderPressure a 19 de março\, entre as 9h30 e as 16h00. Trata-se de uma organização conjunta da Associação de Defesa do Património de Mértola e a Faculdade de Ciências da Universidade de Lisboa. \nO evento assinala o encerramento e a sinergia de dois projetos cofinanciados pelo EEA Grants\, com atuação comum na problemática da erosão dos solos e no combate à desertificação no Baixo Alentejo. \nNa sessão\, vai ser feita a divulgação de dados inéditos e apresentados os resultados das diferentes ações implementadas com potencial de replicação às escalas local e territorial. Em ambos os projetos representam propostas estratégias de resposta ao declínio do montado e à perda de produtividade das explorações agrosilvopecuárias\, num contexto de adaptação e mitigação às alterações climáticas. \nA participação é gratuita\, mas sujeita a inscrição neste formulário. \n@ADPM @FCUL
URL:https://akisportugal-qa.bymobinteg.com/event/seminario-final-programa-territorial-solo-vida-e-landunderpressure/
LOCATION:Pavilhão Multiusos de Mértola\, N122\, Mértola\, 7750-337\, Portugal
CATEGORIES:Seminário
ATTACH;FMTTYPE=image/png:https://akisportugal-qa.bymobinteg.com/wp-content/uploads/2024/02/solovida.png
ORGANIZER;CN="ADPM - Associa%C3%A7%C3%A3o de Defesa do Patrim%C3%B3nio de M%C3%A9rtola":MAILTO:geral@adpm.pt
END:VEVENT
END:VCALENDAR