BEGIN:VCALENDAR
VERSION:2.0
PRODID:-//AKIS PORTUGAL - ECPv6.15.15//NONSGML v1.0//EN
CALSCALE:GREGORIAN
METHOD:PUBLISH
X-WR-CALNAME:AKIS PORTUGAL
X-ORIGINAL-URL:https://akisportugal-qa.bymobinteg.com
X-WR-CALDESC:Eventos para AKIS PORTUGAL
REFRESH-INTERVAL;VALUE=DURATION:PT1H
X-Robots-Tag:noindex
X-PUBLISHED-TTL:PT1H
BEGIN:VTIMEZONE
TZID:UTC
BEGIN:STANDARD
TZOFFSETFROM:+0000
TZOFFSETTO:+0000
TZNAME:UTC
DTSTART:20230101T000000
END:STANDARD
END:VTIMEZONE
BEGIN:VEVENT
DTSTART;VALUE=DATE:20240925
DTEND;VALUE=DATE:20240926
DTSTAMP:20260423T232517
CREATED:20240904T114603Z
LAST-MODIFIED:20240904T114603Z
UID:10000348-1727222400-1727308799@akisportugal-qa.bymobinteg.com
SUMMARY:Agroflorestação na Europa
DESCRIPTION:No dia 25 de setembro de 2024\, o Centro de Competências do Sobreiro e da Cortiça em Coruche\, Portugal\, acolherá um evento dedicado à agroflorestação na Europa\, que será Organizado pela RefreSCAR e parceiros da Rede CAP\, onde o principal objetivo será destacar a importância da agroflorestação com sobreiros. \nParticiparão grupos operacionais e redes temáticas da Rede CAP\, partilhando conhecimentos sobre projetos de agroflorestação europeus. \nO evento é financiado pela União Europeia e contará com a presença da Federação Europeia de Agroflorestação (EURAF). \nInscreva-se aqui
URL:https://akisportugal-qa.bymobinteg.com/event/agroflorestacao-na-europa/
LOCATION:Centro de Competências do Sobreiro e da Cortiça\, Praça da Liberdade\, Coruche\, Coruche\, 2100-121\, Portugal
CATEGORIES:Colóquio,Conferência
END:VEVENT
END:VCALENDAR