BEGIN:VCALENDAR
VERSION:2.0
PRODID:-//AKIS PORTUGAL - ECPv6.15.15//NONSGML v1.0//EN
CALSCALE:GREGORIAN
METHOD:PUBLISH
X-WR-CALNAME:AKIS PORTUGAL
X-ORIGINAL-URL:https://akisportugal-qa.bymobinteg.com
X-WR-CALDESC:Eventos para AKIS PORTUGAL
REFRESH-INTERVAL;VALUE=DURATION:PT1H
X-Robots-Tag:noindex
X-PUBLISHED-TTL:PT1H
BEGIN:VTIMEZONE
TZID:UTC
BEGIN:STANDARD
TZOFFSETFROM:+0000
TZOFFSETTO:+0000
TZNAME:UTC
DTSTART:20230101T000000
END:STANDARD
END:VTIMEZONE
BEGIN:VEVENT
DTSTART;TZID=UTC:20240221T143000
DTEND;TZID=UTC:20240221T180000
DTSTAMP:20260421T183043
CREATED:20240212T155423Z
LAST-MODIFIED:20240212T155423Z
UID:10000143-1708525800-1708538400@akisportugal-qa.bymobinteg.com
SUMMARY:Seminário “Cardo: Valorização Gastronómica”
DESCRIPTION:O seminário “Cardo: Valorização Gastronómica” tem lugar no dia 21 de fevereiro\, no Centro Cultural Raul de Carvalho\, em Alvito (Beja). O evento insere-se no âmbito do Centro de Competências dos Recursos Silvestres e é realizado numa colaboração da Associação de Defesa do Património de Mértola (ADPM) e o Centro de Biotecnologia Agrícola e Agro-Alimentar do Alentejo (CEBAL).
URL:https://akisportugal-qa.bymobinteg.com/event/seminario-cardo-valorizacao-gastronomica/
LOCATION:Centro Cultural Raul de Carvalho\, Largo do Relógio 19\, Alvito\, Alentejo\, 7920-022\, Portugal
CATEGORIES:Seminário
END:VEVENT
END:VCALENDAR