BEGIN:VCALENDAR
VERSION:2.0
PRODID:-//AKIS PORTUGAL - ECPv6.15.15//NONSGML v1.0//EN
CALSCALE:GREGORIAN
METHOD:PUBLISH
X-ORIGINAL-URL:https://akisportugal-qa.bymobinteg.com
X-WR-CALDESC:Eventos para AKIS PORTUGAL
REFRESH-INTERVAL;VALUE=DURATION:PT1H
X-Robots-Tag:noindex
X-PUBLISHED-TTL:PT1H
BEGIN:VTIMEZONE
TZID:UTC
BEGIN:STANDARD
TZOFFSETFROM:+0000
TZOFFSETTO:+0000
TZNAME:UTC
DTSTART:20230101T000000
END:STANDARD
END:VTIMEZONE
BEGIN:VEVENT
DTSTART;TZID=UTC:20240416T150000
DTEND;TZID=UTC:20240416T163000
DTSTAMP:20260423T211948
CREATED:20240408T100046Z
LAST-MODIFIED:20240408T100046Z
UID:10000198-1713279600-1713285000@akisportugal-qa.bymobinteg.com
SUMMARY:WEBINAR | “Pine plantations in South Brazil: State of Play”
DESCRIPTION:O ciclo “Silvicultura de pinheiro: fatores internacionais de sucesso”\, promovido pela IUFRO e pelo Centro PINUS\, está de regresso com o 4.º webinar\, no dia 16 de abril\, das 15h às 16h30. \nDepois das sessões dedicadas ao Pinheiro-Silvestre na Europa Central\, ao Pinus radiata no Chile e ao Pinus patula em África\, o novo webinar “Pine plantations in South Brazil: State of Play” convida a conhecer a produção florestal de espécies de pinheiros no Sul do Brasil no dia 16 de abril\, às 15h (fuso horário português)\, através da plataforma ZOOM. A inscrição é gratuita e pode ser realizada aqui. \nEste é o quarto webinar do ciclo “Silvicultura de pinheiro: fatores internacionais de sucesso”\, uma viagem virtual à descoberta das espécies de pinheiros representadas em várias regiões do mundo. \nO orador convidado é o professor Peter Spathelf\, da Universidade para o Desenvolvimento Sustentável de Eberswalde (HNEE)\, com vários anos de investigação dedicados à gestão florestal e à ecologia das florestas e que irá apresentar-nos várias espécies de pinus com interesse produtivo no sul do Brasil. A sessão será moderada por Susana Carneiro\, Diretora Executiva do Centro PINUS. \nO enfoque deste webinar são os modelos e práticas silvícolas para produção de madeira\, sendo também abordados os produtos não lenhosos\, as principais ameaças e inovações naquela parte do planeta. \nEste ciclo é dirigido\, sobretudo\, a agentes do setor florestal\, estudantes e investigadores de ciências florestais e é organizado pela Unidade 1.01.10 de Silvicultura e Ecologia de pinheiro da IUFRO e pelo Centro PINUS. \nEste webinar destina-se a uma audiência global\, pelo que será realizado em inglês sem tradução. Inscreva-se a partir deste link. \nA gravação dos primeiros webinars deste ciclo internacional encontra-se disponível aqui no canal de YouTube do Centro PINUS. \nNota de Imprensa Centro PINUS \n@CentroPINUS
URL:https://akisportugal-qa.bymobinteg.com/event/webinar-pine-plantations-in-south-brazil-state-of-play/
LOCATION:Webinar
CATEGORIES:Webinar
ATTACH;FMTTYPE=image/jpeg:https://akisportugal-qa.bymobinteg.com/wp-content/uploads/2024/04/webinar_internacional_brasil_link.jpg
ORGANIZER;CN="Centro Pinus":MAILTO:info@centropinus.org
END:VEVENT
END:VCALENDAR