BEGIN:VCALENDAR
VERSION:2.0
PRODID:-//AKIS PORTUGAL - ECPv6.15.15//NONSGML v1.0//EN
CALSCALE:GREGORIAN
METHOD:PUBLISH
X-WR-CALNAME:AKIS PORTUGAL
X-ORIGINAL-URL:https://akisportugal-qa.bymobinteg.com
X-WR-CALDESC:Eventos para AKIS PORTUGAL
REFRESH-INTERVAL;VALUE=DURATION:PT1H
X-Robots-Tag:noindex
X-PUBLISHED-TTL:PT1H
BEGIN:VTIMEZONE
TZID:UTC
BEGIN:STANDARD
TZOFFSETFROM:+0000
TZOFFSETTO:+0000
TZNAME:UTC
DTSTART:20230101T000000
END:STANDARD
END:VTIMEZONE
BEGIN:VEVENT
DTSTART;TZID=UTC:20240724T150000
DTEND;TZID=UTC:20240724T170000
DTSTAMP:20260424T111610
CREATED:20240718T104149Z
LAST-MODIFIED:20240718T104149Z
UID:10000318-1721833200-1721840400@akisportugal-qa.bymobinteg.com
SUMMARY:Webinar #LEADFARM 5.0
DESCRIPTION:O projeto #LEADFARM5.0 está a ser desenvolvido por um consórcio de entidades da Irlanda\, Suécia\, Letónia\, Polónia\, Itália\, Espanha e de Portugal\, de forma a acelerar a transição digital e adoção de competências digitais do setor agroalimentar\, particularmente nas cooperativas\, preparando-as para a futura Sociedade 5.0. \nO resultado dos últimos anos de trabalho é um programa inovador de formação online\, em formato assíncrono que permite que cada indivíduo realize a formação ao seu próprio ritmo e de acordo com a sua disponibilidade. \nAcreditando no enorme potencial e impacto que este programa terá no setor agroalimentar português\, a @CONFAGRI \, sendo a única entidade portuguesa a integrar este consórcio\, irá realizar um Webinar gratuito de apresentação do curso desenvolvido pelo projeto no próximo dia 24 de julho\, pelas 15h00\, convidando todos a participar e entender de que forma os conteúdos incorporados neste curso (tais como Big Data\, Internet das Coisas (IOT) e Inteligência Artificial) facilitarão a transição digital do setor. \nA participação nesta iniciativa é totalmente gratuita\, mediante inscrição prévia aqui.
URL:https://akisportugal-qa.bymobinteg.com/event/webinar-leadfarm-5-0/
LOCATION:Webinar
CATEGORIES:Webinar
ATTACH;FMTTYPE=image/png:https://akisportugal-qa.bymobinteg.com/wp-content/uploads/2024/07/Webinar_LF5.0.png
ORGANIZER;CN="Confagri | Confedera%C3%A7%C3%A3o Nacional das Cooperativas Agr%C3%ADcolas e do Cr%C3%A9dito Agr%C3%ADcola de Portugal":MAILTO:confagri@confagri.pt
END:VEVENT
END:VCALENDAR