BEGIN:VCALENDAR
VERSION:2.0
PRODID:-//AKIS PORTUGAL - ECPv6.15.15//NONSGML v1.0//EN
CALSCALE:GREGORIAN
METHOD:PUBLISH
X-ORIGINAL-URL:https://akisportugal-qa.bymobinteg.com
X-WR-CALDESC:Eventos para AKIS PORTUGAL
REFRESH-INTERVAL;VALUE=DURATION:PT1H
X-Robots-Tag:noindex
X-PUBLISHED-TTL:PT1H
BEGIN:VTIMEZONE
TZID:UTC
BEGIN:STANDARD
TZOFFSETFROM:+0000
TZOFFSETTO:+0000
TZNAME:UTC
DTSTART:20230101T000000
END:STANDARD
END:VTIMEZONE
BEGIN:VEVENT
DTSTART;TZID=UTC:20240701T150000
DTEND;TZID=UTC:20240701T180000
DTSTAMP:20260422T102123
CREATED:20240625T102644Z
LAST-MODIFIED:20240625T102749Z
UID:10000257-1719846000-1719856800@akisportugal-qa.bymobinteg.com
SUMMARY:“Conversas no MERCADO” Promovem Sistemas Alimentares Sustentáveis
DESCRIPTION:O projeto “Conversas no MERCADO\, Construindo Sistemas Alimentares Sustentáveis” visa desafiar a comunidade local de produtores e consumidores a dialogar sobre o universo alimentar local. O objetivo é criar modelos de proximidade que estimulem a economia local e tornem a venda\, o acesso e o consumo de produtos alimentares locais mais atrativos. \nAs sessões\, que serão realizadas no Mercado Municipal de Castelo Branco\, pretendem fomentar o diálogo e a colaboração entre os diversos atores da cadeia alimentar local. Durante o evento\, serão discutidos temas como a valorização do património alimentar local\, a identificação de desafios e oportunidades nos sistemas alimentares locais e a criação de estratégias para promover uma alimentação adequada para todos os habitantes do território. \nAs “Conversas no MERCADO” estão agendadas para os dias 1 e 8 de julho\, com sessões dedicadas a produtores e consumidores locais. “Estamos entusiasmados com a oportunidade de reunir diferentes partes interessadas para discutir e propor soluções que podem transformar os nossos sistemas alimentares locais”\, afirmou Christelle Domingos da InovCluster\, um dos parceiros do projeto Fusilli. \nO projeto Fusilli\, financiado pela União Europeia\, tem como principal promotor em Portugal a @CMCastelobranco \, que conta com a @InovCluster  e o @CATAA  como parceiros estratégicos na implementação do plano de ação do projeto. O projeto tem como objetivo a transformação dos sistemas alimentares urbanos e recebe financiamento do programa de investigação e inovação Horizonte 2020 da União Europeia. \nPara mais informações através do telefone: 272 001 160 ou via eletrónica: geral@inovcluster.pt. \nInscreva-se aqui
URL:https://akisportugal-qa.bymobinteg.com/event/conversas-no-mercado-promovem-sistemas-alimentares-sustentaveis/2024-07-01/
LOCATION:Mercado Municipal de Castelo Branco\, Av. 1 de Maio nº 91\, Castelo Branco\, 6000-086\, Portugal
CATEGORIES:Workshop
ATTACH;FMTTYPE=image/png:https://akisportugal-qa.bymobinteg.com/wp-content/uploads/2024/06/Banner_-_Reconquista.png
ORGANIZER;CN="C%C3%A2mara Municipal de Castelo Branco":MAILTO:camara@cm-castelobranco.pt
END:VEVENT
BEGIN:VEVENT
DTSTART;TZID=UTC:20240708T150000
DTEND;TZID=UTC:20240708T180000
DTSTAMP:20260422T102123
CREATED:20240625T102644Z
LAST-MODIFIED:20240625T102749Z
UID:10000258-1720450800-1720461600@akisportugal-qa.bymobinteg.com
SUMMARY:“Conversas no MERCADO” Promovem Sistemas Alimentares Sustentáveis
DESCRIPTION:O projeto “Conversas no MERCADO\, Construindo Sistemas Alimentares Sustentáveis” visa desafiar a comunidade local de produtores e consumidores a dialogar sobre o universo alimentar local. O objetivo é criar modelos de proximidade que estimulem a economia local e tornem a venda\, o acesso e o consumo de produtos alimentares locais mais atrativos. \nAs sessões\, que serão realizadas no Mercado Municipal de Castelo Branco\, pretendem fomentar o diálogo e a colaboração entre os diversos atores da cadeia alimentar local. Durante o evento\, serão discutidos temas como a valorização do património alimentar local\, a identificação de desafios e oportunidades nos sistemas alimentares locais e a criação de estratégias para promover uma alimentação adequada para todos os habitantes do território. \nAs “Conversas no MERCADO” estão agendadas para os dias 1 e 8 de julho\, com sessões dedicadas a produtores e consumidores locais. “Estamos entusiasmados com a oportunidade de reunir diferentes partes interessadas para discutir e propor soluções que podem transformar os nossos sistemas alimentares locais”\, afirmou Christelle Domingos da InovCluster\, um dos parceiros do projeto Fusilli. \nO projeto Fusilli\, financiado pela União Europeia\, tem como principal promotor em Portugal a @CMCastelobranco \, que conta com a @InovCluster  e o @CATAA  como parceiros estratégicos na implementação do plano de ação do projeto. O projeto tem como objetivo a transformação dos sistemas alimentares urbanos e recebe financiamento do programa de investigação e inovação Horizonte 2020 da União Europeia. \nPara mais informações através do telefone: 272 001 160 ou via eletrónica: geral@inovcluster.pt. \nInscreva-se aqui
URL:https://akisportugal-qa.bymobinteg.com/event/conversas-no-mercado-promovem-sistemas-alimentares-sustentaveis/2024-07-08/
LOCATION:Mercado Municipal de Castelo Branco\, Av. 1 de Maio nº 91\, Castelo Branco\, 6000-086\, Portugal
CATEGORIES:Workshop
ATTACH;FMTTYPE=image/png:https://akisportugal-qa.bymobinteg.com/wp-content/uploads/2024/06/Banner_-_Reconquista.png
ORGANIZER;CN="C%C3%A2mara Municipal de Castelo Branco":MAILTO:camara@cm-castelobranco.pt
END:VEVENT
END:VCALENDAR