BEGIN:VCALENDAR
VERSION:2.0
PRODID:-//AKIS PORTUGAL - ECPv6.15.15//NONSGML v1.0//EN
CALSCALE:GREGORIAN
METHOD:PUBLISH
X-WR-CALNAME:AKIS PORTUGAL
X-ORIGINAL-URL:https://akisportugal-qa.bymobinteg.com
X-WR-CALDESC:Eventos para AKIS PORTUGAL
REFRESH-INTERVAL;VALUE=DURATION:PT1H
X-Robots-Tag:noindex
X-PUBLISHED-TTL:PT1H
BEGIN:VTIMEZONE
TZID:UTC
BEGIN:STANDARD
TZOFFSETFROM:+0000
TZOFFSETTO:+0000
TZNAME:UTC
DTSTART:20230101T000000
END:STANDARD
END:VTIMEZONE
BEGIN:VEVENT
DTSTART;TZID=UTC:20240712T090000
DTEND;TZID=UTC:20240712T130000
DTSTAMP:20260423T170038
CREATED:20240620T081915Z
LAST-MODIFIED:20240620T081915Z
UID:10000254-1720774800-1720789200@akisportugal-qa.bymobinteg.com
SUMMARY:A Qualidade da Azeitona de Mesa
DESCRIPTION:Ação de formação gratuita sobre “A Qualidade da Azeitona de Mesa” \n12 de julho de 2024 | 09h00 às 13h00. \nInformações e inscrições aqui
URL:https://akisportugal-qa.bymobinteg.com/event/a-qualidade-da-azeitona-de-mesa/
LOCATION:ACOS – Agricultores do Sul\, Rua Cidade S. Paulo\, Apart. 296\, Beja\, Alentejo\, 7801-904\, Portugal
CATEGORIES:Ação de formação
ATTACH;FMTTYPE=image/jpeg:https://akisportugal-qa.bymobinteg.com/wp-content/uploads/2024/06/thumbnail_image002.jpg
ORGANIZER;CN="ACOS - Associa%C3%A7%C3%A3o de Agricultores do Sul":MAILTO:geral@acos.pt
END:VEVENT
BEGIN:VEVENT
DTSTART;TZID=UTC:20240719T140000
DTEND;TZID=UTC:20240719T170000
DTSTAMP:20260423T170038
CREATED:20240716T111626Z
LAST-MODIFIED:20240716T111626Z
UID:10000316-1721397600-1721408400@akisportugal-qa.bymobinteg.com
SUMMARY:COTHN - Webinar gratuito sobre inovação na previsão de pragas e doenças
DESCRIPTION:O Centro Operativo e Tecnológico Hortofrutícola Nacional (COTHN) realizará um webinar gratuito intitulado “Inovação nos modelos de previsão de pragas e doenças” no dia 19 de Julho de 2024\, às 14 horas\, através da plataforma Zoom. \nO evento permitirá aos participantes conhecer mais sobre projetos inovadores para a proteção das culturas\, incluindo a plataforma para a Monitorização da Xylella\, modelos preditivos na proteção da vinha\, e os projetos PestNu e Xloora. \nAlém disso\, o desenvolvimento tecnológico no campo das armadilhas inteligentes\, como a iSCOUT\, Trap-Eye e Smart Trap\, será debatido. Os participantes terão a oportunidade de fazer perguntas durante o webinar. \nConheça o programa completo aqui \nA participação é gratuita\, mas é necessária inscrição prévia. Inscreva-se aqui \nO link de acesso será disponibilizado para todos os inscritos na véspera do webinar.
URL:https://akisportugal-qa.bymobinteg.com/event/cothn-webinar-gratuito-sobre-inovacao-na-previsao-de-pragas-e-doencas/
LOCATION:Região Centro
CATEGORIES:Webinar
END:VEVENT
END:VCALENDAR