BEGIN:VCALENDAR
VERSION:2.0
PRODID:-//AKIS PORTUGAL - ECPv6.15.15//NONSGML v1.0//EN
CALSCALE:GREGORIAN
METHOD:PUBLISH
X-ORIGINAL-URL:https://akisportugal-qa.bymobinteg.com
X-WR-CALDESC:Eventos para AKIS PORTUGAL
REFRESH-INTERVAL;VALUE=DURATION:PT1H
X-Robots-Tag:noindex
X-PUBLISHED-TTL:PT1H
BEGIN:VTIMEZONE
TZID:UTC
BEGIN:STANDARD
TZOFFSETFROM:+0000
TZOFFSETTO:+0000
TZNAME:UTC
DTSTART:20220101T000000
END:STANDARD
END:VTIMEZONE
BEGIN:VEVENT
DTSTART;TZID=UTC:20231219T100000
DTEND;TZID=UTC:20231219T120000
DTSTAMP:20260424T092827
CREATED:20231212T152052Z
LAST-MODIFIED:20231212T152339Z
UID:10000092-1702980000-1702987200@akisportugal-qa.bymobinteg.com
SUMMARY:Ação de formação da plataforma AKIS Portugal
DESCRIPTION:Com o objetivo de capacitar os interessados na utilização da nova Plataforma AKIS Portugal\, vai se realizar no próximo dia 19 de dezembro\, das 10h00 às 12h00\, uma formação online dedicada a esta ferramenta\, cuja utilização é gratuita e universal. A plataforma AKIS Portugal está ao dispor dos agricultores e das entidades do setor e visa promover a transferência de conhecimentos agrícola e florestal\, em prol da inovação\, digitalização na agricultura e modernização das zonas rurais. \nA ação de formação é organizada Direção-Geral de Agricultura e Desenvolvimento Rural (DGADR)\, em cooperação com a NOVA Information Management School – NOVA IMS\, e dirige-se a todos os agentes do setor\, desde agricultores\, a consultores\, investigadores\, bem como associações\, empresas\, entidades de ensino e investigação\, entidades públicas e privadas\, e a todos os restantes interessados. \nA formação é realizada na modalidade e-learning em formato webinar\, através do MS Teams\, com uma duração estimada de 2 horas. \nOs interessados deverão inscrever-se atempadamente\, até ao final do dia 17 de dezembro\, através deste formulário. \nO link de acesso à sessão de formação será enviado a todos os inscritos no dia 18 de dezembro. \nA Plataforma AKIS Portugal tem um importante papel na criação de uma comunidade agrícola digital\, contando já com mais de 1200 membros ligados. Por ocasião do seu lançamento\, realizado em Lisboa no último dia 3 de novembro\, o âmbito desta plataforma e a sua utilização foram explicados detalhadamente pela equipa da NOVA IMS\, responsável pelo seu desenvolvimento (vídeo aqui). \nInscreva-se! Contamos com a sua participação!
URL:https://akisportugal-qa.bymobinteg.com/event/acao-de-formacao-da-plataforma-akis-portugal/
LOCATION:Online
CATEGORIES:Ação de capacitação,Webinar
ATTACH;FMTTYPE=image/png:https://akisportugal-qa.bymobinteg.com/wp-content/uploads/2023/12/akis-formacao.png
END:VEVENT
END:VCALENDAR