BEGIN:VCALENDAR
VERSION:2.0
PRODID:-//AKIS PORTUGAL - ECPv6.15.15//NONSGML v1.0//EN
CALSCALE:GREGORIAN
METHOD:PUBLISH
X-ORIGINAL-URL:https://akisportugal-qa.bymobinteg.com
X-WR-CALDESC:Eventos para AKIS PORTUGAL
REFRESH-INTERVAL;VALUE=DURATION:PT1H
X-Robots-Tag:noindex
X-PUBLISHED-TTL:PT1H
BEGIN:VTIMEZONE
TZID:UTC
BEGIN:STANDARD
TZOFFSETFROM:+0000
TZOFFSETTO:+0000
TZNAME:UTC
DTSTART:20220101T000000
END:STANDARD
END:VTIMEZONE
BEGIN:VEVENT
DTSTART;TZID=UTC:20231117T173000
DTEND;TZID=UTC:20231119T133000
DTSTAMP:20260424T073305
CREATED:20231114T155911Z
LAST-MODIFIED:20231114T160255Z
UID:10000073-1700242200-1700400600@akisportugal-qa.bymobinteg.com
SUMMARY:i-Danha Food Lab regressa a Idanha-a-Nova de 17 a 19 de novembro
DESCRIPTION:O i-Danha Food Lab\, evento anual dedicado ao setor agroalimentar\, regressa a Idanha-a-Nova de 17 a 19 de novembro. O evento\, que conta com a organização da BGI e do Município de Idanha-a-Nova\, tem como objetivo promover a inovação e o empreendedorismo no setor agroalimentar\, contribuindo para o desenvolvimento sustentável das zonas rurais. \nO i-Danha Food Lab é um evento gratuito e aberto a todos os interessados no setor agroalimentar. \nInscrições aqui \nSaiba mais aqui \n 
URL:https://akisportugal-qa.bymobinteg.com/event/i-danha-food-lab-regressa-a-idanha-a-nova-de-17-a-19-de-novembro/
LOCATION:Edifício Multifunções de Monsanto\, Avenida Fernando Ramos Rocha 17\, Monsanto\, Idanha-a-Nova\, 6060-091
CATEGORIES:Feira
ORGANIZER;CN="BGI":MAILTO:geral@bgi.pt
END:VEVENT
END:VCALENDAR