BEGIN:VCALENDAR
VERSION:2.0
PRODID:-//AKIS PORTUGAL - ECPv6.15.15//NONSGML v1.0//EN
CALSCALE:GREGORIAN
METHOD:PUBLISH
X-ORIGINAL-URL:https://akisportugal-qa.bymobinteg.com
X-WR-CALDESC:Eventos para AKIS PORTUGAL
REFRESH-INTERVAL;VALUE=DURATION:PT1H
X-Robots-Tag:noindex
X-PUBLISHED-TTL:PT1H
BEGIN:VTIMEZONE
TZID:UTC
BEGIN:STANDARD
TZOFFSETFROM:+0000
TZOFFSETTO:+0000
TZNAME:UTC
DTSTART:20230101T000000
END:STANDARD
END:VTIMEZONE
BEGIN:VEVENT
DTSTART;VALUE=DATE:20240320
DTEND;VALUE=DATE:20240322
DTSTAMP:20260424T001454
CREATED:20240226T155829Z
LAST-MODIFIED:20240226T155829Z
UID:10000156-1710892800-1711065599@akisportugal-qa.bymobinteg.com
SUMMARY:15º Concurso Nacional de Mel
DESCRIPTION:A FNAP\, em parceria com CNEMA e a Feira Nacional da Agricultura\, organiza a 15º edição do Concurso Nacional de Mel que decorrerá nos dias 20 e 21 de Março\, no Centro Nacional de Exposições\, em Santarém. \nAno após ano\, os méis trazidos a Concurso pelos produtores portugueses têm representado o que de melhor se faz na Apicultura nacional. A diversidade e a variedade dos méis premiados\, associada à sua qualidade\, tem permitido reconhecer o Concurso Nacional de Mel como a principal e mais destacada montra do Mel Português. \nEnquanto produto do Mundo Rural o mel reflete a riqueza ambiental e paisagística dos territórios e a vontade e resiliência das suas gentes. O Mel traz mais valias à economia local\, constituindo-se atualmente como um produto de valor acrescido nas exportações do setor agrícola. O mel é também um alimento natural que deve integrar uma alimentação saudável. \nA presente edição do Concurso irá avaliar o Mel nas categorias “Mel”\, “Mel proveniente de região insular: Açores e Madeira” e “Mel proveniente de Modo de Produção Biológico”. Em cada uma destas categorias\, o mel será classificado de acordo com a sua origem floral\, permitindo dessa maneira valorizar a diversidade e a riqueza dos méis portugueses. As origens florais consideradas são as seguintes: \n\nAlecrim (Rosmarinus officinalis)\nCastanheiro (Castanea sativa)\nEucalipto (Eucaliptus spp.)\nIncenso (Pittosporum undulatum)\nLaranjeira (Citrus spp.)\nMedronheiro (Arbutus unedo)\nRosmaninho (Lavandula spp)\nSoagem (Echium plantagineum)\nUrzes (Erica spp.)\nOutros monoflorais\, a especificar pelo concorrente.\nMel multifloral\n\nA edição de 2024 concederá quatro tipologias de prémios\, que correspondem aos seguintes níveis de reconhecimento da qualidade dos produtos: Platina\, Ouro\, Prata e Bronze. \n\nPlatina: mel de excecional qualidade que atende perfeitamente aos critérios de sua categoria. Esses méis são os dignos representantes de sua classe\, ou seja\, recolhem pontuações situadas no intervalo de [91 a 100] pontos;\nOuro: mel de altíssima qualidade que cumpre de forma destacada os critérios de sua categoria. Esses méis são os excelentes representantes de sua classe\, ou seja\, recolhem pontuações situadas no intervalo de [81 a 90] pontos;\nPrata: mel de alta qualidade que atende aos critérios de sua categoria\, existindo\, no entanto\, algumas pequenas imperfeições que não prejudicam o seu valor. Recolhem pontuações situadas no intervalo de [76 a 80] pontos;\nBronze: mel de qualidade que atende aos critérios de sua categoria. No entanto\, contém imperfeições que impedem que este mel se considere como um mel a destacar. Recolhem pontuações situadas no intervalo de [65 a 75] pontos.\n\nConheça aqui o Regulamento e aceda ao Boletim de Inscrição  do 15º Concurso Nacional de Mel\, também disponíveis no site da FNAP. \n@FNAP
URL:https://akisportugal-qa.bymobinteg.com/event/15o-concurso-nacional-de-mel/
LOCATION:CNEMA – Centro Nacional de Exposições\, Quinta das Cegonhas\, Apt. 331\, Santarém\, Portugal
CATEGORIES:Evento Geral
ATTACH;FMTTYPE=image/jpeg:https://akisportugal-qa.bymobinteg.com/wp-content/uploads/2024/02/420175651_796928145811330_3389240744976557212_n.jpg
ORGANIZER;CN="FNAP - Federa%C3%A7%C3%A3o Nacional dos Apicultores de Portugal":MAILTO:info@fnap.pt
END:VEVENT
END:VCALENDAR