BEGIN:VCALENDAR
VERSION:2.0
PRODID:-//AKIS PORTUGAL - ECPv6.15.15//NONSGML v1.0//EN
CALSCALE:GREGORIAN
METHOD:PUBLISH
X-WR-CALNAME:AKIS PORTUGAL
X-ORIGINAL-URL:https://akisportugal-qa.bymobinteg.com
X-WR-CALDESC:Eventos para AKIS PORTUGAL
REFRESH-INTERVAL;VALUE=DURATION:PT1H
X-Robots-Tag:noindex
X-PUBLISHED-TTL:PT1H
BEGIN:VTIMEZONE
TZID:UTC
BEGIN:STANDARD
TZOFFSETFROM:+0000
TZOFFSETTO:+0000
TZNAME:UTC
DTSTART:20230101T000000
END:STANDARD
END:VTIMEZONE
BEGIN:VEVENT
DTSTART;TZID=UTC:20240206T090000
DTEND;TZID=UTC:20240206T130000
DTSTAMP:20260424T084406
CREATED:20240205T114147Z
LAST-MODIFIED:20240205T114147Z
UID:10000123-1707210000-1707224400@akisportugal-qa.bymobinteg.com
SUMMARY:Conferência Final do Projeto NetPoulSafe: Apoiar a Biossegurança na Avicultura
DESCRIPTION:Após três anos de trabalho e networking em sete países europeus\, a equipa do projeto NetPoulSafe tem convida todos os interessados para a conferência final do projeto. O evento\, que se concentrará no apoio à biossegurança na avicultura\, será realizado online no dia 6 de fevereiro de 2024\, das 9h00 às 13h00 (UTC+1). \nEsta será uma oportunidade para aprender sobre as melhores medidas de apoio implementadas pelo projeto\, descobrir os materiais informativos\, vídeos e podcasts produzidos\, entre muitos outros resultados. \nPara participar gratuitamente no evento online\, os interessados podem se registar aqui \nPrograma da conferência aqui \nFolheto do projeto aqui
URL:https://akisportugal-qa.bymobinteg.com/event/conferencia-final-do-projeto-netpoulsafe-apoiar-a-biosseguranca-na-avicultura/
LOCATION:Online
CATEGORIES:Conferência
ATTACH;FMTTYPE=image/png:https://akisportugal-qa.bymobinteg.com/wp-content/uploads/2024/02/netpoulsafe-2.png
END:VEVENT
BEGIN:VEVENT
DTSTART;TZID=UTC:20240222T103000
DTEND;TZID=UTC:20240222T170000
DTSTAMP:20260424T084406
CREATED:20240205T111321Z
LAST-MODIFIED:20240205T111404Z
UID:10000118-1708597800-1708621200@akisportugal-qa.bymobinteg.com
SUMMARY:Conferência  "Plantar jardins - Enfrentar as alterações climáticas e promover a biodiversidade"
DESCRIPTION:A primeira oradora convidada da Conferência  “Plantar jardins -enfrentar as alterações climáticas e promover a biodiversidade” que irá decorrer na Lusoflora\,  é Assunção Cristas\, Professora da Nova School of Law e Sócia responsável pela área de prática Ambiente e Plataforma de Serviços Integrados ESG da VdA. \nDia 22 de fevereiro\, pelas 10.45h \, no auditório da Feira.\nSolicite convite aqui \n@apppfn
URL:https://akisportugal-qa.bymobinteg.com/event/conferencia-plantar-jardins-enfrentar-as-alteracoes-climaticas-e-promover-a-biodiversidade/
LOCATION:CNEMA – Centro Nacional de Exposições\, Quinta das Cegonhas\, Apt. 331\, Santarém\, Portugal
CATEGORIES:Conferência
ATTACH;FMTTYPE=image/png:https://akisportugal-qa.bymobinteg.com/wp-content/uploads/2024/02/assuncao.png
ORGANIZER;CN="Associa%C3%A7%C3%A3o Portuguesa de Produtores de Plantas e Flores Naturais":MAILTO:apppfn@sapo.pt
END:VEVENT
END:VCALENDAR