BEGIN:VCALENDAR
VERSION:2.0
PRODID:-//AKIS PORTUGAL - ECPv6.15.15//NONSGML v1.0//EN
CALSCALE:GREGORIAN
METHOD:PUBLISH
X-WR-CALNAME:AKIS PORTUGAL
X-ORIGINAL-URL:https://akisportugal-qa.bymobinteg.com
X-WR-CALDESC:Eventos para AKIS PORTUGAL
REFRESH-INTERVAL;VALUE=DURATION:PT1H
X-Robots-Tag:noindex
X-PUBLISHED-TTL:PT1H
BEGIN:VTIMEZONE
TZID:UTC
BEGIN:STANDARD
TZOFFSETFROM:+0000
TZOFFSETTO:+0000
TZNAME:UTC
DTSTART:20230101T000000
END:STANDARD
END:VTIMEZONE
BEGIN:VEVENT
DTSTART;TZID=UTC:20240522T140000
DTEND;TZID=UTC:20240522T173000
DTSTAMP:20260423T224013
CREATED:20240516T100331Z
LAST-MODIFIED:20240516T100331Z
UID:10000220-1716386400-1716399000@akisportugal-qa.bymobinteg.com
SUMMARY:Seminário “Transição Verde e Digital na Agricultura”
DESCRIPTION:“Transição Verde e Digital na Agricultura” é o tema do seminário que se realiza no próximo dia 22 de maio\, no auditório H1 da Escola Superior Agrária do Instituto Politécnico de Coimbra (ESAC-IPC)\, das 14h00 às 17h30. \nEste seminário surge no âmbito da candidatura da ESAC à submedida “Reforma e Modernização da Ciências Agrárias” do Programa Impulso Mais Digital e tem como principal objetivo mostrar como a transição verde e a transição digital são determinantes para a melhoria do desempenho do setor agrícola em Portugal\, contribuindo para a sua sustentabilidade social\, económica e ambiental. \nCom este seminário pretende-se ainda reforçar junto dos técnicos que atuam na área agrícola a importância de uma efetiva transição e da relevância da aquisição de competências necessárias para a avaliação e implementação de medidas a adotar nesse sentido. Além disso\, e considerando-se que só será possível preparar técnicos capacitados para modernizar o setor agrícola em Portugal\, através da inclusão nos planos de estudo das formações na área agrícola de conteúdos relacionados com os impactos ambientais da atividade agrícola e a sua redução\, a sustentabilidade nas suas diversas vertentes\, a automação e a utilização de ferramentas digitais\, o evento pretende gerar o debate em torno desta realidade e recolher contributos para a tão necessária e urgente mudança. \nPara este seminário estão convidados\, na qualidade de oradores\, Pedro Salema\, Presidente da Empresa de Desenvolvimento e Infraestrutura do Alqueva\, Manuel Chaveiro Soares\, do Grupo Valouro e Filipa Pato\, viticultora e enóloga na empresa Filipa Pato & William Wouters\, que irão falar sobre “A sustentabilidade na agricultura: competitividade para a preservação do futuro”. Estão igualmente convidados Isabel Damasceno Costa\, Presidente da Comissão de Coordenação e Desenvolvimento Regional do Centro e Fernando Alexandre\, Ministro da Educação\, Ciência e Inovação\, para a sessão de abertura e de encerramento\, respetivamente\, aguardando-se a sua confirmação. \nA inscrição no seminário é gratuita e aberta a qualquer interessado. \nPrograma aqui \nFonte:ESAC
URL:https://akisportugal-qa.bymobinteg.com/event/seminario-transicao-verde-e-digital-na-agricultura/
LOCATION:Escola Superior Agrária do Politécnico de Coimbra\, Coimbra\, Centro- Oeste\, 3045-601
CATEGORIES:Seminário
ATTACH;FMTTYPE=image/png:https://akisportugal-qa.bymobinteg.com/wp-content/uploads/2024/05/agraria-1.png
END:VEVENT
BEGIN:VEVENT
DTSTART;VALUE=DATE:20250419
DTEND;VALUE=DATE:20250420
DTSTAMP:20260423T224013
CREATED:20250404T102843Z
LAST-MODIFIED:20250404T102843Z
UID:10000469-1745020800-1745107199@akisportugal-qa.bymobinteg.com
SUMMARY:Formação em técnicas de multiplicação de plantas
DESCRIPTION:A Escola Superior Agrária do Politécnico de Coimbra (ESAC-IPC) irá lecionar\, no próximo dia 19 de abril\, uma microcredenciação em “Diferentes Técnicas de Multiplicar Plantas”. Filipe Melo é o formador. \nEsta microcredenciação\, de um total de 8 horas (1 ECTS)\, compreende conteúdos teóricos sobre identificação das principais técnicas de multiplicação nas plantas (seminal e vegetativo); épocas mais adequadas para executar as técnicas; estruturas das plantas usadas na multiplicação (sementes\, raízes\, caules\, folhas); como executar as diferentes técnicas de multiplicação\, ajustando-as: à planta\, à época e ao local; e como selecionar e usar estimulantes. Integra também uma componente prática\, que consistirá na observação: de diversas plantas da coleção do Mostruário Vivo da ESAC; e da execução prática das diferentes técnicas de multiplicação e da preparação de estimulantes de enraizamento. \nOs interessados em realizar esta formação devem inscrever-se em inforestudante.ipc.pt\, ou preencher a respetiva ficha de inscrição (disponível em https://www.esac.pt/index.php/estudar/cursos/microcredenciacoes/ e enviar a mesma para candidaturas@esac.pt\, até 15 de abril. \n 
URL:https://akisportugal-qa.bymobinteg.com/event/formacao-em-tecnicas-de-multiplicacao-de-plantas/
LOCATION:Escola Superior Agrária do Politécnico de Coimbra\, Coimbra\, Centro- Oeste\, 3045-601
CATEGORIES:Ação de formação
ATTACH;FMTTYPE=image/png:https://akisportugal-qa.bymobinteg.com/wp-content/uploads/2025/04/Curso-Multiplicacao-de-Plantas-2025_abr2025.png
END:VEVENT
BEGIN:VEVENT
DTSTART;VALUE=DATE:20250721
DTEND;VALUE=DATE:20250724
DTSTAMP:20260423T224013
CREATED:20250213T122213Z
LAST-MODIFIED:20250213T122213Z
UID:10000422-1753056000-1753315199@akisportugal-qa.bymobinteg.com
SUMMARY:XIII Congresso Ibérico de AgroEngenharia
DESCRIPTION:O Congresso Ibérico de Agroengenharia 2025 constitui uma referência no setor da engenharia rural e biossistemas\, reunindo especialistas\, investigadores\, estudantes e profissionais para a partilha de conhecimento\, debate de inovações e promoção do desenvolvimento científico e tecnológico. \nAs áreas temáticas são: \n\nAgricultura de Precisão e Digitalização\nSustentabilidade e Gestão de Recursos Naturais\nInovação em Máquinas e Tecnologias Agrícolas\nProdução Vegetal e Animal Sustentável\nProcessos Pós-colheita e Valorização de Produtos\n\nA participação no Congresso Ibérico de Agroengenharia 2025 oferece a oportunidade de divulgar e discutir avanços científicos e tecnológicos\, contribuindo para o progresso da agroengenharia. O evento proporciona ainda um ambiente propício para networking com investigadores e profissionais do setor\, além da participação em workshops\, palestras e mesas-redondas conduzidas por especialistas. O programa inclui também visitas técnicas\, permitindo uma abordagem prática e aprofundada dos temas em debate. \nPara mais detalhes\, consulte o site oficial do congresso. \nEmail: madalena.almeida@abreu.pt\nTelemóvel: +351 932 371 842 (chamada para a rede móvel nacional)
URL:https://akisportugal-qa.bymobinteg.com/event/xiii-congresso-iberico-de-agroengenharia/
LOCATION:Escola Superior Agrária do Politécnico de Coimbra\, Coimbra\, Centro- Oeste\, 3045-601
CATEGORIES:Congresso
ATTACH;FMTTYPE=image/png:https://akisportugal-qa.bymobinteg.com/wp-content/uploads/2025/02/agroengenharia.png
ORGANIZER;CN="InovTechAgro":MAILTO:geral@inovtechagro.pt
END:VEVENT
END:VCALENDAR