BEGIN:VCALENDAR
VERSION:2.0
PRODID:-//AKIS PORTUGAL - ECPv6.15.15//NONSGML v1.0//EN
CALSCALE:GREGORIAN
METHOD:PUBLISH
X-ORIGINAL-URL:https://akisportugal-qa.bymobinteg.com
X-WR-CALDESC:Eventos para AKIS PORTUGAL
REFRESH-INTERVAL;VALUE=DURATION:PT1H
X-Robots-Tag:noindex
X-PUBLISHED-TTL:PT1H
BEGIN:VTIMEZONE
TZID:UTC
BEGIN:STANDARD
TZOFFSETFROM:+0000
TZOFFSETTO:+0000
TZNAME:UTC
DTSTART:20220101T000000
END:STANDARD
END:VTIMEZONE
BEGIN:VEVENT
DTSTART;TZID=UTC:20231220T120000
DTEND;TZID=UTC:20231220T170000
DTSTAMP:20260424T065633
CREATED:20231218T165921Z
LAST-MODIFIED:20231218T165921Z
UID:10000096-1703073600-1703091600@akisportugal-qa.bymobinteg.com
SUMMARY:Ação de Informação “O Solo – Principal ativo dos agricultores e produtores florestais\, produtores de alimentos tendencialmente Bio”
DESCRIPTION:Saiba mais aqui. \n@CNJ
URL:https://akisportugal-qa.bymobinteg.com/event/acao-de-informacao-o-solo-principal-ativo-dos-agricultores-e-produtores-florestais-produtores-de-alimentos-tendencialmente-bio-2/
LOCATION:ADIRN – Associação para o Desenvolvimento Integrado do Ribatejo Norte\, Santarém\, Av. Gen. Bernardo Faria\, Tomar\, 2300-535\, Portugal
CATEGORIES:Ação de capacitação
ATTACH;FMTTYPE=image/png:https://akisportugal-qa.bymobinteg.com/wp-content/uploads/2023/12/CNJAP.png
ORGANIZER;CN="CNJAP - Confedera%C3%A7%C3%A3o Nacional dos Jovens Agricultores e do Desenvolvimento Rural":MAILTO:geral@cnjap.pt
END:VEVENT
BEGIN:VEVENT
DTSTART;TZID=UTC:20231221T120000
DTEND;TZID=UTC:20231221T170000
DTSTAMP:20260424T065633
CREATED:20231218T165542Z
LAST-MODIFIED:20231218T165542Z
UID:10000095-1703160000-1703178000@akisportugal-qa.bymobinteg.com
SUMMARY:Ação de Informação “O Solo – Principal ativo dos agricultores e produtores florestais\, produtores de alimentos tendencialmente Bio”
DESCRIPTION:Saiba mais aqui. \n@CNJ
URL:https://akisportugal-qa.bymobinteg.com/event/acao-de-informacao-o-solo-principal-ativo-dos-agricultores-e-produtores-florestais-produtores-de-alimentos-tendencialmente-bio/
LOCATION:Pinhal Maior – Associação de Desenvolvimento do Pinhal Interior Sul\, R. Dom Nuno Álvares Pereira N.º1\, Sertã\, 6100-654
CATEGORIES:Ação de capacitação
ATTACH;FMTTYPE=image/png:https://akisportugal-qa.bymobinteg.com/wp-content/uploads/2023/12/CNJAP.png
ORGANIZER;CN="CNJAP - Confedera%C3%A7%C3%A3o Nacional dos Jovens Agricultores e do Desenvolvimento Rural":MAILTO:geral@cnjap.pt
END:VEVENT
END:VCALENDAR