BEGIN:VCALENDAR
VERSION:2.0
PRODID:-//AKIS PORTUGAL - ECPv6.15.15//NONSGML v1.0//EN
CALSCALE:GREGORIAN
METHOD:PUBLISH
X-WR-CALNAME:AKIS PORTUGAL
X-ORIGINAL-URL:https://akisportugal-qa.bymobinteg.com
X-WR-CALDESC:Eventos para AKIS PORTUGAL
REFRESH-INTERVAL;VALUE=DURATION:PT1H
X-Robots-Tag:noindex
X-PUBLISHED-TTL:PT1H
BEGIN:VTIMEZONE
TZID:UTC
BEGIN:STANDARD
TZOFFSETFROM:+0000
TZOFFSETTO:+0000
TZNAME:UTC
DTSTART:20230101T000000
END:STANDARD
END:VTIMEZONE
BEGIN:VEVENT
DTSTART;TZID=UTC:20240702T113000
DTEND;TZID=UTC:20240702T170000
DTSTAMP:20260423T095830
CREATED:20240627T145606Z
LAST-MODIFIED:20240627T145606Z
UID:10000314-1719919800-1719939600@akisportugal-qa.bymobinteg.com
SUMMARY:UM DIA COM... André Martinho de Almeida | Algas e Microalgas como alternativas alimentares de suínos e aves
DESCRIPTION:No dia 2 de julho de 2024\, pelas 11h30\, o @CEBAL irá ter uma sessão da iniciativa “UM DIA COM…” em formato de Webinar através da plataforma Zoom.  \nTeremos como convidado André Martinho de Almeida\, Professor do Instituto Superior de Agronomia da Universidade de Lisboa\, com o tema da sessão: “Algas e Microalgas como alternativas na alimentação de suínos e aves: uma visão geral da investigação”. \nO tema da sessão visa abordar os principais resultados obtidos na investigação desenvolvida pelo convidado André Martinho de Almeida\, professor em ciência animal e nutrição da Universidade de Lisboa\, e pelo seu grupo de investigação\, relativamente ao uso de algas e microalgas na alimentação de monogástricos – suínos e aves – analisando os principais benefícios e limitações associados ao seu uso. \nAceda aqui para mais informações sobre o tema da sessão e o orador convidado.
URL:https://akisportugal-qa.bymobinteg.com/event/um-dia-com-andre-martinho-de-almeida-algas-e-microalgas-como-alternativas-alimentares-de-suinos-e-aves/
LOCATION:Webinar
CATEGORIES:Webinar
ATTACH;FMTTYPE=image/jpeg:https://akisportugal-qa.bymobinteg.com/wp-content/uploads/2024/06/cebal.jpg
END:VEVENT
END:VCALENDAR