BEGIN:VCALENDAR
VERSION:2.0
PRODID:-//AKIS PORTUGAL - ECPv6.15.15//NONSGML v1.0//EN
CALSCALE:GREGORIAN
METHOD:PUBLISH
X-ORIGINAL-URL:https://akisportugal-qa.bymobinteg.com
X-WR-CALDESC:Eventos para AKIS PORTUGAL
REFRESH-INTERVAL;VALUE=DURATION:PT1H
X-Robots-Tag:noindex
X-PUBLISHED-TTL:PT1H
BEGIN:VTIMEZONE
TZID:UTC
BEGIN:STANDARD
TZOFFSETFROM:+0000
TZOFFSETTO:+0000
TZNAME:UTC
DTSTART:20220101T000000
END:STANDARD
END:VTIMEZONE
BEGIN:VEVENT
DTSTART;VALUE=DATE:20230710
DTEND;VALUE=DATE:20230714
DTSTAMP:20260423T193141
CREATED:20230630T095129Z
LAST-MODIFIED:20230630T095140Z
UID:10000014-1688947200-1689292799@akisportugal-qa.bymobinteg.com
SUMMARY:Seminário Europeu sobre Extensão Educativa
DESCRIPTION:Está aberto o convite para a apresentação de resumos para o 26º Seminário Europeu sobre Extensão Educativa (SEEE)\, um seminário bienal sobre aconselhamento e educação agrícola que será realizado em Toulouse\, França\, entre os dias 10 e 13 de julho de 2023. O tema desta edução é “Transições sustentáveis da agricultura e a transformação da educação e dos serviços de aconselhamento: convergência ou divergência?”. \nO SEEE é tem reunido estudiosos\, conselheiros\, extensionistas e educadores desde 1973 com o objetivo de apoiar discussões entre ciência e prática\, estando por isso aberta a uma diversidade de contribuições\, tanto académicas como práticas. O seminário reúne e contrasta experiências de todos os países europeus\, mas também entre a Europa e outros contextos do Norte e do Sul global. \nAs comunicações realizam-se em 5 tópicos: \n\nTÓPICO 1 – Transições para a agroecologia e economia circular: Que agentes e abordagens de aconselhamento e de apoio à educação\, o que os impede?\nTÓPICO 2 – Digitalização dos serviços de aconselhamento e educação: quais são os efeitos da tecnologia digital nas práticas\, atores e organização do aconselhamento e da educação?\nTÓPICO 3 – Aprendizagem para a inovação e a resiliência: que desenvolvimentos teóricos e práticos (para formação\, aprendizagem ao longo da vida e educação de agricultores\, conselheiros\, professores e facilitadores)?\nTÓPICO 4 – Políticas públicas para a inovação e a governação do AKIS: como integrar o aconselhamento e a educação nas estratégias e no planeamento do AKIS?\nTÓPICO 5 – A inclusão e a dimensão social da sustentabilidade: (como) estas questões são reconhecidas no aconselhamento e na educação?\n\nPodem ser apresentados resumos alargados para um dos cinco tópicos acima e/ou propostas de sessões especiais. O prazo para a submissão é 17 de Fevereiro de 2023. \nO website inclui: uma descrição detalhada dos cinco tópicos; informação e modelos para apresentação de resumos; membros dos comités científicos e locais. Nas próximas semanas serão apresentadas mais informações sobre local e alojamento\, inscrição\, programa e oradores principais.
URL:https://akisportugal-qa.bymobinteg.com/event/seminario-europeu-sobre-extensao-educativa/
LOCATION:Toulouse\, França\, Toulouse\, França
CATEGORIES:Seminário
ATTACH;FMTTYPE=image/jpeg:https://akisportugal-qa.bymobinteg.com/wp-content/uploads/2023/06/SEEE_seminario.jpg
END:VEVENT
BEGIN:VEVENT
DTSTART;VALUE=DATE:20240902
DTEND;VALUE=DATE:20240907
DTSTAMP:20260423T193141
CREATED:20230629T144244Z
LAST-MODIFIED:20230629T144244Z
UID:10000013-1725235200-1725667199@akisportugal-qa.bymobinteg.com
SUMMARY:X Congresso Internacional de Agroecologia
DESCRIPTION:O X Congresso Internacional de Agroecologia\, um evento de destaque no calendário agrícola global\, irá realizar-se de 2 a 6 de setembro de 2024. Com um foco especial na transição para sistemas alimentares sustentáveis\, esta conferência reunirá especialistas e profissionais do setor para compartilhar conhecimentos e experiências agroecológicas\, promovendo o debate e o consenso sobre os princípios fundamentais das agroecologias ao redor do mundo. \nSaiba mais aqui.
URL:https://akisportugal-qa.bymobinteg.com/event/x-congresso-internacional-de-agroecologia/
LOCATION:Viseu\, Viseu\, Portugal
CATEGORIES:Congresso
ATTACH;FMTTYPE=image/png:https://akisportugal-qa.bymobinteg.com/wp-content/uploads/2023/06/x.png
END:VEVENT
END:VCALENDAR