BEGIN:VCALENDAR
VERSION:2.0
PRODID:-//AKIS PORTUGAL - ECPv6.15.15//NONSGML v1.0//EN
CALSCALE:GREGORIAN
METHOD:PUBLISH
X-ORIGINAL-URL:https://akisportugal-qa.bymobinteg.com
X-WR-CALDESC:Eventos para AKIS PORTUGAL
REFRESH-INTERVAL;VALUE=DURATION:PT1H
X-Robots-Tag:noindex
X-PUBLISHED-TTL:PT1H
BEGIN:VTIMEZONE
TZID:UTC
BEGIN:STANDARD
TZOFFSETFROM:+0000
TZOFFSETTO:+0000
TZNAME:UTC
DTSTART:20220101T000000
END:STANDARD
END:VTIMEZONE
BEGIN:VEVENT
DTSTART;VALUE=DATE:20231101
DTEND;VALUE=DATE:20231102
DTSTAMP:20260421T232208
CREATED:20230704T103036Z
LAST-MODIFIED:20230704T103703Z
UID:10000017-1698796800-1698883199@akisportugal-qa.bymobinteg.com
SUMMARY:Formação Cereais Outono / Inverno 2023/2024
DESCRIPTION:A ANPOC\, o INIAV e o IP-BEJA estão a organizar a 7ª Edição da Formação Técnica de Cereais que tem como publico alvo agricultores\, técnicos agrícolas e qualquer pessoa que deseje ter uma maior especialização nesta área agrícola. \nO que se pretende é uma Formação essencialmente prática que se vai desenrolar em 7 sessões diárias ao longo do ciclo agrícola da cultura dos cereais de Outono Inverno onde iremos acompanhar duas parcelas agrícolas representativas desta nossa realidade agrícola – Ver FolhetoFormacao_23_24_com_folha_rosto
URL:https://akisportugal-qa.bymobinteg.com/event/formacao-cereais-outono-inverno-2023-2024/
CATEGORIES:Formação
ATTACH;FMTTYPE=image/jpeg:https://akisportugal-qa.bymobinteg.com/wp-content/uploads/2023/07/Formacao_FB23_24_reduce80.jpg
ORGANIZER;CN="ANPOC":MAILTO:geral@anpoc.pt
END:VEVENT
END:VCALENDAR