BEGIN:VCALENDAR
VERSION:2.0
PRODID:-//AKIS PORTUGAL - ECPv6.15.15//NONSGML v1.0//EN
CALSCALE:GREGORIAN
METHOD:PUBLISH
X-WR-CALNAME:AKIS PORTUGAL
X-ORIGINAL-URL:https://akisportugal-qa.bymobinteg.com
X-WR-CALDESC:Eventos para AKIS PORTUGAL
REFRESH-INTERVAL;VALUE=DURATION:PT1H
X-Robots-Tag:noindex
X-PUBLISHED-TTL:PT1H
BEGIN:VTIMEZONE
TZID:UTC
BEGIN:STANDARD
TZOFFSETFROM:+0000
TZOFFSETTO:+0000
TZNAME:UTC
DTSTART:20220101T000000
END:STANDARD
END:VTIMEZONE
BEGIN:VEVENT
DTSTART;TZID=UTC:20231117T100000
DTEND;TZID=UTC:20231117T130000
DTSTAMP:20260421T153255
CREATED:20231114T150308Z
LAST-MODIFIED:20231114T150308Z
UID:10000072-1700215200-1700226000@akisportugal-qa.bymobinteg.com
SUMMARY:Lamego recebe sessão de esclarecimentos sobre agricultura circular
DESCRIPTION:O projeto Rural On – Agricultura Conectada\, promovido pela APPITAD em parceria com o MORE CoLAB\, vai realizar uma sessão de esclarecimentos sobre a problemática da agricultura circular na cidade de Lamego\, no próximo dia 17 de novembro\, sexta-feira. \nA sessão terá lugar na Sala Conferências do Centro Multiusos de Lamego\, a partir das 10h00\, e contará com a presença de representantes de várias entidades ligadas à agricultura\, incluindo o Município de Lamego\, a Sociedade Agrícola e Comercial do Varosa\, a BioTedo\, a Regiefrutas/OPAV\, o MORE CoLAB\, a APPITAD\, a ApavDouro e a CVR Távora-Varosa. \nO programa da sessão inclui as seguintes apresentações: \n\nSessão de abertura com Francisco Lopes\, presidente da Câmara Municipal de Lamego\, e Albino Bento\, coordenador do MORE CoLAB;\n“Caves Murganheira – percursos da agricultura circular na fileira do vinho”\, por Marta Lourenço\, da Sociedade Agrícola e Comercial do Varosa;\n“Papel da Bio-Região na agricultura circular”\, por Marco Souto\, da BioTedo;\n“Agricultura circular na fileira da Baga de Sabugueiro”\, por Edite Macedo\, da Regiefrutas/OPAV;\nMesa-redonda sobre os desafios para a agricultura circular no Távora-Varosa\, com Albino Bento\, André Gouveia\, produtor de maçã\, Francisco Ataíde Pavão\, presidente da APPITAD\, Filipe Lima\, presidente da ApavDouro\, e José Pereira\, presidente da CVR Távora-Varosa.\n\nA sessão é gratuita e aberta a todos os interessados em saber mais sobre a agricultura circular. As inscrições podem ser feitas aqui. \nA agricultura circular é uma abordagem à agricultura que visa reduzir o desperdício de recursos e promover a sustentabilidade. Esta abordagem tem como objetivo criar sistemas agrícolas que sejam mais eficientes no uso de recursos\, como água\, energia e nutrientes\, e que sejam menos poluentes. \nA sessão de esclarecimentos em Lamego pretende dar a conhecer as vantagens da agricultura circular e promover a sua adoção por parte dos agricultores da região.
URL:https://akisportugal-qa.bymobinteg.com/event/lamego-recebe-sessao-de-esclarecimentos-sobre-agricultura-circular/
LOCATION:Centro Multiusos de Lamego\, Largo da Feira\, Lamego\, 5100-190\, Portugal
CATEGORIES:Sessão informativa
ORGANIZER;CN="APPITAD":MAILTO:formacao@appitad.pt
END:VEVENT
END:VCALENDAR