BEGIN:VCALENDAR
VERSION:2.0
PRODID:-//AKIS PORTUGAL - ECPv6.15.15//NONSGML v1.0//EN
CALSCALE:GREGORIAN
METHOD:PUBLISH
X-ORIGINAL-URL:https://akisportugal-qa.bymobinteg.com
X-WR-CALDESC:Eventos para AKIS PORTUGAL
REFRESH-INTERVAL;VALUE=DURATION:PT1H
X-Robots-Tag:noindex
X-PUBLISHED-TTL:PT1H
BEGIN:VTIMEZONE
TZID:UTC
BEGIN:STANDARD
TZOFFSETFROM:+0000
TZOFFSETTO:+0000
TZNAME:UTC
DTSTART:20240101T000000
END:STANDARD
END:VTIMEZONE
BEGIN:VEVENT
DTSTART;TZID=UTC:20250121T093000
DTEND;TZID=UTC:20250121T123000
DTSTAMP:20260423T222047
CREATED:20250113T102247Z
LAST-MODIFIED:20250113T102908Z
UID:10000402-1737451800-1737462600@akisportugal-qa.bymobinteg.com
SUMMARY:Workshop em agricultura sustentável: bactérias como agentes no crescimento de plantas e controlo de nemátodes fitoparasitas
DESCRIPTION:No próximo dia 21 de janeiro de 2025\, Alcobaça será palco de um evento inovador no campo da agricultura sustentável. O “Workshop em agricultura sustentável: bactérias como agentes no crescimento de plantas e controlo de nemátodes fitoparasitas” terá lugar no Auditório da Associação de Beneficiários da Cela\, das 9h30 às 12h30. \nPromovido pela Universidade de Coimbra\, em parceria com o projeto SIRAM (Sustainable Innovations for Regenerative Agriculture in the Mediterranean Area)\, o workshop tem como objetivo explorar o papel crucial das bactérias no desenvolvimento das plantas e no combate a pragas agrícolas\, como os nemátodes fitoparasitas. Este evento conta ainda com o apoio do Município de Alcobaça\, da Associação de Beneficiários da Cela\, do COTHN\, do INIAV e da Porbatata. \nA participação é gratuita\, mas as vagas são limitadas\, sendo necessária inscrição prévia. Os interessados podem inscrever-se através do link disponibilizado pela organização – aqui \nConsulte o programa aqui
URL:https://akisportugal-qa.bymobinteg.com/event/workshop-em-agricultura-sustentavel-bacterias-como-agentes-no-crescimento-de-plantas-e-controlo-de-nematodes-fitoparasitas/
LOCATION:Associação de Benificiários da CELA\, Caminho das Geiras 179\, Alcobaça\, 2460-302\, Portugal
CATEGORIES:Workshop
ORGANIZER;CN="Associa%C3%A7%C3%A3o de Benifici%C3%A1rios da CELA":MAILTO:abcela.bombagem@gmail.com
END:VEVENT
END:VCALENDAR