BEGIN:VCALENDAR
VERSION:2.0
PRODID:-//AKIS PORTUGAL - ECPv6.15.15//NONSGML v1.0//EN
CALSCALE:GREGORIAN
METHOD:PUBLISH
X-ORIGINAL-URL:https://akisportugal-qa.bymobinteg.com
X-WR-CALDESC:Eventos para AKIS PORTUGAL
REFRESH-INTERVAL;VALUE=DURATION:PT1H
X-Robots-Tag:noindex
X-PUBLISHED-TTL:PT1H
BEGIN:VTIMEZONE
TZID:UTC
BEGIN:STANDARD
TZOFFSETFROM:+0000
TZOFFSETTO:+0000
TZNAME:UTC
DTSTART:20240101T000000
END:STANDARD
END:VTIMEZONE
BEGIN:VEVENT
DTSTART;TZID=UTC:20250221T180000
DTEND;TZID=UTC:20250221T220000
DTSTAMP:20260419T120213
CREATED:20250212T115541Z
LAST-MODIFIED:20250212T115541Z
UID:10000409-1740160800-1740175200@akisportugal-qa.bymobinteg.com
SUMMARY:Workshop “Boas Práticas de Segurança e Saúde no Trabalho Apícola”
DESCRIPTION:No âmbito da ação da Operação – 2.1.4 – Ações de informação – PDR2020-214-102592 – Capacitação dos Produtores\, a AALBA – Cooperativa de Produtores de Mel\, CRL vai realizar um Workshop “Boas Práticas de Segurança e Saúde no Trabalho Apícola” (anexo)\, no dia 21 de fevereiro de 2025\, na sede da AALBA – Cooperativa de Produtores de Mel\, CRL. \nFormato: Presencial \nData: 21 de fevereiro de 2025 \nHorário: 18h00 –22h00 \nLocal: Rua das Flores nº815\, Zona Industrial Ponte da Pedra\, 2415-181 Regueira de Pontes (Leiria) \nInscrição gratuita mas obrigatória até dia 20 de fevereiro (vagas limitadas) \nFormulário de inscrição: https://forms.gle/tAXNTYXJZqQEEtrHA \n  \n 
URL:https://akisportugal-qa.bymobinteg.com/event/workshop-boas-praticas-de-seguranca-e-saude-no-trabalho-apicola-2/
LOCATION:AALBA – Cooperativa de Produtores de Mel\, CRL\, Rua das Flores nº815\, Zona Industrial Ponte da Pedra\,\, Leiria\, Leiria\, 2415-181 Regueira de Pontes\, Portugal
CATEGORIES:Workshop
ATTACH;FMTTYPE=image/png:https://akisportugal-qa.bymobinteg.com/wp-content/uploads/2025/02/wkshop-apicola.png
ORGANIZER;CN="AALBA %E2%80%93 Cooperativa de Produtores de Mel%2C CRL":MAILTO:geral@aalba.pt
END:VEVENT
BEGIN:VEVENT
DTSTART;TZID=UTC:20250228T140000
DTEND;TZID=UTC:20250228T180000
DTSTAMP:20260419T120213
CREATED:20250213T120026Z
LAST-MODIFIED:20250213T120026Z
UID:10000419-1740751200-1740765600@akisportugal-qa.bymobinteg.com
SUMMARY:4º Workshop do Projeto BROILERNET: O Futuro do Mercado da Carne de Frango em Portugal
DESCRIPTION:No próximo dia 28 de fevereiro\, a Faculdade de Medicina Veterinária da Universidade de Lisboa (FMV ULisboa) será palco do 4º workshop presencial do projeto BROILERNET\, marcando o início do seu 3º e último ciclo. \nSob o tema “Que mercado para a carne de frango?”\, o evento reunirá especialistas\, produtores e consumidores para discutir as tendências do setor avícola em Portugal. \n\nApresentação da “Daroeira” – Um caso de sucesso em Economia Circular aplicada à produção de frango.\nNovo conceito comercial “Frango da Quinta” – Uma iniciativa inovadora do Pingo Doce.\nEstudo de Mercado – Resultados de uma pesquisa conduzida pela FMV ULisboa sobre os consumidores de carne de frango em Portugal.\nMesa Redonda – Debate sobre a realidade e as tendências do consumo de carne de frango no país.\n\nO evento iniciar-se-á com uma apresentação sobre o estado atual do projeto BROILERNET em Portugal\, incluindo o seu calendário e programa para 2025/2026. \nA participação é gratuita\, mas requer inscrição prévia. Os interessados devem confirmar presença através do email broilernet.pt@gmail.com\, indicando o nome e entidade do participante. \nNão perca esta oportunidade de estar a par das tendências do mercado avícola em Portugal. \nConheça o programa aqui.
URL:https://akisportugal-qa.bymobinteg.com/event/4o-workshop-do-projeto-broilernet-o-futuro-do-mercado-da-carne-de-frango-em-portugal/
LOCATION:Faculdade de Medicina Veterinária – Universidade de Lisboa\, Av. Universidade Técnica\, Lisboa\, Lisboa\, 1300-477\, Portugal
CATEGORIES:Workshop
ATTACH;FMTTYPE=image/jpeg:https://akisportugal-qa.bymobinteg.com/wp-content/uploads/2025/02/BroilerNet-logo-Definitief-17-Okt.-2022-GROOT-scaled-1.jpg
ORGANIZER;CN="Faculdade de Medicina Veterin%C3%A1ria da Universidade de Lisboa":MAILTO:broilernet.pt@gmail.com
END:VEVENT
END:VCALENDAR