BEGIN:VCALENDAR
VERSION:2.0
PRODID:-//AKIS PORTUGAL - ECPv6.15.15//NONSGML v1.0//EN
CALSCALE:GREGORIAN
METHOD:PUBLISH
X-ORIGINAL-URL:https://akisportugal-qa.bymobinteg.com
X-WR-CALDESC:Eventos para AKIS PORTUGAL
REFRESH-INTERVAL;VALUE=DURATION:PT1H
X-Robots-Tag:noindex
X-PUBLISHED-TTL:PT1H
BEGIN:VTIMEZONE
TZID:UTC
BEGIN:STANDARD
TZOFFSETFROM:+0000
TZOFFSETTO:+0000
TZNAME:UTC
DTSTART:20230101T000000
END:STANDARD
END:VTIMEZONE
BEGIN:VEVENT
DTSTART;TZID=UTC:20240402T090000
DTEND;TZID=UTC:20240402T130000
DTSTAMP:20260422T025102
CREATED:20240314T101712Z
LAST-MODIFIED:20240401T140652Z
UID:10000178-1712048400-1712062800@akisportugal-qa.bymobinteg.com
SUMMARY:Workshop - Tecnologia Aqua4D® para o tratamento de águas agrícolas
DESCRIPTION:No âmbito do projeto H20Efficient financiado pela Fundação Calouste Gulbenkian e com o apoio do e Município de Alcobaça\, vai ser realizado um Workshop sobre a Tecnologia Aqua4D® para o tratamento de águas agrícolas. A apresentação desta tecnologia terá lugar no dia 2 de abril de 2024\, no Auditório Adães Bermudes em Alcobaça e será um evento misto\, presencial e online. \nPara além da apresentação do Aqua4D® e da demonstração dos resultados que podem ser obtidos com esta tecnologia\, teremos também o testemunho e experiência de organizações que já utilizam este sistema nas suas explorações. \nInscreva-se: aqui \nConsulte o programa aqui
URL:https://akisportugal-qa.bymobinteg.com/event/workshop-tecnologia-aqua4d-para-o-tratamento-de-aguas-agricolas/
LOCATION:Auditório Adães Bermudes\, R. Dom Afonso de Albuquerque 24\, Alcobaça\, Alcobaça\, 2460-020\, Portugal
CATEGORIES:Ação de capacitação,Ação de formação,Palestra,Sessão informativa
ORGANIZER;CN="COTHN":MAILTO:geral@cothn.pt
END:VEVENT
BEGIN:VEVENT
DTSTART;TZID=UTC:20240430T093000
DTEND;TZID=UTC:20240430T103000
DTSTAMP:20260422T025102
CREATED:20240416T085543Z
LAST-MODIFIED:20240416T085543Z
UID:10000203-1714469400-1714473000@akisportugal-qa.bymobinteg.com
SUMMARY:Ações ACOS – PDR2020 | 40ª OVIBEJA
DESCRIPTION:Pavilhão de Inovação e Tecnologia \n30 de Abril | 9.30h – “Vantagens da utilização de sistemas inteligentes de rega” \n30 de Abril | 14.30h – “Conservação do solo” \n1 de Maio | 15h – “Utilização de drones na agricultura” \n2 de Maio | 9.30 – “Geolocalização na pecuária” \nInscreva-se aqui.
URL:https://akisportugal-qa.bymobinteg.com/event/acoes-acos-pdr2020-40a-ovibeja/2024-04-30/1/
LOCATION:Ovibeja\, R. Cidade de São Paulo 36\, Beja\, Alentejo\, 7809\, Portugal
CATEGORIES:Sessão informativa
ATTACH;FMTTYPE=image/jpeg:https://akisportugal-qa.bymobinteg.com/wp-content/uploads/2024/04/ovi1.jpg
ORGANIZER;CN="ACOS - Associa%C3%A7%C3%A3o de Agricultores do Sul":MAILTO:geral@acos.pt
END:VEVENT
BEGIN:VEVENT
DTSTART;TZID=UTC:20240430T143000
DTEND;TZID=UTC:20240430T153000
DTSTAMP:20260422T025102
CREATED:20240416T085543Z
LAST-MODIFIED:20240416T085543Z
UID:10000204-1714487400-1714491000@akisportugal-qa.bymobinteg.com
SUMMARY:Ações ACOS – PDR2020 | 40ª OVIBEJA
DESCRIPTION:Pavilhão de Inovação e Tecnologia \n30 de Abril | 9.30h – “Vantagens da utilização de sistemas inteligentes de rega” \n30 de Abril | 14.30h – “Conservação do solo” \n1 de Maio | 15h – “Utilização de drones na agricultura” \n2 de Maio | 9.30 – “Geolocalização na pecuária” \nInscreva-se aqui.
URL:https://akisportugal-qa.bymobinteg.com/event/acoes-acos-pdr2020-40a-ovibeja/2024-04-30/2/
LOCATION:Ovibeja\, R. Cidade de São Paulo 36\, Beja\, Alentejo\, 7809\, Portugal
CATEGORIES:Sessão informativa
ATTACH;FMTTYPE=image/jpeg:https://akisportugal-qa.bymobinteg.com/wp-content/uploads/2024/04/ovi1.jpg
ORGANIZER;CN="ACOS - Associa%C3%A7%C3%A3o de Agricultores do Sul":MAILTO:geral@acos.pt
END:VEVENT
END:VCALENDAR