BEGIN:VCALENDAR
VERSION:2.0
PRODID:-//AKIS PORTUGAL - ECPv6.15.15//NONSGML v1.0//EN
CALSCALE:GREGORIAN
METHOD:PUBLISH
X-ORIGINAL-URL:https://akisportugal-qa.bymobinteg.com
X-WR-CALDESC:Eventos para AKIS PORTUGAL
REFRESH-INTERVAL;VALUE=DURATION:PT1H
X-Robots-Tag:noindex
X-PUBLISHED-TTL:PT1H
BEGIN:VTIMEZONE
TZID:UTC
BEGIN:STANDARD
TZOFFSETFROM:+0000
TZOFFSETTO:+0000
TZNAME:UTC
DTSTART:20240101T000000
END:STANDARD
END:VTIMEZONE
BEGIN:VEVENT
DTSTART;VALUE=DATE:20250307
DTEND;VALUE=DATE:20250309
DTSTAMP:20260421T214603
CREATED:20250227T124404Z
LAST-MODIFIED:20250227T124404Z
UID:10000450-1741305600-1741478399@akisportugal-qa.bymobinteg.com
SUMMARY:Jornadas de Reprodução Animal
DESCRIPTION:Conheça aqui o programa.
URL:https://akisportugal-qa.bymobinteg.com/event/jornadas-de-reproducao-animal/
LOCATION:Vila Real\, Vila Real\, 5000
CATEGORIES:Jornadas
ATTACH;FMTTYPE=image/png:https://akisportugal-qa.bymobinteg.com/wp-content/uploads/2025/02/jornadas-reproducao-750x375-1.png
END:VEVENT
BEGIN:VEVENT
DTSTART;VALUE=DATE:20250313
DTEND;VALUE=DATE:20250315
DTSTAMP:20260421T214603
CREATED:20250226T151637Z
LAST-MODIFIED:20250226T151650Z
UID:10000442-1741824000-1741996799@akisportugal-qa.bymobinteg.com
SUMMARY:Jornadas Mundo Rural: água\, ecossistemas e agrofloresta em destaque - Alcoutim
DESCRIPTION:Nos dias 13 e 14 de março de 2025\, o Espaço Guadiana em Alcoutim será palco das Jornadas Mundo Rural\, um evento dedicado a temas cruciais como água\, ecossistemas e agrofloresta. \nOrganizado por: Câmara Municipal de Alcoutim\, Câmara Municipal de Mértola e Associação Cumeadas\, o evento promete reunir especialistas e interessados para discutir e promover práticas sustentáveis no meio rural. \nOs participantes terão a oportunidade de explorar diversas abordagens e soluções inovadoras para a gestão da água\, a preservação dos ecossistemas e o desenvolvimento da agrofloresta. Além disso\, o evento contará com palestras\, workshops e momentos de networking\, proporcionando um ambiente propício para a troca de conhecimentos e experiências. \nConsulte o programa aqui \nPara mais informações e inscrições aceda aqui
URL:https://akisportugal-qa.bymobinteg.com/event/jornadas-mundo-rural-agua-ecossistemas-e-agrofloresta-em-destaque-alcoutim/
CATEGORIES:Jornadas
ATTACH;FMTTYPE=image/png:https://akisportugal-qa.bymobinteg.com/wp-content/uploads/2025/02/Jornadas_do_Mundo_Rural2.png
END:VEVENT
BEGIN:VEVENT
DTSTART;VALUE=DATE:20250314
DTEND;VALUE=DATE:20250316
DTSTAMP:20260421T214603
CREATED:20250227T103837Z
LAST-MODIFIED:20250227T103837Z
UID:10000444-1741910400-1742083199@akisportugal-qa.bymobinteg.com
SUMMARY:16.ª edição das Jornadas Internacionais Hospital Veterinário Muralha de Évora
DESCRIPTION:“Todas as Inovações da Agropecuária e Equinicultura. Uma visão global sobre os sectores da veterinária de animais de produção\, agropecuária extensiva e equinicultura. A 16.ª Edição das Jornadas Internacionais Hospital Veterinário Muralha de Évora vai realizar-se nos dias 14 e 15 de março de 2025\, no Hotel Vila Galé Évora e irá incluir um concurso de pósteres científicos e de comunicações orais.” \nMais informações no site da Voz do Campo \n 
URL:https://akisportugal-qa.bymobinteg.com/event/16-a-edicao-das-jornadas-internacionais-hospital-veterinario-muralha-de-evora/
LOCATION:Hotel Vila Galé Évora\, Avenida Túlio Espanca\, Évora\, Alentejo\, 7005-840
CATEGORIES:Jornadas
ATTACH;FMTTYPE=image/png:https://akisportugal-qa.bymobinteg.com/wp-content/uploads/2025/02/16.a-edicao-das-Jornadas-Internacionais-Hospital-Veterinario-Muralha-de-Evora-1536x636-1.png
END:VEVENT
BEGIN:VEVENT
DTSTART;TZID=UTC:20250524T123000
DTEND;TZID=UTC:20250524T170000
DTSTAMP:20260421T214603
CREATED:20250521T075242Z
LAST-MODIFIED:20250521T075242Z
UID:10000481-1748089800-1748106000@akisportugal-qa.bymobinteg.com
SUMMARY:Jornadas Técnicas dedicadas ao «O uso eficiente da água de rega no olival»
DESCRIPTION:Jornadas Técnicas dedicadas ao «O uso eficiente da água de rega no olival»\, no dia 24 de maio\, às 09:30h\, no Centro Cultural de Campo Maior. \n\n\nPoderá estacionar junto ao Centro Cultural de Campo Maior\, sendo a localização: Centro Cultural de Campo Maior \n\n\nInformamos\, ainda\, que a melhor hora de chegada será entre as 8h45 e as 9h15. \n\n\nA participação é gratuita\, mas sujeita a inscrição obrigatória através do formulário. \nEm anexo\, o programa das Jornadas Técnicas
URL:https://akisportugal-qa.bymobinteg.com/event/jornadas-tecnicas-dedicadas-ao-o-uso-eficiente-da-agua-de-rega-no-olival/
CATEGORIES:Jornadas
ORGANIZER;CN="Centro de Estudos e Promo%C3%A7%C3%A3o do Azeite do Alentejo":MAILTO:cepaal@azeitedoalentejo.pt
END:VEVENT
BEGIN:VEVENT
DTSTART;VALUE=DATE:20250902
DTEND;VALUE=DATE:20250903
DTSTAMP:20260421T214603
CREATED:20250918T134124Z
LAST-MODIFIED:20250918T134124Z
UID:10000503-1756771200-1756857599@akisportugal-qa.bymobinteg.com
SUMMARY:Jornada Técnica sobre Sanidade em Pinhal-bravo realiza-se a 2 de setembro na Herdade da Comporta
DESCRIPTION:A Herdade da Comporta\, em Alcácer do Sal\, recebe no próximo dia 2 de setembro de 2025\, entre as 09h00 e as 17h00\, uma Jornada Técnica e Visita de Campo dedicada à Sanidade em Pinhal-bravo. \nA iniciativa é promovida pela ANSUB\, em parceria com o Centro de Competências do Pinhal Bravo (CCPB)\, o Centro Pinus e a UNAC\, contando ainda com a colaboração da Herdade da Comporta e do INIAV. \nO programa integra um conjunto de sessões técnicas com especialistas reconhecidos na área: \n\nLuís Bonifácio (INIAV) – Caracterização da doença da murchidão do pinheiro: contexto nacional e internacional;\nLurdes Inácio (INIAV) – Caracterização do nemátodo da madeira do pinheiro;\nLuís Caparica (ex-ICNF) – Estratégias de controlo.\n\nDurante a tarde\, os participantes terão a oportunidade de integrar uma visita de campo\, focada na observação da sintomatologia em árvores afetadas\, metodologias de prospeção e recolha de amostras\, bem como medidas práticas de controlo mecânico e erradicação. \nA participação é gratuita\, mas sujeita a inscrição obrigatória aqui.
URL:https://akisportugal-qa.bymobinteg.com/event/jornada-tecnica-sobre-sanidade-em-pinhal-bravo-realiza-se-a-2-de-setembro-na-herdade-da-comporta/
CATEGORIES:Jornadas
ATTACH;FMTTYPE=image/jpeg:https://akisportugal-qa.bymobinteg.com/wp-content/uploads/2025/09/images-1.jpg
END:VEVENT
BEGIN:VEVENT
DTSTART;VALUE=DATE:20250925
DTEND;VALUE=DATE:20250926
DTSTAMP:20260421T214603
CREATED:20250918T133126Z
LAST-MODIFIED:20250918T133126Z
UID:10000496-1758758400-1758844799@akisportugal-qa.bymobinteg.com
SUMMARY:XIV Jornadas de Alimentação Animal realizam-se na Batalha a 25 de setembro
DESCRIPTION:A XIV edição das Jornadas de Alimentação Animal vai decorrer a 25 de setembro\, no Hotel Villa Batalha\, reunindo especialistas nacionais e internacionais para debater o futuro do setor. O encontro\, promovido na sequência da última Reunião Geral da Indústria\, terá como tema central “O Futuro da Alimentação Animal: Inovação & Alimentação de Precisão”\, sublinhando a importância de apostar em novas soluções para reforçar a competitividade e a sustentabilidade da produção pecuária. \nO programa inclui conferências técnicas sobre a utilização de enzimas na formulação personalizada de alimentos para animais\, a aplicação de biomarcadores na nutrição de precisão\, a eficiência da alimentação de precisão e o papel das pré-misturas nutricionais na produção de alimentos compostos. Estão ainda previstas duas mesas-redondas\, moderadas por especialistas do setor\, que irão promover a reflexão e a partilha de experiências entre académicos\, empresas e organizações profissionais. \nEntre os oradores confirmados destacam-se Estefanía Pérez Calvo (DSM/TNA)\, que abordará os biomarcadores como ferramentas para uma produção mais eficiente e sustentável\, Farzin Faraji (TECADI/BASF)\, que falará sobre enzimas aplicadas à nutrição animal\, Jaume Civis (ADM)\, que apresentará novas soluções para a eficiência da alimentação de precisão\, e Inês Carvalhido (CARGILL)\, que explicará a tecnologia Reveal para otimizar a persistência da postura. O programa prevê ainda momentos de homenagem a personalidades ligadas ao setor. \nDe acordo com a organização\, o objetivo é “reforçar a discussão sobre os caminhos para uma produção animal mais competitiva e sustentável\, num contexto de grandes desafios”. \nA participação é gratuita\, mediante inscrição prévia no formulário disponível em: aqui.
URL:https://akisportugal-qa.bymobinteg.com/event/xiv-jornadas-de-alimentacao-animal-realizam-se-na-batalha-a-25-de-setembro/
CATEGORIES:Jornadas
ATTACH;FMTTYPE=image/png:https://akisportugal-qa.bymobinteg.com/wp-content/uploads/2025/09/Programa_XIV_Jornadas_de_Alimentacao_Animal_provisorio-1.png
END:VEVENT
BEGIN:VEVENT
DTSTART;VALUE=DATE:20251106
DTEND;VALUE=DATE:20251107
DTSTAMP:20260421T214603
CREATED:20250922T091223Z
LAST-MODIFIED:20250922T091308Z
UID:10000508-1762387200-1762473599@akisportugal-qa.bymobinteg.com
SUMMARY:SAVE THE DATE | XVI Jornada FENAREG | Encontro do Regadio 2025 | Comemoração 20 anos ao serviço do REGADIO
DESCRIPTION:A FENAREG – Federação Nacional de Regantes de Portugal está a organizar o Encontro do Regadio 2025 – XVI Jornada da FENAREG\, este ano integrado nas comemorações dos20 anos da FENAREG ao serviço do regadio. O evento irá decorrer no dia 06 de novembro\, no Auditório do LNEC\, em Lisboa. \n\nEsta edição terá como foco três temas centrais que definem o futuro do setor e de suporte à modernização e competitividade do regadio: a Estratégia “Água que Une”\, enquanto estratégia de gestão integrada e de financiamento do regadio ate 2030; a Estratégia de Resiliência Hídrica; e a Política Agrícola Comum (PAC). \nO programa do Encontro\, assim como todas as informações para inscrição\, serão divulgados em breve. \nReserve já a data na sua agenda!
URL:https://akisportugal-qa.bymobinteg.com/event/save-the-date-xvi-jornada-fenareg-encontro-do-regadio-2025-comemoracao-20-anos-ao-servico-do-regadio/
CATEGORIES:Jornadas
ATTACH;FMTTYPE=image/jpeg:https://akisportugal-qa.bymobinteg.com/wp-content/uploads/2025/09/savethedate.jpg
ORGANIZER;CN="Fenareg":MAILTO:geral@fenareg.pt
END:VEVENT
END:VCALENDAR