BEGIN:VCALENDAR
VERSION:2.0
PRODID:-//AKIS PORTUGAL - ECPv6.15.15//NONSGML v1.0//EN
CALSCALE:GREGORIAN
METHOD:PUBLISH
X-WR-CALNAME:AKIS PORTUGAL
X-ORIGINAL-URL:https://akisportugal-qa.bymobinteg.com
X-WR-CALDESC:Eventos para AKIS PORTUGAL
REFRESH-INTERVAL;VALUE=DURATION:PT1H
X-Robots-Tag:noindex
X-PUBLISHED-TTL:PT1H
BEGIN:VTIMEZONE
TZID:UTC
BEGIN:STANDARD
TZOFFSETFROM:+0000
TZOFFSETTO:+0000
TZNAME:UTC
DTSTART:20230101T000000
END:STANDARD
END:VTIMEZONE
BEGIN:VEVENT
DTSTART;TZID=UTC:20240829T080000
DTEND;TZID=UTC:20240829T123000
DTSTAMP:20260422T015411
CREATED:20240718T123633Z
LAST-MODIFIED:20240718T123633Z
UID:10000328-1724918400-1724934600@akisportugal-qa.bymobinteg.com
SUMMARY:Sessão Informativa "As aves de caniçal: Anilhagem ciêntifica de aves
DESCRIPTION:“As aves de caniçal – sessão de anilhagem científica de aves \n\n Sabia que os caniçais são zonas húmidas fundamentais para várias espécies de aves?\n\n\n Nesta sessão os participantes terão oportunidade de conhecer algumas das espécies de aves que ocorrem nestes habitats\, durante uma sessão de anilhagem científica.\n\n\n Durante a atividade serão demonstradas as técnicas utilizadas para recolher informações biométricas (medições\, peso\, etc) e explicada a importância dos caniçais para as aves e outros organismos.\n\n\n Inscrições devem ser feitas no site do Ciência Viva\, em www.cienciaviva.pt\n\n\nEsta atividade está inserida no Projeto @biolagoadeobidos \, coordenado pela @associacaopato em parceria com a @tejoatlantico\, @municipiodeobidos e @municipio_caldasdarainha e tem como objetivo a monitorização das aves aquáticas da Lagoa de Óbidos\, integrando a realização de contagens de aves aquáticas e a anilhagem científica de aves de caniçal mensalmente\, realizadas pelo ornitólogo @helder.r.cardoso” \nInformação da BioLagoa de Óbidos
URL:https://akisportugal-qa.bymobinteg.com/event/sessao-informativa-as-aves-de-canical-anilhagem-cientifica-de-aves/
LOCATION:Vau\, Vau\, 2510-662\, Portugal
CATEGORIES:Ação de Demonstração,Ação de Informação
ATTACH;FMTTYPE=image/jpeg:https://akisportugal-qa.bymobinteg.com/wp-content/uploads/2024/07/451429598_520850940601929_7716002199734397456_n.jpg
ORGANIZER;CN="BioLagoa de %C3%93bidos":MAILTO:geral@associacao-pato.org
END:VEVENT
BEGIN:VEVENT
DTSTART;TZID=UTC:20240920T100000
DTEND;TZID=UTC:20240920T133000
DTSTAMP:20260422T015411
CREATED:20240911T144654Z
LAST-MODIFIED:20240911T144654Z
UID:10000355-1726826400-1726839000@akisportugal-qa.bymobinteg.com
SUMMARY:Sessão de Apresentação do Projeto CIRCOLIVE
DESCRIPTION:No dia 20 de setembro vai ser apresentado\, às 10h00\, na sede da ACOS\, o Projeto CIRCOLIVE. \nSaiba mais aqui. \n  \n 
URL:https://akisportugal-qa.bymobinteg.com/event/sessao-de-apresentacao-do-projeto-circolive/
LOCATION:ACOS – Agricultores do Sul\, Rua Cidade S. Paulo\, Apart. 296\, Beja\, Alentejo\, 7801-904\, Portugal
CATEGORIES:Ação de Informação
END:VEVENT
BEGIN:VEVENT
DTSTART;TZID=UTC:20241107T090000
DTEND;TZID=UTC:20241107T170000
DTSTAMP:20260422T015411
CREATED:20241031T111006Z
LAST-MODIFIED:20241031T111006Z
UID:10000392-1730970000-1730998800@akisportugal-qa.bymobinteg.com
SUMMARY:Apresentação do projeto PRR SustainGrowth
DESCRIPTION:Saiba mais.
URL:https://akisportugal-qa.bymobinteg.com/event/apresentacao-do-projeto-prr-sustaingrowth/
LOCATION:EDIA\, Rua Zeca Afonso\, nº 2\, Beja\, Portugal
CATEGORIES:Ação de Informação
ATTACH;FMTTYPE=image/jpeg:https://akisportugal-qa.bymobinteg.com/wp-content/uploads/2024/10/sustaingrowth.jpg
END:VEVENT
BEGIN:VEVENT
DTSTART;TZID=UTC:20241107T140000
DTEND;TZID=UTC:20241107T180000
DTSTAMP:20260422T015411
CREATED:20241022T154752Z
LAST-MODIFIED:20241022T154752Z
UID:10000385-1730988000-1731002400@akisportugal-qa.bymobinteg.com
SUMMARY:"Pastoreio Holístico na Pecuária Extensiva"
DESCRIPTION:A ação de informação “Pastoreio Holístico na Pecuária Extensiva” está agendada para dia 1 de novembro\, nas instalações da Associação de Agricultores do Sul – ACOS. \nSaiba mais aqui.
URL:https://akisportugal-qa.bymobinteg.com/event/pastoreio-holistico-na-pecuaria-extensiva/
LOCATION:ACOS – Agricultores do Sul\, Rua Cidade S. Paulo\, Apart. 296\, Beja\, Alentejo\, 7801-904\, Portugal
CATEGORIES:Ação de Informação
ORGANIZER;CN="ACOS":MAILTO:geral@acos.pt
END:VEVENT
BEGIN:VEVENT
DTSTART;TZID=UTC:20250124T140000
DTEND;TZID=UTC:20250124T180000
DTSTAMP:20260422T015411
CREATED:20250117T164114Z
LAST-MODIFIED:20250117T164114Z
UID:10000406-1737727200-1737741600@akisportugal-qa.bymobinteg.com
SUMMARY:Ação de Informação- "Importância e execução dos registos na aplicação dos produtos fitofarmacêuticos"
DESCRIPTION:Ação de formação e informação presencial com duração de 4 horas dirigida pelo Francisco Paulo Fonseca Gateira.
URL:https://akisportugal-qa.bymobinteg.com/event/acao-de-informacao-importancia-e-execucao-dos-registos-na-aplicacao-dos-produtos-fitofarmaceuticos/
LOCATION:CALCOB – Troviscal\, Rua dos Emigrantes\, 22\, Troviscal\, Região Centro\, 3770-405
CATEGORIES:Ação de formação,Ação de Informação
ATTACH;FMTTYPE=image/png:https://akisportugal-qa.bymobinteg.com/wp-content/uploads/2025/01/1.png
ORGANIZER;CN="CALCOB":MAILTO:calcob@calcob.com
END:VEVENT
BEGIN:VEVENT
DTSTART;VALUE=DATE:20250217
DTEND;VALUE=DATE:20250222
DTSTAMP:20260422T015411
CREATED:20250213T113230Z
LAST-MODIFIED:20250213T113941Z
UID:10000414-1739750400-1740182399@akisportugal-qa.bymobinteg.com
SUMMARY:Formação Certificada em Interpretação do Património no Algarve
DESCRIPTION:A Associação In Loco está a organizar uma formação certificada em Interpretação do Património\, destinada a profissionais e estudantes das áreas do património natural e cultural\, turismo e educação. Esta formação\, reconhecida internacionalmente\, é baseada no programa oficial da Interpret Europe (IE)\, uma organização europeia de referência na área. \nA Interpretação do Património é uma abordagem inovadora que visa promover uma comunicação mais envolvente e significativa sobre o património natural\, cultural e imaterial. O objetivo é capacitar os participantes para criar experiências que despertem a curiosidade e o sentido de pertença dos visitantes. \nA formação terá lugar na Casa do Povo de Estoi\, em Faro\, e contará com duas edições: \n\nEdição 1: 17 a 21 de fevereiro\nEdição 2: 21\, 22\, 23\, 29 e 30 de março\n\nCom uma duração de 40 horas presenciais e 15 horas de trabalho complementar\, os participantes terão a oportunidade de explorar metodologias inovadoras\, incluindo aprendizagem experiencial\, narrativa e educação em valores\, alinhadas com as orientações da UNESCO. A certificação permitirá aplicar estas técnicas em diversos contextos\, como museus\, centros de interpretação\, sítios arqueológicos\, parques naturais e cidades históricas. \nA formação será conduzida por Pedro Morais\, um especialista reconhecido em ecoturismo\, interpretação e sustentabilidade\, com mais de 20 anos de experiência na área. \nO preço da formação é de 450€\, com um desconto de 20% para inscrições antecipadas até 3 de fevereiro ou 7 de março\, ou para membros da RDM. As inscrições estão abertas até uma semana antes do início da formação\, com vagas limitadas a 14 participantes por edição. A pré-inscrição na Interpret Europe é obrigatória. \nConsulte o cartaz da formação aqui \nPara mais informações e inscrições\, visite aqui.
URL:https://akisportugal-qa.bymobinteg.com/event/formacao-certificada-em-interpretacao-do-patrimonio-no-algarve/
LOCATION:Casa do Povo de Estoi\, R. de Faro 22\, Estói\, Faro\, 8005-411\, Portugal
CATEGORIES:Ação de Informação
ATTACH;FMTTYPE=image/png:https://akisportugal-qa.bymobinteg.com/wp-content/uploads/2025/02/Formacao_Certificada_Patrimonio.png
ORGANIZER;CN="Associa%C3%A7%C3%A3o IN LOCO":MAILTO:geral@in-loco.pt
END:VEVENT
BEGIN:VEVENT
DTSTART;TZID=UTC:20250226T090000
DTEND;TZID=UTC:20250226T133000
DTSTAMP:20260422T015411
CREATED:20250213T122812Z
LAST-MODIFIED:20250213T133313Z
UID:10000425-1740560400-1740576600@akisportugal-qa.bymobinteg.com
SUMMARY:sessão de esclarecimento - "Pedido Único de Ajudas 2025 - Frutos Secos e Fitossanidade da Amendoeira"
DESCRIPTION:No próximo dia 26 de fevereiro\, a Escola Superior Agrária de Santarém acolherá uma sessão de esclarecimento dedicada ao “Pedido Único de Ajudas 2025 – Frutos Secos e Fitossanidade da Amendoeira”. Este evento\, organizado pelo CNCFS\, visa informar e orientar os produtores sobre as novas diretrizes e práticas relacionadas com o cultivo de frutos secos\, com um foco especial na amendoeira. \nPrograma do Evento – aqui \n9h00: Sessão de esclarecimento PEPAC | CNCFS\n13h00: Vetores de Xylella fastidiosa na Amendoeira\, apresentada por Isabel Rodrigues (IPB)\n13h30: Encerramento \nA participação é gratuita\, mas requer inscrição prévia até o dia 21 de fevereiro. Os interessados devem enviar um e-mail para ana.santos@cncfs.pt para garantir a sua vaga. \nEste evento conta com o apoio de várias entidades\, incluindo a Escola Superior Agrária\, CNCFS\, Politécnico de Santarém\, Portugal 2020 e a União Europeia.
URL:https://akisportugal-qa.bymobinteg.com/event/sessao-de-esclarecimento-pedido-unico-de-ajudas-2025-frutos-secos-e-fitossanidade-da-amendoeira/
LOCATION:Escola Superior Agrária do Instituto Politécnico de Santarém\, Quinta do Galinheiro\, Santarém\, Santarém\, 2001-904\, Portugal
CATEGORIES:Ação de Informação
ORGANIZER;CN="Centro Nacional de Compet%C3%AAncias dos Frutos Secos":MAILTO:geral@cncfs.pt
END:VEVENT
BEGIN:VEVENT
DTSTART;TZID=UTC:20250312T170000
DTEND;TZID=UTC:20250312T210000
DTSTAMP:20260422T015411
CREATED:20250213T111242Z
LAST-MODIFIED:20250213T111430Z
UID:10000411-1741798800-1741813200@akisportugal-qa.bymobinteg.com
SUMMARY:Formação "Conduzir e Operar com Trator em Segurança" (COTS)
DESCRIPTION:A @ACOS promove a formação “Conduzir e Operar com o Trator em Segurança” entre 12 e 28 de março\, em Beja. Trata-se de uma ação presencial com duração de 50 horas\, ministrada em horário misto e homologada pela Comissão de Coordenação da Regional do Alentejo – @CCDRALT \nConsulte o horário da formação. \nInscrições neste link. \n \n 
URL:https://akisportugal-qa.bymobinteg.com/event/formacao-conduzir-e-operar-com-trator-em-seguranca-cots/
LOCATION:ACOS – Agricultores do Sul\, Rua Cidade S. Paulo\, Apart. 296\, Beja\, Alentejo\, 7801-904\, Portugal
CATEGORIES:Ação de Informação
ATTACH;FMTTYPE=image/jpeg:https://akisportugal-qa.bymobinteg.com/wp-content/uploads/2025/02/thumbnail_image003.jpg
ORGANIZER;CN="ACOS - Associa%C3%A7%C3%A3o de Agricultores do Sul":MAILTO:geral@acos.pt
END:VEVENT
BEGIN:VEVENT
DTSTART;TZID=UTC:20250404T140000
DTEND;TZID=UTC:20250404T180000
DTSTAMP:20260422T015411
CREATED:20250324T144527Z
LAST-MODIFIED:20250324T144527Z
UID:10000462-1743775200-1743789600@akisportugal-qa.bymobinteg.com
SUMMARY:Ação de Informação "Importância e execução dos registos na aplicação dos produtos fitofarmacêuticos"
DESCRIPTION:Dia 4 de abril\, das 14h às 18h\, no auditório da CALCOB.
URL:https://akisportugal-qa.bymobinteg.com/event/acao-de-informacao-importancia-e-execucao-dos-registos-na-aplicacao-dos-produtos-fitofarmaceuticos-2/
LOCATION:CALCOB – Troviscal\, Rua dos Emigrantes\, 22\, Troviscal\, Região Centro\, 3770-405
CATEGORIES:Ação de Informação
ATTACH;FMTTYPE=image/png:https://akisportugal-qa.bymobinteg.com/wp-content/uploads/2025/03/Post-Vertical-Acao-de-Informacao-04Abril.png
ORGANIZER;CN="CALCOB":MAILTO:calcob@calcob.com
END:VEVENT
BEGIN:VEVENT
DTSTART;TZID=UTC:20250723T140000
DTEND;TZID=UTC:20250723T180000
DTSTAMP:20260422T015411
CREATED:20250716T093729Z
LAST-MODIFIED:20250716T093729Z
UID:10000487-1753279200-1753293600@akisportugal-qa.bymobinteg.com
SUMMARY:ANSUB | Sessões de Sensibilização |
DESCRIPTION:No próximo dia 23 de julho\, entre as 14h00 e as 18h00\, a ANSUB – Associação de Produtores Florestais do Vale do Sado\, vai promover a seguinte sessão de sensibilização: \n\nCertificação da Gestão Florestal – Grupo CertiSado\n\nAs inscrições são gratuitas mas de caráter obrigatório e deverão ser enviadas para o e-mail ansub@ansub.pt até ao dia 21 de julho de 2025. \nPara mais informações:\nANSUB – Associação de Produtores Florestais do Vale do Sado\nContacto:: 964 861 860 / 265 612 684\nE-mail: ansub@ansub.pt
URL:https://akisportugal-qa.bymobinteg.com/event/ansub-sessoes-de-sensibilizacao/
LOCATION:Ansub-Associação De Produtores Florestais Do Vale Do Sado\, Estrada Nacional 5\, Setúbal\, Alentejo\, Portugal
CATEGORIES:Ação de Informação
ATTACH;FMTTYPE=application/pdf:https://akisportugal-qa.bymobinteg.com/wp-content/uploads/2025/07/Cartaz_3.pdf
ORGANIZER;CN="ANSUB":MAILTO:ansub@ansub.pt
END:VEVENT
BEGIN:VEVENT
DTSTART;TZID=UTC:20250925T170000
DTEND;TZID=UTC:20250925T180000
DTSTAMP:20260422T015411
CREATED:20250918T133827Z
LAST-MODIFIED:20250918T133827Z
UID:10000501-1758819600-1758823200@akisportugal-qa.bymobinteg.com
SUMMARY:Inovcluster apresenta estratégia 2030 em evento híbrido em Castelo Branco
DESCRIPTION:A Associação do Cluster Agro-Industrial do Centro (Inovcluster) vai apresentar a sua visão estratégica para os próximos anos no evento “INOVCLUSTER 2030”\, que terá lugar no dia 25 de setembro\, entre as 17h e as 18h\, em formato híbrido. A sessão decorrerá na sede da associação\, em Castelo Branco\, e será também transmitida online através da plataforma Teams. \nO encontro contará com três momentos centrais: a apresentação da nova estratégia da Inovcluster até 2030\, assente na inovação\, sustentabilidade e internacionalização; a divulgação do catálogo de serviços desenvolvido no âmbito do projeto HUB4FOOD\, com ferramentas de apoio às empresas; e uma sessão de esclarecimentos sobre o “Agribusiness 2025”\, evento internacional B2B agendado para novembro. \nSegundo Christelle Domingos\, diretora executiva da Inovcluster\, “a estratégia 2030 da Inovcluster não é apenas da associação\, é a estratégia de todo um ecossistema. Foram traçadas linhas orientadoras para os próximos anos\, com enfoque no que deverão ser os nossos projetos e atividades”. A responsável sublinhou ainda que esta iniciativa servirá de base para a candidatura ao “Gold Label” da European Cluster Excellence Initiative (ECEI) até 2026\, distinção que reconhece as boas práticas dos clusters de competitividade a nível europeu. \nO evento destina-se a associados\, parceiros e outros stakeholders da fileira agroalimentar\, constituindo-se como espaço de reflexão e partilha sobre o futuro do setor. A participação é gratuita\, mas requer inscrição prévia através do formulário online: clique aqui para aceder. \nInformações adicionais:InovCluster – Cluster Agroindustrial do CentroTel.: +351 272 095 420 | Email: geral@inovcluster.pt | www.inovcluster.pt
URL:https://akisportugal-qa.bymobinteg.com/event/inovcluster-apresenta-estrategia-2030-em-evento-hibrido-em-castelo-branco/
LOCATION:Região Centro
CATEGORIES:Ação de Informação,Sessão informativa
ATTACH;FMTTYPE=image/png:https://akisportugal-qa.bymobinteg.com/wp-content/uploads/2025/09/INOVCLUSTER_2030_BANNER_SITE.png
END:VEVENT
BEGIN:VEVENT
DTSTART;TZID=UTC:20251024T140000
DTEND;TZID=UTC:20251024T170000
DTSTAMP:20260422T015411
CREATED:20250929T132511Z
LAST-MODIFIED:20250929T132511Z
UID:10000515-1761314400-1761325200@akisportugal-qa.bymobinteg.com
SUMMARY:Projeto Advance Forest – Ação de Informação sobre Segurança no Trabalho
DESCRIPTION:No âmbito do Projeto Advance Forest\, financiado pelo Fundo Ambiental\, a Forestis convida-o a participar numa Ação de Informação focada na Segurança no Trabalho Florestal\, no dia 24 de outubro. O evento terá lugar em Pedrouços\, Maia e conta com a parceria da Portucalea. \nO Projeto Advance Forest\, coordenado pela Forestis visa capacitar com novos e atualizados conhecimentos\, técnicos\, produtores e proprietários florestais\, e outros atores relevantes\, para a nova realidade do sector florestal à escala global\, relacionada com o uso de tecnologias avançadas nas operações florestais\, como melhorar a produtividade\, melhoria ambiental e de segurança\, e a divulgação de novos regulamentos\, práticas de avaliação de povoamentos e de segurança nas atividades de silvicultura e exploração florestal. \nEsta ação visa atualizar e reforçar os seus conhecimentos sobre: \nAs melhores práticas de prevenção de acidentes\nUtilização correta de Equipamento de Proteção Individual (EPI)\nNormas e procedimentos de segurança aplicáveis às suas operações diárias no terreno\nJunte-se a esta iniciativa para reforçar os seus conhecimentos sobre segurança no setor florestal. \nInscrições através do link. \nDivulgação da Forestis – Associação Florestal de Portugal
URL:https://akisportugal-qa.bymobinteg.com/event/projeto-advance-forest-acao-de-informacao-sobre-seguranca-no-trabalho/
LOCATION:Pedrouços\, Maia\, 4425\, Portugal
CATEGORIES:Ação de Informação
ATTACH;FMTTYPE=image/png:https://akisportugal-qa.bymobinteg.com/wp-content/uploads/2025/09/advance-forest.png
ORGANIZER;CN="Forestis":MAILTO:geral@forestis.pt
END:VEVENT
BEGIN:VEVENT
DTSTART;TZID=UTC:20251029T180000
DTEND;TZID=UTC:20251029T200000
DTSTAMP:20260422T015411
CREATED:20251021T105840Z
LAST-MODIFIED:20251021T124302Z
UID:10000525-1761760800-1761768000@akisportugal-qa.bymobinteg.com
SUMMARY:Sessão de  sensibilização e esclarecimento – Pequenos Investimentos na Exploração Agrícola
DESCRIPTION:Sessão de sensibilização e esclarecimento \nD.1.1.1.1 – Pequenos investimentos na Exploração Agrícola \nData – 29 de outubro | 18h00 \nCALCOB – Troviscal\, Oliveira do Bairtoro“Desenvolver um território rural\, inovador\, valorizando os recursos e a identidade regional” \n\nEntidades organizadoras e parceiras (logótipos no rodapé): \n\n\n\n\nGAL Região de Aveiro \n\n\nRota da Bairrada \n\n\nCALCOB – Cooperativa Agrícola de Oliveira do Bairro e Vagos \n\n\nPEPAC – Plano Estratégico da Política Agrícola Comum 23-27 \n\n\nUnião Europeia / Fundo Europeu Agrícola de Desenvolvimento Rural
URL:https://akisportugal-qa.bymobinteg.com/event/sessao-de-sensibilizacao-e-esclarecimento-pequenos-investimentos-na-exploracao-agricola/
LOCATION:CALCOB – Troviscal\, Rua dos Emigrantes\, 22\, Troviscal\, Região Centro\, 3770-405
CATEGORIES:Ação de Informação,Sessão informativa
ATTACH;FMTTYPE=image/png:https://akisportugal-qa.bymobinteg.com/wp-content/uploads/2025/10/Sessao-CALCOB.png
ORGANIZER;CN="CALCOB":MAILTO:calcob@calcob.com
END:VEVENT
END:VCALENDAR