BEGIN:VCALENDAR
VERSION:2.0
PRODID:-//AKIS PORTUGAL - ECPv6.15.15//NONSGML v1.0//EN
CALSCALE:GREGORIAN
METHOD:PUBLISH
X-WR-CALNAME:AKIS PORTUGAL
X-ORIGINAL-URL:https://akisportugal-qa.bymobinteg.com
X-WR-CALDESC:Eventos para AKIS PORTUGAL
REFRESH-INTERVAL;VALUE=DURATION:PT1H
X-Robots-Tag:noindex
X-PUBLISHED-TTL:PT1H
BEGIN:VTIMEZONE
TZID:UTC
BEGIN:STANDARD
TZOFFSETFROM:+0000
TZOFFSETTO:+0000
TZNAME:UTC
DTSTART:20230101T000000
END:STANDARD
END:VTIMEZONE
BEGIN:VEVENT
DTSTART;TZID=UTC:20240705T183000
DTEND;TZID=UTC:20240705T203000
DTSTAMP:20260422T071853
CREATED:20240531T094020Z
LAST-MODIFIED:20240607T101822Z
UID:10000236-1720204200-1720211400@akisportugal-qa.bymobinteg.com
SUMMARY:Ação de Informação | “Agir Para Prevenir: Queimas\, queimadas e limpeza das faixas de gestão de combustível”
DESCRIPTION:Ação de Informação presencial\, com duração de duas horas. \n@CALCOB \nFlyer A4 – Formação 1
URL:https://akisportugal-qa.bymobinteg.com/event/acao-de-informacao-agir-para-prevenir-queimas-queimadas-e-limpeza-das-faixas-de-gestao-de-combustivel/
LOCATION:Junta de Freguesia de Covões\, Rua da Bica nº450\, Covões\, 3060-284\, Portugal
CATEGORIES:Ação de Informação
ATTACH;FMTTYPE=image/png:https://akisportugal-qa.bymobinteg.com/wp-content/uploads/2024/05/Design-sem-nome-5.png
ORGANIZER;CN="CALCOB":MAILTO:calcob@calcob.com
END:VEVENT
BEGIN:VEVENT
DTSTART;TZID=UTC:20240711T151500
DTEND;TZID=UTC:20240711T173000
DTSTAMP:20260422T071853
CREATED:20240618T101911Z
LAST-MODIFIED:20240618T101911Z
UID:10000253-1720710900-1720719000@akisportugal-qa.bymobinteg.com
SUMMARY:Conversas ANPROMIS - A evolução da agricultura portuguesa nos últimos 60 anos
DESCRIPTION:A agricultura portuguesa registou nos últimos 60 anos uma assinalável evolução tanto do ponto de vista económico\, como tecnológico. \nCiente desta realidade e no âmbito da iniciativa “Conversas ANPROMIS” a ANPROMIS vai organizar no próximo dia 11 de Julho\, pelas 15h00\, uma conferência subordinada ao tema “A evolução da agricultura portuguesa nos últimos 60 anos” na qual vão intervir algumas individualidades que\, reconhecidamente\, marcaram o panorama agrícola nacional neste período. \nAs inscrições são gratuitas\, mas limitadas à capacidade do espaço (120 lugares). Agradecemos que faça a sua inscrição até ao próximo dia 22/06/2024 através do seguinte link de participação – aqui \nConsulte o programa aqui \n(fonte:ANPROMIS)
URL:https://akisportugal-qa.bymobinteg.com/event/conversas-anpromis-a-evolucao-da-agricultura-portuguesa-nos-ultimos-60-anos/
LOCATION:instituto superior de agronomia\, Tapada da Ajuda\, Lisboa\, Ajuda\, 1349-017 Lisboa\, Portugal
CATEGORIES:Ação de capacitação,Ação de Informação,Colóquio,Conferência,Palestra,Seminário,Sessão informativa
END:VEVENT
BEGIN:VEVENT
DTSTART;TZID=UTC:20240719T100000
DTEND;TZID=UTC:20240719T123000
DTSTAMP:20260422T071853
CREATED:20240718T105841Z
LAST-MODIFIED:20240718T105841Z
UID:10000322-1721383200-1721392200@akisportugal-qa.bymobinteg.com
SUMMARY:ALGARVE 2030 - Sessão de apresentação e de esclarecimento sobre os instrumentos de financiamento a concurso referidos
DESCRIPTION:A Região do Algarve já tem um ecossistema estável de Inovação Social\, composto por um conjunto relevante de projetos financiados no âmbito do Portugal 2020. Para continuar e desenvolver este ecossistema e contribuir para o desenvolvimento social da região estão abertos novos avisos para financiamento de projetos de inovação social para o Algarve. \nNa sequência da publicação pelo Programa Regional ALGARVE 2030 do aviso de concurso ALGARVE-2024-17 para Parcerias para a Inovação Social e do aviso de concurso ALGARVE-2024-18 para Capacitação para a Inovação Social\, a Estrutura de Missão Portugal Inovação Social (EMPIS) e a Autoridade de Gestão do Programa Regional convidam para uma sessão de apresentação e de esclarecimento sobre os instrumentos de financiamento a concurso referidos. \nA sessão terá lugar no próximo dia 19 de julho\, pelas 10H00\, no Auditório da Escola de Hotelaria e Turismo do Algarve\, em Faro. \nInscrição aqui. \nConsulte o Aviso em Avisos | Algarve (portugal2030.pt)
URL:https://akisportugal-qa.bymobinteg.com/event/algarve-2030-sessao-de-apresentacao-e-de-esclarecimento-sobre-os-instrumentos-de-financiamento-a-concurso-referidos/
LOCATION:Escola de Hotelaria e Turismo do Algarve\, Largo de São Francisco\, Faro\, Algarve\, Portugal
CATEGORIES:Ação de Informação
ATTACH;FMTTYPE=image/png:https://akisportugal-qa.bymobinteg.com/wp-content/uploads/2024/07/Instag_sessaoEsclarecimento_InovSocial.png
END:VEVENT
END:VCALENDAR