BEGIN:VCALENDAR
VERSION:2.0
PRODID:-//AKIS PORTUGAL - ECPv6.15.15//NONSGML v1.0//EN
CALSCALE:GREGORIAN
METHOD:PUBLISH
X-WR-CALNAME:AKIS PORTUGAL
X-ORIGINAL-URL:https://akisportugal-qa.bymobinteg.com
X-WR-CALDESC:Eventos para AKIS PORTUGAL
REFRESH-INTERVAL;VALUE=DURATION:PT1H
X-Robots-Tag:noindex
X-PUBLISHED-TTL:PT1H
BEGIN:VTIMEZONE
TZID:UTC
BEGIN:STANDARD
TZOFFSETFROM:+0000
TZOFFSETTO:+0000
TZNAME:UTC
DTSTART:20230101T000000
END:STANDARD
END:VTIMEZONE
BEGIN:VEVENT
DTSTART;VALUE=DATE:20240216
DTEND;VALUE=DATE:20240218
DTSTAMP:20260421T195733
CREATED:20240205T121711Z
LAST-MODIFIED:20240205T121711Z
UID:10000128-1708041600-1708214399@akisportugal-qa.bymobinteg.com
SUMMARY:Curso de Poda de Inverno em Fruteiras
DESCRIPTION:A Escola Superior Agrária do Politécnico de Coimbra (ESAC-IPC) promove em breve microcredenciações em Poda de Inverno em Videiras e Poda de Inverno em Fruteiras. Os cursos realizam-se a 09/10 de fevereiro e a 16/17 de fevereiro de 2024\, respetivamente. \nDestinadas ao público em geral\, cada formação tem uma duração total de 8 horas\, distribuídas por quatro horas de componente teórica e igual número de horas de componente prática. O formador é o Eng.º Filipe Melo. \nOs formulários de inscrição e as informações detalhadas sobre ambas as microcredenciações estão disponíveis em https://www.esac.pt/index.php/estudar/cursos/microcredenciacoes/\, devendo os interessados realizar a sua inscrição em https://inforestudante.ipc.pt ou\, em alternativa\, preencher a ficha de inscrição\, disponível em https://bit.ly/Microcredenciacoes_ESAC e enviá-la para candidaturas@esac.pt\, juntamente com o comprovativo de pagamento e cópia autorizada do Cartão de Cidadão.. \nAs inscrições para a microcredenciação em Poda de Videiras decorrem até ao dia 7 de fevereiro e para a microcredenciação em Poda de Fruteiras até ao dia 14 de fevereiro. \nPara informações adicionais\, os interessados devem contactar a ESAC para o n.º de telefone 239 802 940. \nConheça os programas em: \n\nPoda de Inverno em Fruteiras\nPoda de Inverno em Videiras\n\n@esac
URL:https://akisportugal-qa.bymobinteg.com/event/curso-de-poda-de-inverno-em-fruteiras/
LOCATION:Escola Superior Agrária do Politécnico de Coimbra\, Coimbra\, Centro- Oeste\, 3045-601
CATEGORIES:Ação de formação
ATTACH;FMTTYPE=image/png:https://akisportugal-qa.bymobinteg.com/wp-content/uploads/2024/02/poda.png
END:VEVENT
END:VCALENDAR