BEGIN:VCALENDAR
VERSION:2.0
PRODID:-//AKIS PORTUGAL - ECPv6.15.15//NONSGML v1.0//EN
CALSCALE:GREGORIAN
METHOD:PUBLISH
X-WR-CALNAME:AKIS PORTUGAL
X-ORIGINAL-URL:https://akisportugal-qa.bymobinteg.com
X-WR-CALDESC:Eventos para AKIS PORTUGAL
REFRESH-INTERVAL;VALUE=DURATION:PT1H
X-Robots-Tag:noindex
X-PUBLISHED-TTL:PT1H
BEGIN:VTIMEZONE
TZID:UTC
BEGIN:STANDARD
TZOFFSETFROM:+0000
TZOFFSETTO:+0000
TZNAME:UTC
DTSTART:20230101T000000
END:STANDARD
END:VTIMEZONE
BEGIN:VEVENT
DTSTART;TZID=UTC:20240627T103000
DTEND;TZID=UTC:20240627T130000
DTSTAMP:20260419T143126
CREATED:20240625T101808Z
LAST-MODIFIED:20240625T101808Z
UID:10000256-1719484200-1719493200@akisportugal-qa.bymobinteg.com
SUMMARY:GPP | Sessão de debate sobre Melhoramento e técnicas genómicas
DESCRIPTION:O GPP realiza\, no dia 27 de junho pelas 10h30\, uma sessão de debate sobre Melhoramento e técnicas genómicas\, tema da mais recente edição da publicação CULTIVAR – Cadernos de Análise e Prospetiva. \nA iniciativa tem por objetivo contribuir para um aprofundamento da reflexão sobre a definição de políticas ajustadas para o uso e desenvolvimento das melhores práticas disponíveis nesta área\, que permitam gerar benefícios para os agentes do setor agroalimentar e para a população em geral. \nA sessão conta com a intervenção de um painel de especialistas e o debate é depois alargado aos participantes. \nConsultar programa \nA sessão pública decorre nas instalações do GPP no Ministério da Agricultura e Pescas em Lisboa e conta com transmissão em direto no canal no YouTube. \n\nPara participação presencial\, as inscrições podem ser efetuadas aqui até 26 de junho.\nOs interessados podem colocar questões\, remetendo-as até 26 de junho para: cultivar@gpp.pt
URL:https://akisportugal-qa.bymobinteg.com/event/gpp-sessao-de-debate-sobre-melhoramento-e-tecnicas-genomicas/
LOCATION:GPP no Ministério da Agricultura e Alimentação\, Praça do Comércio\, Lisboa\, Lisboa\, 1149-010\, Portugal
CATEGORIES:Debate
ATTACH;FMTTYPE=image/jpeg:https://akisportugal-qa.bymobinteg.com/wp-content/uploads/2024/06/X_Twitter_Cultivar30-1.jpg
ORGANIZER;CN="GPP no Minist%C3%A9rio da Agricultura e Alimenta%C3%A7%C3%A3o":MAILTO:geral@gpp.pt
END:VEVENT
BEGIN:VEVENT
DTSTART;TZID=UTC:20240627T143000
DTEND;TZID=UTC:20240627T170000
DTSTAMP:20260419T143126
CREATED:20240607T111151Z
LAST-MODIFIED:20240607T111151Z
UID:10000244-1719498600-1719507600@akisportugal-qa.bymobinteg.com
SUMMARY:Webinar “Incentivos ao minifúndio com sucesso”
DESCRIPTION:Após o encerramento do projeto Forestwatch em janeiro de 2023\, o Centro PINUS e a ZERO retomam agora a promoção conjunta de webinars dedicados à monitorização de políticas florestais. O primeiro é já no dia 27 de junho\, às 14h30\, e versa sobre o tema: “Incentivos ao minifúndio com sucesso”. \nSaiba mais.
URL:https://akisportugal-qa.bymobinteg.com/event/webinar-incentivos-ao-minifundio-com-sucesso/
LOCATION:Online
CATEGORIES:Webinar
ORGANIZER;CN="Centro Pinus":MAILTO:info@centropinus.org
END:VEVENT
END:VCALENDAR