BEGIN:VCALENDAR
VERSION:2.0
PRODID:-//AKIS PORTUGAL - ECPv6.15.15//NONSGML v1.0//EN
CALSCALE:GREGORIAN
METHOD:PUBLISH
X-WR-CALNAME:AKIS PORTUGAL
X-ORIGINAL-URL:https://akisportugal-qa.bymobinteg.com
X-WR-CALDESC:Eventos para AKIS PORTUGAL
REFRESH-INTERVAL;VALUE=DURATION:PT1H
X-Robots-Tag:noindex
X-PUBLISHED-TTL:PT1H
BEGIN:VTIMEZONE
TZID:UTC
BEGIN:STANDARD
TZOFFSETFROM:+0000
TZOFFSETTO:+0000
TZNAME:UTC
DTSTART:20230101T000000
END:STANDARD
END:VTIMEZONE
BEGIN:VEVENT
DTSTART;VALUE=DATE:20240517
DTEND;VALUE=DATE:20240520
DTSTAMP:20260419T183346
CREATED:20240516T103410Z
LAST-MODIFIED:20240516T103410Z
UID:10000226-1715904000-1716163199@akisportugal-qa.bymobinteg.com
SUMMARY:Encontro Nacional para Alimentação Equilibrada e Sustentável
DESCRIPTION:O consórcio do projeto Rede Nacional para a Alimentação Equilibrada e Sustentável (RNAES) está a dinamizar o Encontro Nacional para Alimentação Equilibrada e Sustentável\, que terá lugar de 17 a 19 de Maio em Tomar. \nInserido no âmbito do Wellness Weekend em parceria com a ADIRN e Município de Tomar\, este evento reúne mais de 22 projetos e equipas que trabalham com alimentação equilibrada e sustentável em diferentes territórios do país. O objetivo do encontro é promover a partilha de conhecimento e experiências entre diversos atores\, incluindo nutricionistas\, técnicos de desenvolvimento local\, investigadores\, decisores políticos\, educadores\, agricultores e o público em geral. \nAo longo dos três dias do encontro\, decorrerão uma variedade apresentações\, exposições\, demonstrações gastronómicas e debates sobre temas como: educação alimentar\, dieta mediterrânica\, alimentação sustentável\, agricultura familiar\, desperdício alimentar\, entre outros. \nDestaca-se o dia 17 de maio\, das 15h00 às 18h00\, com a Conferência Alimentação Equilibrada e Sustentável na Biblioteca Municipal de Tomar\, que contará com duas sessões: \n\nAlimentação Sustentável por Portugal – Esta sessão proporcionará um espaço para a troca de experiências e perspetivas de diversos projetos comprometidos com a promoção da alimentação equilibrada e sustentável.\nPromoção de uma Alimentação Equilibrada e Sustentável – Que desafios e oportunidades? – Esta mesa redonda reunirá especialistas nas áreas da nutrição e saúde\, agricultura\, ambiente\, educação\, políticas públicas e investigação. Em conjunto\, discutirão os desafios e as oportunidades de articulação para a promoção de uma alimentação equilibrada e sustentável em Portugal.\n\nConsulte o programa em anexo e faça a sua inscrição aqui. \nFonte: ADREPES
URL:https://akisportugal-qa.bymobinteg.com/event/encontro-nacional-para-alimentacao-equilibrada-e-sustentavel/
LOCATION:Tomar\, Tomar\, Portugal
CATEGORIES:Evento Geral
ATTACH;FMTTYPE=image/jpeg:https://akisportugal-qa.bymobinteg.com/wp-content/uploads/2024/05/Logo-RNAES-e1715347723335.jpeg
ORGANIZER;CN="Food4Sustainability":MAILTO:mail@food4sustainability.org
END:VEVENT
BEGIN:VEVENT
DTSTART;VALUE=DATE:20240517
DTEND;VALUE=DATE:20240520
DTSTAMP:20260419T183346
CREATED:20240516T144341Z
LAST-MODIFIED:20240516T144341Z
UID:10000231-1715904000-1716163199@akisportugal-qa.bymobinteg.com
SUMMARY:7ª edição do Congresso Nacional do Azeite
DESCRIPTION:Começa já amanhã\, dia 17 de maio\, com a presença do Ministro da Agricultura e Pescas\, a 7ª edição do Congresso Nacional do Azeite\, no Pavilhão Multiusos em Valpaços. Organizado pelo Centro de Estudos e Promoção do Azeite do Alentejo (CEPAAL)\, em parceria com a Câmara Municipal de Valpaços\, no âmbito da Feira Nacional de Olivicultura – Olivalpaços. \nEste ano o Congresso acontece num momento particularmente relevante para o setor\, dado que desde o ano 2000 até à data a produção nacional de azeite mais do que quintuplicou e as exportações aumentaram já mais de 12 vezes\, ultrapassando a fasquia dos 1.000 Milhões de Euros em 2023. \nO Ministro da Agricultura e Pescas estará presente no debate que vai contar com várias mesas redondas\, apresentações e uma keynote\, reunindo mais de 20 reputados oradores nacionais e internacionais\, em representação das principais instituições do setor\, da academia\, e dos principais produtores. Olivoturismo/Oliturismo\, uma realidade?; o Preço do Azeite: Mitos e Tabus; e as Alterações climáticas\, o futuro hoje\, são os temas que irão ser abordados este ano. \nDurante o Congresso serão também conhecidos os vencedores dos Prémios do Concurso de Azeite Virgem da Feira Nacional de Olivicultura. \nConsulte o programa de dia 17 de maio\, aqui. \nConferência “Desafios para a Inovação da Fileira do Olival e do Azeite”\nNo dia 18\, integrado no Congresso Nacional do Azeite\, tem lugar a conferência “Desafios para a Inovação da Fileira do Olival e do Azeite”\, que contará com uma apresentação da plataforma AKIS Portugal\, e momento de debate\, com moderação de Custódia Correia\, coordenadora da Rede Nacional PAC. \nConsulte o programa da conferência\, aqui.
URL:https://akisportugal-qa.bymobinteg.com/event/7a-edicao-do-congresso-nacional-do-azeite/
LOCATION:Pavilhão Multiusos de Valpaços\, Rua Cidade de Bettenbourg\, Valpaços\, 5430-426\, Portugal
CATEGORIES:Congresso
ATTACH;FMTTYPE=image/png:https://akisportugal-qa.bymobinteg.com/wp-content/uploads/2024/05/Congresso-Nacional-Azeite-1.png
END:VEVENT
END:VCALENDAR