BEGIN:VCALENDAR
VERSION:2.0
PRODID:-//AKIS PORTUGAL - ECPv6.15.15//NONSGML v1.0//EN
CALSCALE:GREGORIAN
METHOD:PUBLISH
X-ORIGINAL-URL:https://akisportugal-qa.bymobinteg.com
X-WR-CALDESC:Eventos para AKIS PORTUGAL
REFRESH-INTERVAL;VALUE=DURATION:PT1H
X-Robots-Tag:noindex
X-PUBLISHED-TTL:PT1H
BEGIN:VTIMEZONE
TZID:UTC
BEGIN:STANDARD
TZOFFSETFROM:+0000
TZOFFSETTO:+0000
TZNAME:UTC
DTSTART:20230101T000000
END:STANDARD
END:VTIMEZONE
BEGIN:VEVENT
DTSTART;VALUE=DATE:20240229
DTEND;VALUE=DATE:20240302
DTSTAMP:20260419T170839
CREATED:20240208T162511Z
LAST-MODIFIED:20240208T162511Z
UID:10000135-1709164800-1709337599@akisportugal-qa.bymobinteg.com
SUMMARY:Jornadas do Mundo Rural
DESCRIPTION:O município de Alcoutim acolhe mais uma edição das Jornadas do Mundo Rural\, que irão decorrer no Espaço Guadiana\, nos dias 29 de fevereiro e 1 de março\, com o objetivo de debater os desafios e oportunidades do meio rural\, um evento promovido pela Câmara Municipal de Alcoutim\, Associação Cumeadas e Câmara Municipal de Mértola. \nO evento organiza-se em quatro painéis: \n29 de fevereiro: \nPainel 1 – ÁGUA (10h00): Especialistas discutirão sobre os desafios e estratégias para a gestão sustentável dos recursos hídricos. \nPainel 2 – ECOSSISTEMAS E PAISAGEM (15h00): Este painel abordará questões relacionadas com a preservação dos ecossistemas e paisagens. \n1 de março: \nPainel 3 – AGROFLORESTA E O CLIMA (9h30): Serão debatidas as práticas de agrofloresta e sua relação com as mudanças climáticas. \nPainel 4 – CINEGÉTICA (15h00): Este painel discutirá questões relacionadas com a gestão cinegética\, incluindo doenças dos coelhos e a assinatura do Protocolo entre a Autarquia e as Zonas de Caça Associativa. \nInformações e inscrições em: https://cm-alcoutim.pt/26614/jornadas-do-mundo-rural \n@MAlcoutim
URL:https://akisportugal-qa.bymobinteg.com/event/jornadas-do-mundo-rural/
LOCATION:Espaço Guadiana\, Rua Augusto Xavier Caimoto\, Alcoutim\, Algarve\, 8970-000\, Portugal
CATEGORIES:Jornadas
ATTACH;FMTTYPE=image/jpeg:https://akisportugal-qa.bymobinteg.com/wp-content/uploads/2024/02/jornadas_mundo_rural_24.jpg
ORGANIZER;CN="C%C3%A2mara Municipal de Alcoutim":MAILTO:geral@cm-alcoutim.pt
END:VEVENT
BEGIN:VEVENT
DTSTART;TZID=UTC:20240301T140000
DTEND;TZID=UTC:20240301T180000
DTSTAMP:20260419T170839
CREATED:20240226T152229Z
LAST-MODIFIED:20240226T152229Z
UID:10000149-1709301600-1709316000@akisportugal-qa.bymobinteg.com
SUMMARY:Palestra sobre a atividade da IGAMAOT
DESCRIPTION:A Escola Superior Agrária do Politécnico de Coimbra (ESAC-IPC) recebe\, no próximo dia 1 de março\, às 14h00\, na sala D3.09\, uma palestra sobre a atividade da IGAMAOT – Inspeção-Geral da Agricultura\, do Mar\, do Ambiente e do Ordenamento do Território. \nA palestra é proferida pela ex-aluna da ESAC e inspetora da IGAMAOT\, Tânia Morgado\, e realiza-se no âmbito do Mestrado em Gestão Ambiental. \nA participação está aberta a qualquer interessado na temática. \n@esac
URL:https://akisportugal-qa.bymobinteg.com/event/palestra-sobre-a-atividade-da-igamaot/
LOCATION:Escola Superior Agrária do Politécnico de Coimbra\, Coimbra\, Centro- Oeste\, 3045-601
CATEGORIES:Palestra
ATTACH;FMTTYPE=image/png:https://akisportugal-qa.bymobinteg.com/wp-content/uploads/2024/02/igamaot_palestra-1.png
END:VEVENT
END:VCALENDAR