BEGIN:VCALENDAR
VERSION:2.0
PRODID:-//AKIS PORTUGAL - ECPv6.15.15//NONSGML v1.0//EN
CALSCALE:GREGORIAN
METHOD:PUBLISH
X-ORIGINAL-URL:https://akisportugal-qa.bymobinteg.com
X-WR-CALDESC:Eventos para AKIS PORTUGAL
REFRESH-INTERVAL;VALUE=DURATION:PT1H
X-Robots-Tag:noindex
X-PUBLISHED-TTL:PT1H
BEGIN:VTIMEZONE
TZID:UTC
BEGIN:STANDARD
TZOFFSETFROM:+0000
TZOFFSETTO:+0000
TZNAME:UTC
DTSTART:20230101T000000
END:STANDARD
END:VTIMEZONE
BEGIN:VEVENT
DTSTART;VALUE=DATE:20240221
DTEND;VALUE=DATE:20240223
DTSTAMP:20260419T170848
CREATED:20231106T123021Z
LAST-MODIFIED:20231106T125539Z
UID:10000047-1708473600-1708646399@akisportugal-qa.bymobinteg.com
SUMMARY:3º Congresso Ibérico do Milho
DESCRIPTION:Saiba mais aqui.
URL:https://akisportugal-qa.bymobinteg.com/event/3o-congresso-iberico-do-milho/
LOCATION:Altis Grand Hotel\, Rua Castilho\, nº 11\, Lisboa\, Lisboa\, 1269-072\, Portugal
CATEGORIES:Congresso
ATTACH;FMTTYPE=image/png:https://akisportugal-qa.bymobinteg.com/wp-content/uploads/2023/11/congresso_iberico_do_milho.png
END:VEVENT
BEGIN:VEVENT
DTSTART;VALUE=DATE:20240221
DTEND;VALUE=DATE:20240223
DTSTAMP:20260419T170848
CREATED:20231110T103244Z
LAST-MODIFIED:20231110T103359Z
UID:10000067-1708473600-1708646399@akisportugal-qa.bymobinteg.com
SUMMARY:Seminário “Competências e aprendizagem ao longo da vida para prestadores de aconselhamento e formação agrícola”
DESCRIPTION:Saiba mais aqui. \nContacto de email: seminar.innovation@eucapnetwork.eu
URL:https://akisportugal-qa.bymobinteg.com/event/seminario-competencias-e-aprendizagem-ao-longo-da-vida-para-prestadores-de-aconselhamento-e-formacao-agricola/
LOCATION:Viena (Áustria)\, Viena\, Áustria
CATEGORIES:Seminário
ATTACH;FMTTYPE=image/jpeg:https://akisportugal-qa.bymobinteg.com/wp-content/uploads/2023/11/11_10_EUCAP_seminario.jpg
ORGANIZER;CN="EU CAP Network":MAILTO:contact@eucapnetwork.eu
END:VEVENT
BEGIN:VEVENT
DTSTART;TZID=UTC:20240222T103000
DTEND;TZID=UTC:20240222T170000
DTSTAMP:20260419T170848
CREATED:20240205T111321Z
LAST-MODIFIED:20240205T111404Z
UID:10000118-1708597800-1708621200@akisportugal-qa.bymobinteg.com
SUMMARY:Conferência  "Plantar jardins - Enfrentar as alterações climáticas e promover a biodiversidade"
DESCRIPTION:A primeira oradora convidada da Conferência  “Plantar jardins -enfrentar as alterações climáticas e promover a biodiversidade” que irá decorrer na Lusoflora\,  é Assunção Cristas\, Professora da Nova School of Law e Sócia responsável pela área de prática Ambiente e Plataforma de Serviços Integrados ESG da VdA. \nDia 22 de fevereiro\, pelas 10.45h \, no auditório da Feira.\nSolicite convite aqui \n@apppfn
URL:https://akisportugal-qa.bymobinteg.com/event/conferencia-plantar-jardins-enfrentar-as-alteracoes-climaticas-e-promover-a-biodiversidade/
LOCATION:CNEMA – Centro Nacional de Exposições\, Quinta das Cegonhas\, Apt. 331\, Santarém\, Portugal
CATEGORIES:Conferência
ATTACH;FMTTYPE=image/png:https://akisportugal-qa.bymobinteg.com/wp-content/uploads/2024/02/assuncao.png
ORGANIZER;CN="Associa%C3%A7%C3%A3o Portuguesa de Produtores de Plantas e Flores Naturais":MAILTO:apppfn@sapo.pt
END:VEVENT
BEGIN:VEVENT
DTSTART;TZID=UTC:20240222T160000
DTEND;TZID=UTC:20240222T173000
DTSTAMP:20260419T170848
CREATED:20240205T113306Z
LAST-MODIFIED:20240205T113306Z
UID:10000121-1708617600-1708623000@akisportugal-qa.bymobinteg.com
SUMMARY:Desvendar os Segredos da Gestão Eficiente da Água:  Webinar 3 - Tecnologias para a Gestão da Água II
DESCRIPTION:O F4S Academy orgulha-se de organizar mais um ciclo de debates em formato de webinars\, proporcionando assim uma forma acessível e prática de transferência de conhecimento para todos. Este ano\, os temas dos webinars envolverão a gestão da água\, biodiversidade funcional\, agricultura de precisão e créditos e mercados de carbono. \n Webinar 3 – Tecnologias para a Gestão da Água II \nEsta terceira sessão com o tema Tecnologias para a Gestão da Água\, servirá para aprofundarmos o tema das tecnologias emergentes que continuam a moldar o cenário da gestão hídrica\, com apresentações de especialistas renomeados. Será no dia 22 de fevereiro. \n@Food4Sustainability
URL:https://akisportugal-qa.bymobinteg.com/event/desvendar-os-segredos-da-gestao-eficiente-da-agua-webinar-3-tecnologias-para-a-gestao-da-agua-ii/
LOCATION:Webinar
CATEGORIES:Webinar
ATTACH;FMTTYPE=image/png:https://akisportugal-qa.bymobinteg.com/wp-content/uploads/2024/02/waterII_web.png
ORGANIZER;CN="Food4Sustainability":MAILTO:mail@food4sustainability.org
END:VEVENT
END:VCALENDAR