BEGIN:VCALENDAR
VERSION:2.0
PRODID:-//AKIS PORTUGAL - ECPv6.15.15//NONSGML v1.0//EN
CALSCALE:GREGORIAN
METHOD:PUBLISH
X-ORIGINAL-URL:https://akisportugal-qa.bymobinteg.com
X-WR-CALDESC:Eventos para AKIS PORTUGAL
REFRESH-INTERVAL;VALUE=DURATION:PT1H
X-Robots-Tag:noindex
X-PUBLISHED-TTL:PT1H
BEGIN:VTIMEZONE
TZID:UTC
BEGIN:STANDARD
TZOFFSETFROM:+0000
TZOFFSETTO:+0000
TZNAME:UTC
DTSTART:20230101T000000
END:STANDARD
END:VTIMEZONE
BEGIN:VEVENT
DTSTART;TZID=UTC:20240208T150000
DTEND;TZID=UTC:20240208T170000
DTSTAMP:20260423T221558
CREATED:20240205T122316Z
LAST-MODIFIED:20240205T122316Z
UID:10000129-1707404400-1707411600@akisportugal-qa.bymobinteg.com
SUMMARY:Sessão de Debate - “Indústria Agroalimentar”
DESCRIPTION:O GPP convida a participar no debate sobre indústria agroalimentar\, tema da 29.ª edição da publicação CULTIVAR – Cadernos de Análise e Prospetiva. \nEsta edição da CULTIVAR permite uma reflexão abrangente sobre a evolução do setor agroalimentar e a sua sustentabilidade\, bem como sobre os desafios que enfrenta e as perspetivas futuras. \nA indústria agroalimentar desempenha um papel essencial na economia global\, contribuindo para a segurança alimentar com o fornecimento de alimentos seguros e saudáveis às populações e criando valor a partir de matérias-primas agrícolas\, que em grande parte\, no caso de Portugal\, são recursos endógenos. \nNum contexto de redução da importância do setor industrial na economia global\, destaca-se a evolução positiva do valor acrescentado da indústria agroalimentar nacional\, revelando uma grande capacidade de resiliência e resposta a desafios tão variados como a digitalização\, a energia\, a economia circular\, a bioeconomia\, as preocupações com a nutrição. O potencial da indústria agroalimentar é particularmente determinante para assegurar o abastecimento alimentar nacional e a orientação para o mercado externo\, contribuindo para o desenvolvimento do setor primário nacional\, quer na agricultura\, quer nas pescas. \nCom o objetivo de promover uma reflexão alargada sobre o tema\, o GPP realiza uma sessão de debate no dia 8 de fevereiro pelas 15h00. A sessão integra uma breve apresentação de enquadramento ao tema e um painel de reflexão com convidados do setor agroalimentar\, seguida de debate com os participantes. \n\nConsulte o Programa\n\nA sessão realiza-se nas instalações do GPP no Ministério da Agricultura e Alimentação\, em Lisboa\, com transmissão em direto no canal GPP no Youtube. \n\nPara participação presencial\, inscreva-se aqui até 7 de fevereiro | Para aceder à transmissão em direto aceda aqui\nOs interessados podem colocar questões\, remetendo-as até 7 de fevereiro para: cultivar@gpp.pt\n\nVídeo de apresentação \nVer publicação CULTIVAR 29 –  pdf | E-book \nConsultar outras edições da publicação CULTIVAR   
URL:https://akisportugal-qa.bymobinteg.com/event/sessao-de-debate-industria-agroalimentar/
LOCATION:GPP no Ministério da Agricultura e Alimentação\, Praça do Comércio\, Lisboa\, Lisboa\, 1149-010\, Portugal
CATEGORIES:Debate
ATTACH;FMTTYPE=image/png:https://akisportugal-qa.bymobinteg.com/wp-content/uploads/2024/02/cultivar_gpp.png
ORGANIZER;CN="GPP no Minist%C3%A9rio da Agricultura e Alimenta%C3%A7%C3%A3o":MAILTO:geral@gpp.pt
END:VEVENT
BEGIN:VEVENT
DTSTART;TZID=UTC:20240208T160000
DTEND;TZID=UTC:20240208T173000
DTSTAMP:20260423T221558
CREATED:20240205T112325Z
LAST-MODIFIED:20240205T112325Z
UID:10000119-1707408000-1707413400@akisportugal-qa.bymobinteg.com
SUMMARY:Desvendar os Segredos da Gestão Eficiente da Água:  Webinar 1 - Fatores para uma Gestão Eficiente da Água
DESCRIPTION:O F4S Academy orgulha-se de organizar mais um ciclo de debates em formato de webinars\, proporcionando assim uma forma acessível e prática de transferência de conhecimento para todos. Este ano\, os temas dos webinars envolverão a gestão da água\, biodiversidade funcional\, agricultura de precisão e créditos e mercados de carbono. \nEste primeiro ciclo abordará a temática da Gestão da Água. \nNo próximo dia 8 de fevereiro\, abrimos as portas virtuais para um novo Ciclo de Webinars dedicado à crucial temática da Gestão da Água. Convidamos entusiastas\, profissionais\, académicos e curiosos a juntarem-se a nós nesta jornada informativa\, onde mergulharemos nas águas da investigação de vanguarda e exploraremos os elementos essenciais para uma gestão eficiente da água. \nVamos reunir especialistas que estão na vanguarda da investigação em gestão da água de forma a compreender a sua gestão eficiente (webinar 1). Também exploraremos quais são as tecnologias para a gestão da água (webinar 2 e 3). \n Webinar 1 – Fatores para uma Gestão Eficiente da Água: \nNesta sessão\, agendada para 8 de fevereiro\, envolveremos especialistas de destaque no campo da gestão da água. Juntos\, desvendaremos os fatores que contribuem para uma gestão eficiente da água. De práticas sustentáveis a abordagens inovadoras\, os participantes obterão insights sobre os diversos aspetos que influenciam como cuidamos desse recurso vital. \n@Food4Sustainability \n 
URL:https://akisportugal-qa.bymobinteg.com/event/desvendar-os-segredos-da-gestao-eficiente-da-agua-webinar-1-fatores-para-uma-gestao-eficiente-da-agua/
LOCATION:Webinar
CATEGORIES:Webinar
ATTACH;FMTTYPE=image/png:https://akisportugal-qa.bymobinteg.com/wp-content/uploads/2024/02/Water_Management_cycle-1.png
ORGANIZER;CN="Food4Sustainability":MAILTO:mail@food4sustainability.org
END:VEVENT
END:VCALENDAR