BEGIN:VCALENDAR
VERSION:2.0
PRODID:-//AKIS PORTUGAL - ECPv6.15.15//NONSGML v1.0//EN
CALSCALE:GREGORIAN
METHOD:PUBLISH
X-WR-CALNAME:AKIS PORTUGAL
X-ORIGINAL-URL:https://akisportugal-qa.bymobinteg.com
X-WR-CALDESC:Eventos para AKIS PORTUGAL
REFRESH-INTERVAL;VALUE=DURATION:PT1H
X-Robots-Tag:noindex
X-PUBLISHED-TTL:PT1H
BEGIN:VTIMEZONE
TZID:UTC
BEGIN:STANDARD
TZOFFSETFROM:+0000
TZOFFSETTO:+0000
TZNAME:UTC
DTSTART:20230101T000000
END:STANDARD
END:VTIMEZONE
BEGIN:VEVENT
DTSTART;TZID=UTC:20240124T143000
DTEND;TZID=UTC:20240124T163000
DTSTAMP:20260421T222107
CREATED:20231228T151753Z
LAST-MODIFIED:20231228T151753Z
UID:10000106-1706106600-1706113800@akisportugal-qa.bymobinteg.com
SUMMARY:Ação de formação/capacitação SAAF tema "Código do Trabalho\, Segurança e Saúde no Trabalho"
DESCRIPTION:Ação de formação/capacitação SAAF com o tema “Código do Trabalho\, Segurança e Saúde no Trabalho”\, integrando a temática da “Condicionalidade Social” do SAAF. \nA ação de formação/capacitação será ministrada por técnicos da ACT (Autoridade para as Condições do Trabalho)\, garantindo uma abordagem especializada e de qualidade. \nO programa definitivo do evento\, juntamente com o formulário de inscrição\, serão disponibilizados a partir de 04/01/2024.
URL:https://akisportugal-qa.bymobinteg.com/event/acao-de-formacao-capacitacao-saaf-tema-codigo-do-trabalho-seguranca-e-saude-no-trabalho/
END:VEVENT
END:VCALENDAR